Back to Multiple platform build/check report for BioC 3.12
A[B]CDEFGHIJKLMNOPQRSTUVWXYZ

INSTALL report for BubbleTree on tokay1

This page was generated on 2020-08-10 12:18:12 -0400 (Mon, 10 Aug 2020).

TO THE DEVELOPERS/MAINTAINERS OF THE BubbleTree PACKAGE: Please make sure to use the following settings in order to reproduce any error or warning you see on this page.
Package 204/1882HostnameOS / ArchINSTALLBUILDCHECKBUILD BIN
BubbleTree 2.19.0
Todd Creasy , Wei Zhu
Snapshot Date: 2020-08-09 14:51:29 -0400 (Sun, 09 Aug 2020)
URL: https://git.bioconductor.org/packages/BubbleTree
Branch: master
Last Commit: 50dd6a4
Last Changed Date: 2020-04-27 14:46:47 -0400 (Mon, 27 Apr 2020)
malbec1 Linux (Ubuntu 18.04.4 LTS) / x86_64  OK  OK  OK UNNEEDED, same version exists in internal repository
nebbiolo1 Linux (Ubuntu 20.04.1 LTS) / x86_64  OK  OK  OK 
tokay1 Windows Server 2012 R2 Standard / x64 [ OK ] OK  OK  OK UNNEEDED, same version exists in internal repository
merida1 macOS 10.14.6 Mojave / x86_64  OK  OK  OK  OK UNNEEDED, same version exists in internal repository

Summary

Package: BubbleTree
Version: 2.19.0
Command: C:\cygwin\bin\curl.exe -O https://malbec1.bioconductor.org/BBS/3.12/bioc/src/contrib/BubbleTree_2.19.0.tar.gz && rm -rf BubbleTree.buildbin-libdir && mkdir BubbleTree.buildbin-libdir && C:\Users\biocbuild\bbs-3.12-bioc\R\bin\R.exe CMD INSTALL --merge-multiarch --build --library=BubbleTree.buildbin-libdir BubbleTree_2.19.0.tar.gz && C:\Users\biocbuild\bbs-3.12-bioc\R\bin\R.exe CMD INSTALL BubbleTree_2.19.0.zip && rm BubbleTree_2.19.0.tar.gz BubbleTree_2.19.0.zip
StartedAt: 2020-08-09 18:52:41 -0400 (Sun, 09 Aug 2020)
EndedAt: 2020-08-09 18:54:16 -0400 (Sun, 09 Aug 2020)
EllapsedTime: 95.2 seconds
RetCode: 0
Status:  OK  

Command output

##############################################################################
##############################################################################
###
### Running command:
###
###   C:\cygwin\bin\curl.exe -O https://malbec1.bioconductor.org/BBS/3.12/bioc/src/contrib/BubbleTree_2.19.0.tar.gz && rm -rf BubbleTree.buildbin-libdir && mkdir BubbleTree.buildbin-libdir && C:\Users\biocbuild\bbs-3.12-bioc\R\bin\R.exe CMD INSTALL --merge-multiarch --build --library=BubbleTree.buildbin-libdir BubbleTree_2.19.0.tar.gz && C:\Users\biocbuild\bbs-3.12-bioc\R\bin\R.exe CMD INSTALL BubbleTree_2.19.0.zip && rm BubbleTree_2.19.0.tar.gz BubbleTree_2.19.0.zip
###
##############################################################################
##############################################################################


  % Total    % Received % Xferd  Average Speed   Time    Time     Time  Current
                                 Dload  Upload   Total   Spent    Left  Speed

  0     0    0     0    0     0      0      0 --:--:-- --:--:-- --:--:--     0
100 23.7M  100 23.7M    0     0  79.7M      0 --:--:-- --:--:-- --:--:-- 80.7M

install for i386

* installing *source* package 'BubbleTree' ...
** using staged installation
It is recommended to use 'given' instead of 'middle'.
** R
** data
** inst
** byte-compile and prepare package for lazy loading
** help
*** installing help indices
  converting help for package 'BubbleTree'
    finding HTML links ... done
    Annotate                                html  
    BTreePlotter                            html  
    BTreePredictor                          html  
    RBD                                     html  
    RscoreTrack                             html  
    TrackPlotter                            html  
    all.somatic.lst                         html  
    allCNV.lst                              html  
    allCall.lst                             html  
    allHetero.lst                           html  
    allRBD.lst                              html  
    annoByGenesAndCyto                      html  
    bafTrack                                html  
    btcompare                               html  
    btpredict                               html  
    cancer.genes.minus2                     html  
    centromere.dat                          html  
    cnv.gr                                  html  
    cyto.gr                                 html  
    drawBTree                               html  
    drawBubbles                             html  
    drawFeatures                            html  
    gene.uni.clean.gr                       html  
    getTracks                               html  
    heteroLociTrack                         html  
    hg19.seqinfo                            html  
    info                                    html  
    loadRBD                                 html  
    makeRBD                                 html  
    mergeSnpCnv                             html  
    saveXLS                                 html  
    snp.gr                                  html  
    trackBTree                              html  
    vol.genes                               html  
    xyTrack                                 html  
** building package indices
** installing vignettes
** testing if installed package can be loaded from temporary location
** testing if installed package can be loaded from final location
** testing if installed package keeps a record of temporary installation path

install for x64

* installing *source* package 'BubbleTree' ...
** testing if installed package can be loaded
* MD5 sums
packaged installation of 'BubbleTree' as BubbleTree_2.19.0.zip
* DONE (BubbleTree)
* installing to library 'C:/Users/biocbuild/bbs-3.12-bioc/R/library'
package 'BubbleTree' successfully unpacked and MD5 sums checked