Back to Multiple platform build/check report for BioC 3.12
AB[C]DEFGHIJKLMNOPQRSTUVWXYZ

BUILD report for CeTF on merida1

This page was generated on 2021-01-22 11:57:54 -0500 (Fri, 22 Jan 2021).

TO THE DEVELOPERS/MAINTAINERS OF THE CeTF PACKAGE: Please make sure to use the following settings in order to reproduce any error or warning you see on this page.
Package 263/1974HostnameOS / ArchINSTALLBUILDCHECKBUILD BIN
CeTF 1.2.4
Carlos Alberto Oliveira de Biagi Junior
Snapshot Date: 2021-01-21 14:42:12 -0500 (Thu, 21 Jan 2021)
URL: https://git.bioconductor.org/packages/CeTF
Branch: RELEASE_3_12
Last Commit: 2896169
Last Changed Date: 2020-11-23 09:24:27 -0500 (Mon, 23 Nov 2020)
malbec1 Linux (Ubuntu 18.04.5 LTS) / x86_64  OK  OK  OK UNNEEDED, same version exists in internal repository
nebbiolo1 Linux (Ubuntu 20.04.1 LTS) / x86_64  OK  OK  OK 
tokay1 Windows Server 2012 R2 Standard / x64  OK  OK  OK  OK UNNEEDED, same version exists in internal repository
merida1 macOS 10.14.6 Mojave / x86_64  OK [ OK ] OK  OK UNNEEDED, same version exists in internal repository

Summary

Package: CeTF
Version: 1.2.4
Command: /Library/Frameworks/R.framework/Versions/Current/Resources/bin/R CMD build --keep-empty-dirs --no-resave-data CeTF
StartedAt: 2021-01-21 18:35:05 -0500 (Thu, 21 Jan 2021)
EndedAt: 2021-01-21 18:38:21 -0500 (Thu, 21 Jan 2021)
EllapsedTime: 196.2 seconds
RetCode: 0
Status:  OK 
PackageFile: CeTF_1.2.4.tar.gz
PackageFileSize: 2.432 MiB

Command output

##############################################################################
##############################################################################
###
### Running command:
###
###   /Library/Frameworks/R.framework/Versions/Current/Resources/bin/R CMD build --keep-empty-dirs --no-resave-data CeTF
###
##############################################################################
##############################################################################


* checking for file ‘CeTF/DESCRIPTION’ ... OK
* preparing ‘CeTF’:
* checking DESCRIPTION meta-information ... OK
* cleaning src
* installing the package to build vignettes
* creating vignettes ... OK
* cleaning src
* checking for LF line-endings in source and make files and shell scripts
* checking for empty or unneeded directories
* building ‘CeTF_1.2.4.tar.gz’