Back to Multiple platform build/check report for BioC 3.12
A[B]CDEFGHIJKLMNOPQRSTUVWXYZ

CHECK report for BiocSingular on merida1

This page was generated on 2021-04-17 12:10:16 -0400 (Sat, 17 Apr 2021).

To the developers/maintainers of the BiocSingular package:
Please make sure to use the following settings in order to reproduce any error or warning you see on this page.
Package 169/1974HostnameOS / ArchINSTALLBUILDCHECKBUILD BIN
BiocSingular 1.6.0  (landing page)
Aaron Lun
Snapshot Date: 2021-04-16 14:50:12 -0400 (Fri, 16 Apr 2021)
URL: https://git.bioconductor.org/packages/BiocSingular
Branch: RELEASE_3_12
Last Commit: 11baf10
Last Changed Date: 2020-10-27 11:42:55 -0400 (Tue, 27 Oct 2020)
malbec1Linux (Ubuntu 18.04.5 LTS) / x86_64  OK    OK    OK  UNNEEDED, same version exists in internal repository
tokay1Windows Server 2012 R2 Standard / x64  OK    OK    OK    OK  UNNEEDED, same version exists in internal repository
merida1macOS 10.14.6 Mojave / x86_64  OK    OK    OK    OK  UNNEEDED, same version exists in internal repository

Summary

Package: BiocSingular
Version: 1.6.0
Command: /Library/Frameworks/R.framework/Versions/Current/Resources/bin/R CMD check --install=check:BiocSingular.install-out.txt --library=/Library/Frameworks/R.framework/Versions/Current/Resources/library --no-vignettes --timings BiocSingular_1.6.0.tar.gz
StartedAt: 2021-04-16 23:11:23 -0400 (Fri, 16 Apr 2021)
EndedAt: 2021-04-16 23:16:08 -0400 (Fri, 16 Apr 2021)
EllapsedTime: 285.6 seconds
RetCode: 0
Status:   OK  
CheckDir: BiocSingular.Rcheck
Warnings: 0

Command output

##############################################################################
##############################################################################
###
### Running command:
###
###   /Library/Frameworks/R.framework/Versions/Current/Resources/bin/R CMD check --install=check:BiocSingular.install-out.txt --library=/Library/Frameworks/R.framework/Versions/Current/Resources/library --no-vignettes --timings BiocSingular_1.6.0.tar.gz
###
##############################################################################
##############################################################################


* using log directory ‘/Users/biocbuild/bbs-3.12-bioc/meat/BiocSingular.Rcheck’
* using R version 4.0.5 (2021-03-31)
* using platform: x86_64-apple-darwin17.0 (64-bit)
* using session charset: UTF-8
* using option ‘--no-vignettes’
* checking for file ‘BiocSingular/DESCRIPTION’ ... OK
* this is package ‘BiocSingular’ version ‘1.6.0’
* checking package namespace information ... OK
* checking package dependencies ... OK
* checking if this is a source package ... OK
* checking if there is a namespace ... OK
* checking for hidden files and directories ... OK
* checking for portable file names ... OK
* checking for sufficient/correct file permissions ... OK
* checking whether package ‘BiocSingular’ can be installed ... OK
* checking installed package size ... OK
* checking package directory ... OK
* checking ‘build’ directory ... OK
* checking DESCRIPTION meta-information ... OK
* checking top-level files ... OK
* checking for left-over files ... OK
* checking index information ... OK
* checking package subdirectories ... OK
* checking R files for non-ASCII characters ... OK
* checking R files for syntax errors ... OK
* checking whether the package can be loaded ... OK
* checking whether the package can be loaded with stated dependencies ... OK
* checking whether the package can be unloaded cleanly ... OK
* checking whether the namespace can be loaded with stated dependencies ... OK
* checking whether the namespace can be unloaded cleanly ... OK
* checking dependencies in R code ... OK
* checking S3 generic/method consistency ... OK
* checking replacement functions ... OK
* checking foreign function calls ... OK
* checking R code for possible problems ... OK
* checking Rd files ... OK
* checking Rd metadata ... OK
* checking Rd cross-references ... OK
* checking for missing documentation entries ... OK
* checking for code/documentation mismatches ... OK
* checking Rd \usage sections ... OK
* checking Rd contents ... OK
* checking for unstated dependencies in examples ... OK
* checking line endings in C/C++/Fortran sources/headers ... OK
* checking compiled code ... NOTE
Note: information on .o files is not available
* checking files in ‘vignettes’ ... OK
* checking examples ... OK
* checking for unstated dependencies in ‘tests’ ... OK
* checking tests ...
  Running ‘testthat.R’
 OK
* checking for unstated dependencies in vignettes ... OK
* checking package vignettes in ‘inst/doc’ ... OK
* checking running R code from vignettes ... SKIPPED
* checking re-building of vignette outputs ... SKIPPED
* checking PDF version of manual ... OK
* DONE

Status: 1 NOTE
See
  ‘/Users/biocbuild/bbs-3.12-bioc/meat/BiocSingular.Rcheck/00check.log’
for details.



Installation output

BiocSingular.Rcheck/00install.out

##############################################################################
##############################################################################
###
### Running command:
###
###   /Library/Frameworks/R.framework/Versions/Current/Resources/bin/R CMD INSTALL BiocSingular
###
##############################################################################
##############################################################################


* installing to library ‘/Library/Frameworks/R.framework/Versions/4.0/Resources/library’
* installing *source* package ‘BiocSingular’ ...
** using staged installation
** libs
clang++ -mmacosx-version-min=10.13 -std=gnu++11 -I"/Library/Frameworks/R.framework/Resources/include" -DNDEBUG  -I'/Library/Frameworks/R.framework/Versions/4.0/Resources/library/Rcpp/include' -I'/Library/Frameworks/R.framework/Versions/4.0/Resources/library/beachmat/include' -I/usr/local/include   -fPIC  -Wall -g -O2  -c RcppExports.cpp -o RcppExports.o
In file included from RcppExports.cpp:4:
In file included from /Library/Frameworks/R.framework/Versions/4.0/Resources/library/Rcpp/include/Rcpp.h:57:
/Library/Frameworks/R.framework/Versions/4.0/Resources/library/Rcpp/include/Rcpp/DataFrame.h:136:18: warning: unused variable 'data' [-Wunused-variable]
            SEXP data = Parent::get__();
                 ^
1 warning generated.
clang++ -mmacosx-version-min=10.13 -std=gnu++11 -I"/Library/Frameworks/R.framework/Resources/include" -DNDEBUG  -I'/Library/Frameworks/R.framework/Versions/4.0/Resources/library/Rcpp/include' -I'/Library/Frameworks/R.framework/Versions/4.0/Resources/library/beachmat/include' -I/usr/local/include   -fPIC  -Wall -g -O2  -c compute_scale.cpp -o compute_scale.o
In file included from compute_scale.cpp:1:
In file included from /Library/Frameworks/R.framework/Versions/4.0/Resources/library/Rcpp/include/Rcpp.h:57:
/Library/Frameworks/R.framework/Versions/4.0/Resources/library/Rcpp/include/Rcpp/DataFrame.h:136:18: warning: unused variable 'data' [-Wunused-variable]
            SEXP data = Parent::get__();
                 ^
In file included from compute_scale.cpp:2:
In file included from /Library/Frameworks/R.framework/Versions/4.0/Resources/library/beachmat/include/beachmat3/beachmat.h:24:
In file included from /Library/Frameworks/R.framework/Versions/4.0/Resources/library/beachmat/include/beachmat3/read_lin_block.h:11:
/Library/Frameworks/R.framework/Versions/4.0/Resources/library/beachmat/include/beachmat3/lin_matrix.h:218:43: warning: 'beachmat::lin_sparse_matrix::get_row' hides overloaded virtual functions [-Woverloaded-virtual]
    virtual sparse_index<const int*, int> get_row(size_t r, int* work_x, int* work_i, size_t first, size_t last) = 0;
                                          ^
/Library/Frameworks/R.framework/Versions/4.0/Resources/library/beachmat/include/beachmat3/lin_matrix.h:66:24: note: hidden overloaded virtual function 'beachmat::lin_matrix::get_row' declared here: different number of parameters (4 vs 5)
    virtual const int* get_row(size_t r, int* work, size_t first, size_t last) = 0;
                       ^
/Library/Frameworks/R.framework/Versions/4.0/Resources/library/beachmat/include/beachmat3/lin_matrix.h:95:27: note: hidden overloaded virtual function 'beachmat::lin_matrix::get_row' declared here: different number of parameters (4 vs 5)
    virtual const double* get_row(size_t r, double* work, size_t first, size_t last) = 0;
                          ^
/Library/Frameworks/R.framework/Versions/4.0/Resources/library/beachmat/include/beachmat3/lin_matrix.h:236:43: warning: 'beachmat::lin_sparse_matrix::get_col' hides overloaded virtual functions [-Woverloaded-virtual]
    virtual sparse_index<const int*, int> get_col(size_t c, int* work_x, int* work_i, size_t first, size_t last) = 0;
                                          ^
/Library/Frameworks/R.framework/Versions/4.0/Resources/library/beachmat/include/beachmat3/lin_matrix.h:52:24: note: hidden overloaded virtual function 'beachmat::lin_matrix::get_col' declared here: different number of parameters (4 vs 5)
    virtual const int* get_col(size_t c, int* work, size_t first, size_t last) = 0;
                       ^
/Library/Frameworks/R.framework/Versions/4.0/Resources/library/beachmat/include/beachmat3/lin_matrix.h:81:27: note: hidden overloaded virtual function 'beachmat::lin_matrix::get_col' declared here: different number of parameters (4 vs 5)
    virtual const double* get_col(size_t c, double* work, size_t first, size_t last) = 0;
                          ^
/Library/Frameworks/R.framework/Versions/4.0/Resources/library/beachmat/include/beachmat3/lin_matrix.h:254:46: warning: 'beachmat::lin_sparse_matrix::get_row' hides overloaded virtual functions [-Woverloaded-virtual]
    virtual sparse_index<const double*, int> get_row(size_t r, double* work_x, int* work_i, size_t first, size_t last) = 0;
                                             ^
/Library/Frameworks/R.framework/Versions/4.0/Resources/library/beachmat/include/beachmat3/lin_matrix.h:66:24: note: hidden overloaded virtual function 'beachmat::lin_matrix::get_row' declared here: different number of parameters (4 vs 5)
    virtual const int* get_row(size_t r, int* work, size_t first, size_t last) = 0;
                       ^
/Library/Frameworks/R.framework/Versions/4.0/Resources/library/beachmat/include/beachmat3/lin_matrix.h:95:27: note: hidden overloaded virtual function 'beachmat::lin_matrix::get_row' declared here: different number of parameters (4 vs 5)
    virtual const double* get_row(size_t r, double* work, size_t first, size_t last) = 0;
                          ^
/Library/Frameworks/R.framework/Versions/4.0/Resources/library/beachmat/include/beachmat3/lin_matrix.h:272:46: warning: 'beachmat::lin_sparse_matrix::get_col' hides overloaded virtual functions [-Woverloaded-virtual]
    virtual sparse_index<const double*, int> get_col(size_t c, double* work_x, int* work_i, size_t first, size_t last) = 0;
                                             ^
/Library/Frameworks/R.framework/Versions/4.0/Resources/library/beachmat/include/beachmat3/lin_matrix.h:52:24: note: hidden overloaded virtual function 'beachmat::lin_matrix::get_col' declared here: different number of parameters (4 vs 5)
    virtual const int* get_col(size_t c, int* work, size_t first, size_t last) = 0;
                       ^
/Library/Frameworks/R.framework/Versions/4.0/Resources/library/beachmat/include/beachmat3/lin_matrix.h:81:27: note: hidden overloaded virtual function 'beachmat::lin_matrix::get_col' declared here: different number of parameters (4 vs 5)
    virtual const double* get_col(size_t c, double* work, size_t first, size_t last) = 0;
                          ^
/Library/Frameworks/R.framework/Versions/4.0/Resources/library/beachmat/include/beachmat3/lin_matrix.h:287:35: warning: 'beachmat::lin_sparse_matrix::get_col' hides overloaded virtual functions [-Woverloaded-virtual]
    sparse_index<const int*, int> get_col(size_t c, int* work_x, int* work_i) {
                                  ^
/Library/Frameworks/R.framework/Versions/4.0/Resources/library/beachmat/include/beachmat3/lin_matrix.h:52:24: note: hidden overloaded virtual function 'beachmat::lin_matrix::get_col' declared here: different number of parameters (4 vs 3)
    virtual const int* get_col(size_t c, int* work, size_t first, size_t last) = 0;
                       ^
/Library/Frameworks/R.framework/Versions/4.0/Resources/library/beachmat/include/beachmat3/lin_matrix.h:81:27: note: hidden overloaded virtual function 'beachmat::lin_matrix::get_col' declared here: different number of parameters (4 vs 3)
    virtual const double* get_col(size_t c, double* work, size_t first, size_t last) = 0;
                          ^
/Library/Frameworks/R.framework/Versions/4.0/Resources/library/beachmat/include/beachmat3/lin_matrix.h:304:35: warning: 'beachmat::lin_sparse_matrix::get_row' hides overloaded virtual functions [-Woverloaded-virtual]
    sparse_index<const int*, int> get_row(size_t r, int* work_x, int* work_i) {
                                  ^
/Library/Frameworks/R.framework/Versions/4.0/Resources/library/beachmat/include/beachmat3/lin_matrix.h:66:24: note: hidden overloaded virtual function 'beachmat::lin_matrix::get_row' declared here: different number of parameters (4 vs 3)
    virtual const int* get_row(size_t r, int* work, size_t first, size_t last) = 0;
                       ^
/Library/Frameworks/R.framework/Versions/4.0/Resources/library/beachmat/include/beachmat3/lin_matrix.h:95:27: note: hidden overloaded virtual function 'beachmat::lin_matrix::get_row' declared here: different number of parameters (4 vs 3)
    virtual const double* get_row(size_t r, double* work, size_t first, size_t last) = 0;
                          ^
/Library/Frameworks/R.framework/Versions/4.0/Resources/library/beachmat/include/beachmat3/lin_matrix.h:321:38: warning: 'beachmat::lin_sparse_matrix::get_col' hides overloaded virtual functions [-Woverloaded-virtual]
    sparse_index<const double*, int> get_col(size_t c, double* work_x, int* work_i) {
                                     ^
/Library/Frameworks/R.framework/Versions/4.0/Resources/library/beachmat/include/beachmat3/lin_matrix.h:52:24: note: hidden overloaded virtual function 'beachmat::lin_matrix::get_col' declared here: different number of parameters (4 vs 3)
    virtual const int* get_col(size_t c, int* work, size_t first, size_t last) = 0;
                       ^
/Library/Frameworks/R.framework/Versions/4.0/Resources/library/beachmat/include/beachmat3/lin_matrix.h:81:27: note: hidden overloaded virtual function 'beachmat::lin_matrix::get_col' declared here: different number of parameters (4 vs 3)
    virtual const double* get_col(size_t c, double* work, size_t first, size_t last) = 0;
                          ^
/Library/Frameworks/R.framework/Versions/4.0/Resources/library/beachmat/include/beachmat3/lin_matrix.h:338:38: warning: 'beachmat::lin_sparse_matrix::get_row' hides overloaded virtual functions [-Woverloaded-virtual]
    sparse_index<const double*, int> get_row(size_t r, double* work_x, int* work_i) {
                                     ^
/Library/Frameworks/R.framework/Versions/4.0/Resources/library/beachmat/include/beachmat3/lin_matrix.h:66:24: note: hidden overloaded virtual function 'beachmat::lin_matrix::get_row' declared here: different number of parameters (4 vs 3)
    virtual const int* get_row(size_t r, int* work, size_t first, size_t last) = 0;
                       ^
/Library/Frameworks/R.framework/Versions/4.0/Resources/library/beachmat/include/beachmat3/lin_matrix.h:95:27: note: hidden overloaded virtual function 'beachmat::lin_matrix::get_row' declared here: different number of parameters (4 vs 3)
    virtual const double* get_row(size_t r, double* work, size_t first, size_t last) = 0;
                          ^
9 warnings generated.
clang++ -mmacosx-version-min=10.13 -std=gnu++11 -dynamiclib -Wl,-headerpad_max_install_names -undefined dynamic_lookup -single_module -multiply_defined suppress -L/Library/Frameworks/R.framework/Resources/lib -L/usr/local/lib -o BiocSingular.so RcppExports.o compute_scale.o -F/Library/Frameworks/R.framework/.. -framework R -Wl,-framework -Wl,CoreFoundation
installing to /Library/Frameworks/R.framework/Versions/4.0/Resources/library/00LOCK-BiocSingular/00new/BiocSingular/libs
** R
** inst
** byte-compile and prepare package for lazy loading
** help
*** installing help indices
** building package indices
** installing vignettes
** testing if installed package can be loaded from temporary location
** checking absolute paths in shared objects and dynamic libraries
** testing if installed package can be loaded from final location
** testing if installed package keeps a record of temporary installation path
* DONE (BiocSingular)

Tests output

BiocSingular.Rcheck/tests/testthat.Rout


R version 4.0.5 (2021-03-31) -- "Shake and Throw"
Copyright (C) 2021 The R Foundation for Statistical Computing
Platform: x86_64-apple-darwin17.0 (64-bit)

R is free software and comes with ABSOLUTELY NO WARRANTY.
You are welcome to redistribute it under certain conditions.
Type 'license()' or 'licence()' for distribution details.

R is a collaborative project with many contributors.
Type 'contributors()' for more information and
'citation()' on how to cite R or R packages in publications.

Type 'demo()' for some demos, 'help()' for on-line help, or
'help.start()' for an HTML browser interface to help.
Type 'q()' to quit R.

> library(BiocSingular)
> library(testthat)
> test_check("BiocSingular")
Loading required package: stats4
Loading required package: Matrix
Loading required package: BiocGenerics
Loading required package: parallel

Attaching package: 'BiocGenerics'

The following objects are masked from 'package:parallel':

    clusterApply, clusterApplyLB, clusterCall, clusterEvalQ,
    clusterExport, clusterMap, parApply, parCapply, parLapply,
    parLapplyLB, parRapply, parSapply, parSapplyLB

The following objects are masked from 'package:stats':

    IQR, mad, sd, var, xtabs

The following objects are masked from 'package:base':

    Filter, Find, Map, Position, Reduce, anyDuplicated, append,
    as.data.frame, basename, cbind, colnames, dirname, do.call,
    duplicated, eval, evalq, get, grep, grepl, intersect, is.unsorted,
    lapply, mapply, match, mget, order, paste, pmax, pmax.int, pmin,
    pmin.int, rank, rbind, rownames, sapply, setdiff, sort, table,
    tapply, union, unique, unsplit, which.max, which.min

Loading required package: MatrixGenerics
Loading required package: matrixStats

Attaching package: 'MatrixGenerics'

The following objects are masked from 'package:matrixStats':

    colAlls, colAnyNAs, colAnys, colAvgsPerRowSet, colCollapse,
    colCounts, colCummaxs, colCummins, colCumprods, colCumsums,
    colDiffs, colIQRDiffs, colIQRs, colLogSumExps, colMadDiffs,
    colMads, colMaxs, colMeans2, colMedians, colMins, colOrderStats,
    colProds, colQuantiles, colRanges, colRanks, colSdDiffs, colSds,
    colSums2, colTabulates, colVarDiffs, colVars, colWeightedMads,
    colWeightedMeans, colWeightedMedians, colWeightedSds,
    colWeightedVars, rowAlls, rowAnyNAs, rowAnys, rowAvgsPerColSet,
    rowCollapse, rowCounts, rowCummaxs, rowCummins, rowCumprods,
    rowCumsums, rowDiffs, rowIQRDiffs, rowIQRs, rowLogSumExps,
    rowMadDiffs, rowMads, rowMaxs, rowMeans2, rowMedians, rowMins,
    rowOrderStats, rowProds, rowQuantiles, rowRanges, rowRanks,
    rowSdDiffs, rowSds, rowSums2, rowTabulates, rowVarDiffs, rowVars,
    rowWeightedMads, rowWeightedMeans, rowWeightedMedians,
    rowWeightedSds, rowWeightedVars

Loading required package: S4Vectors

Attaching package: 'S4Vectors'

The following object is masked from 'package:Matrix':

    expand

The following object is masked from 'package:base':

    expand.grid

Loading required package: IRanges

Attaching package: 'DelayedArray'

The following objects are masked from 'package:base':

    aperm, apply, rowsum

[ FAIL 0 | WARN 6 | SKIP 0 | PASS 10405 ]
> 
> proc.time()
   user  system elapsed 
157.898  86.900 169.739 

Example timings

BiocSingular.Rcheck/BiocSingular-Ex.timings

nameusersystemelapsed
BiocSingularParam0.0280.0020.029
DeferredMatrix0.2300.0090.240
LowRankMatrix0.0840.0030.087
runExactSVD0.0760.0010.077
runIrlbaSVD0.0380.0020.039
runPCA0.1060.0060.112
runRandomSVD0.3050.0120.318
runSVD0.2390.0110.250