Back to Multiple platform build/check report for BioC 3.12
[A]BCDEFGHIJKLMNOPQRSTUVWXYZ

BUILD BIN report for Autotuner on merida1

This page was generated on 2020-08-11 12:04:09 -0400 (Tue, 11 Aug 2020).

TO THE DEVELOPERS/MAINTAINERS OF THE Autotuner PACKAGE: Please make sure to use the following settings in order to reproduce any error or warning you see on this page.
Package 97/1885HostnameOS / ArchINSTALLBUILDCHECKBUILD BIN
Autotuner 1.3.0
Craig McLean
Snapshot Date: 2020-08-10 14:50:56 -0400 (Mon, 10 Aug 2020)
URL: https://git.bioconductor.org/packages/Autotuner
Branch: master
Last Commit: cd8f7af
Last Changed Date: 2020-05-07 22:13:18 -0400 (Thu, 07 May 2020)
malbec1 Linux (Ubuntu 18.04.4 LTS) / x86_64  OK  OK  OK UNNEEDED, same version exists in internal repository
nebbiolo1 Linux (Ubuntu 20.04.1 LTS) / x86_64  OK  OK  NA 
tokay1 Windows Server 2012 R2 Standard / x64  OK  OK  OK  OK UNNEEDED, same version exists in internal repository
merida1 macOS 10.14.6 Mojave / x86_64  OK  OK  OK [ OK ]UNNEEDED, same version exists in internal repository

Summary

Package: Autotuner
Version: 1.3.0
Command: rm -rf Autotuner.buildbin-libdir && mkdir Autotuner.buildbin-libdir && /Users/biocbuild/BBS/utils/build-universal.sh Autotuner_1.3.0.tar.gz /Library/Frameworks/R.framework/Versions/Current/Resources/bin/R Autotuner.buildbin-libdir
StartedAt: 2020-08-11 08:14:04 -0400 (Tue, 11 Aug 2020)
EndedAt: 2020-08-11 08:15:00 -0400 (Tue, 11 Aug 2020)
EllapsedTime: 55.9 seconds
RetCode: 0
Status:  OK 
PackageFile: Autotuner_1.3.0.tgz
PackageFileSize: 2.186 MiB

Command output

##############################################################################
##############################################################################
###
### Running command:
###
###   rm -rf Autotuner.buildbin-libdir && mkdir Autotuner.buildbin-libdir && /Users/biocbuild/BBS/utils/build-universal.sh Autotuner_1.3.0.tar.gz /Library/Frameworks/R.framework/Versions/Current/Resources/bin/R Autotuner.buildbin-libdir
###
##############################################################################
##############################################################################


>>>>>>> 
>>>>>>> INSTALLATION WITH 'R CMD INSTALL --preclean --no-multiarch --library=Autotuner.buildbin-libdir Autotuner_1.3.0.tar.gz'
>>>>>>> 

* installing *source* package ‘Autotuner’ ...
** using staged installation
** R
** data
** inst
** byte-compile and prepare package for lazy loading
** help
*** installing help indices
** building package indices
** installing vignettes
** testing if installed package can be loaded from temporary location
** testing if installed package can be loaded from final location
** testing if installed package keeps a record of temporary installation path
* DONE (Autotuner)