Back to Multiple platform build/check report for BioC 3.12
AB[C]DEFGHIJKLMNOPQRSTUVWXYZ

BUILD report for CancerSubtypes on merida1

This page was generated on 2021-01-22 11:57:51 -0500 (Fri, 22 Jan 2021).

TO THE DEVELOPERS/MAINTAINERS OF THE CancerSubtypes PACKAGE: Please make sure to use the following settings in order to reproduce any error or warning you see on this page.
Package 231/1974HostnameOS / ArchINSTALLBUILDCHECKBUILD BIN
CancerSubtypes 1.16.0
Taosheng Xu
Snapshot Date: 2021-01-21 14:42:12 -0500 (Thu, 21 Jan 2021)
URL: https://git.bioconductor.org/packages/CancerSubtypes
Branch: RELEASE_3_12
Last Commit: 5228b58
Last Changed Date: 2020-10-27 11:16:57 -0500 (Tue, 27 Oct 2020)
malbec1 Linux (Ubuntu 18.04.5 LTS) / x86_64  OK  OK  OK UNNEEDED, same version exists in internal repository
nebbiolo1 Linux (Ubuntu 20.04.1 LTS) / x86_64  OK  OK  OK 
tokay1 Windows Server 2012 R2 Standard / x64  OK  OK  OK  OK UNNEEDED, same version exists in internal repository
merida1 macOS 10.14.6 Mojave / x86_64  OK [ OK ] OK  OK UNNEEDED, same version exists in internal repository

Summary

Package: CancerSubtypes
Version: 1.16.0
Command: /Library/Frameworks/R.framework/Versions/Current/Resources/bin/R CMD build --keep-empty-dirs --no-resave-data CancerSubtypes
StartedAt: 2021-01-21 18:30:42 -0500 (Thu, 21 Jan 2021)
EndedAt: 2021-01-21 18:33:15 -0500 (Thu, 21 Jan 2021)
EllapsedTime: 153.6 seconds
RetCode: 0
Status:  OK 
PackageFile: CancerSubtypes_1.16.0.tar.gz
PackageFileSize: 1.54 MiB

Command output

##############################################################################
##############################################################################
###
### Running command:
###
###   /Library/Frameworks/R.framework/Versions/Current/Resources/bin/R CMD build --keep-empty-dirs --no-resave-data CancerSubtypes
###
##############################################################################
##############################################################################


* checking for file ‘CancerSubtypes/DESCRIPTION’ ... OK
* preparing ‘CancerSubtypes’:
* checking DESCRIPTION meta-information ... OK
* installing the package to build vignettes
* creating vignettes ... OK
Warning: ‘inst/doc’ files
    ‘CancerSubtypes-vignette.Rmd’, ‘CancerSubtypes-vignette.html’,  ‘CancerSubtypes-vignette.R’
  ignored as vignettes have been rebuilt.
  Run R CMD build with --no-build-vignettes to prevent rebuilding.
* checking for LF line-endings in source and make files and shell scripts
* checking for empty or unneeded directories
* looking to see if a ‘data/datalist’ file should be added
* building ‘CancerSubtypes_1.16.0.tar.gz’