Back to Multiple platform build/check report for BioC 3.12
[A]BCDEFGHIJKLMNOPQRSTUVWXYZ

BUILD BIN report for attract on tokay1

This page was generated on 2020-08-10 12:12:48 -0400 (Mon, 10 Aug 2020).

TO THE DEVELOPERS/MAINTAINERS OF THE attract PACKAGE: Please make sure to use the following settings in order to reproduce any error or warning you see on this page.
Package 95/1882HostnameOS / ArchINSTALLBUILDCHECKBUILD BIN
attract 1.41.0
Samuel Zimmerman
Snapshot Date: 2020-08-09 14:51:29 -0400 (Sun, 09 Aug 2020)
URL: https://git.bioconductor.org/packages/attract
Branch: master
Last Commit: 5d1da58
Last Changed Date: 2020-04-27 14:22:21 -0400 (Mon, 27 Apr 2020)
malbec1 Linux (Ubuntu 18.04.4 LTS) / x86_64  OK  OK  OK UNNEEDED, same version exists in internal repository
nebbiolo1 Linux (Ubuntu 20.04.1 LTS) / x86_64  OK  OK  OK 
tokay1 Windows Server 2012 R2 Standard / x64  OK  OK  OK [ OK ]UNNEEDED, same version exists in internal repository
merida1 macOS 10.14.6 Mojave / x86_64  OK  OK  OK  OK UNNEEDED, same version exists in internal repository

Summary

Package: attract
Version: 1.41.0
Command: rm -rf attract.buildbin-libdir && mkdir attract.buildbin-libdir && C:\Users\biocbuild\bbs-3.12-bioc\R\bin\R.exe CMD INSTALL --merge-multiarch --build --library=attract.buildbin-libdir attract_1.41.0.tar.gz
StartedAt: 2020-08-10 07:13:14 -0400 (Mon, 10 Aug 2020)
EndedAt: 2020-08-10 07:14:03 -0400 (Mon, 10 Aug 2020)
EllapsedTime: 49.7 seconds
RetCode: 0
Status:  OK  
PackageFile: attract_1.41.0.zip
PackageFileSize: 4.323 MiB

Command output

##############################################################################
##############################################################################
###
### Running command:
###
###   rm -rf attract.buildbin-libdir && mkdir attract.buildbin-libdir && C:\Users\biocbuild\bbs-3.12-bioc\R\bin\R.exe CMD INSTALL --merge-multiarch --build --library=attract.buildbin-libdir attract_1.41.0.tar.gz
###
##############################################################################
##############################################################################



install for i386

* installing *source* package 'attract' ...
** using staged installation
** R
** data
** inst
** byte-compile and prepare package for lazy loading
** help
*** installing help indices
  converting help for package 'attract'
    finding HTML links ... done
    AttractorModuleSet-class                html  
    SynExpressionSet-class                  html  
    attract-package                         html  
    buildCorMatrix                          html  
    buildCustomIncidenceMatrix              html  
    buildKeggIncidenceMatrix                html  
    calcFuncSynexprs                        html  
    calcInform                              html  
    calcModfstat                            html  
    calcRss                                 html  
    exprs.dat                               html  
    filterDataSet                           html  
    findAttractors                          html  
    findCorrPartners                        html  
    findOnepwaySynexprs                     html  
    findSynexprs                            html  
    flagPwayExists                          html  
    getCustomGenes                          html  
    getPwayGenes                            html  
    loring.eset                             html  
    plotsynexprs                            html  
    removeFlatGenes                         html  
    samp.info                               html  
    subset.loring.eset                      html  
** building package indices
** installing vignettes
** testing if installed package can be loaded from temporary location
** testing if installed package can be loaded from final location
** testing if installed package keeps a record of temporary installation path

install for x64

* installing *source* package 'attract' ...
** testing if installed package can be loaded
* MD5 sums
packaged installation of 'attract' as attract_1.41.0.zip
* DONE (attract)