Back to Multiple platform build/check report for BioC 3.12
AB[C]DEFGHIJKLMNOPQRSTUVWXYZ

BUILD report for CAnD on malbec1

This page was generated on 2020-12-01 11:53:33 -0500 (Tue, 01 Dec 2020).

TO THE DEVELOPERS/MAINTAINERS OF THE CAnD PACKAGE: Please make sure to use the following settings in order to reproduce any error or warning you see on this page.
Package 232/1974HostnameOS / ArchINSTALLBUILDCHECKBUILD BIN
CAnD 1.22.0
Caitlin McHugh
Snapshot Date: 2020-11-30 14:42:56 -0500 (Mon, 30 Nov 2020)
URL: https://git.bioconductor.org/packages/CAnD
Branch: RELEASE_3_12
Last Commit: 26d6a21
Last Changed Date: 2020-10-27 11:05:03 -0500 (Tue, 27 Oct 2020)
malbec1 Linux (Ubuntu 18.04.4 LTS) / x86_64  OK [ OK ] OK UNNEEDED, same version exists in internal repository
nebbiolo1 Linux (Ubuntu 20.04.1 LTS) / x86_64  OK  OK  OK 
tokay1 Windows Server 2012 R2 Standard / x64  OK  OK  OK  OK UNNEEDED, same version exists in internal repository
merida1 macOS 10.14.6 Mojave / x86_64  OK  OK  OK  OK UNNEEDED, same version exists in internal repository

Summary

Package: CAnD
Version: 1.22.0
Command: /home/biocbuild/bbs-3.12-bioc/R/bin/R CMD build --keep-empty-dirs --no-resave-data CAnD
StartedAt: 2020-11-30 18:13:10 -0500 (Mon, 30 Nov 2020)
EndedAt: 2020-11-30 18:13:20 -0500 (Mon, 30 Nov 2020)
EllapsedTime: 9.6 seconds
RetCode: 0
Status:  OK 
PackageFile: CAnD_1.22.0.tar.gz
PackageFileSize: 315.1 KiB

Command output

##############################################################################
##############################################################################
###
### Running command:
###
###   /home/biocbuild/bbs-3.12-bioc/R/bin/R CMD build --keep-empty-dirs --no-resave-data CAnD
###
##############################################################################
##############################################################################


* checking for file ‘CAnD/DESCRIPTION’ ... OK
* preparing ‘CAnD’:
* checking DESCRIPTION meta-information ... OK
* installing the package to build vignettes
* creating vignettes ... OK
* checking for LF line-endings in source and make files and shell scripts
* checking for empty or unneeded directories
* looking to see if a ‘data/datalist’ file should be added
* building ‘CAnD_1.22.0.tar.gz’