Back to Multiple platform build/check report for BioC 3.12
A[B]CDEFGHIJKLMNOPQRSTUVWXYZ

BUILD BIN report for BUMHMM on tokay1

This page was generated on 2020-08-09 12:10:32 -0400 (Sun, 09 Aug 2020).

TO THE DEVELOPERS/MAINTAINERS OF THE BUMHMM PACKAGE: Please make sure to use the following settings in order to reproduce any error or warning you see on this page.
Package 207/1882HostnameOS / ArchINSTALLBUILDCHECKBUILD BIN
BUMHMM 1.13.0
Alina Selega
Snapshot Date: 2020-08-08 14:51:01 -0400 (Sat, 08 Aug 2020)
URL: https://git.bioconductor.org/packages/BUMHMM
Branch: master
Last Commit: bbafa73
Last Changed Date: 2020-04-27 15:04:01 -0400 (Mon, 27 Apr 2020)
malbec1 Linux (Ubuntu 18.04.4 LTS) / x86_64  OK  OK  OK UNNEEDED, same version exists in internal repository
nebbiolo1 Linux (Ubuntu 20.04.1 LTS) / x86_64  OK  OK  OK 
tokay1 Windows Server 2012 R2 Standard / x64  OK  OK  OK [ OK ]UNNEEDED, same version exists in internal repository
merida1 macOS 10.14.6 Mojave / x86_64  OK  OK  OK  OK UNNEEDED, same version exists in internal repository

Summary

Package: BUMHMM
Version: 1.13.0
Command: rm -rf BUMHMM.buildbin-libdir && mkdir BUMHMM.buildbin-libdir && C:\Users\biocbuild\bbs-3.12-bioc\R\bin\R.exe CMD INSTALL --merge-multiarch --build --library=BUMHMM.buildbin-libdir BUMHMM_1.13.0.tar.gz
StartedAt: 2020-08-09 07:54:17 -0400 (Sun, 09 Aug 2020)
EndedAt: 2020-08-09 07:55:11 -0400 (Sun, 09 Aug 2020)
EllapsedTime: 54.0 seconds
RetCode: 0
Status:  OK  
PackageFile: BUMHMM_1.13.0.zip
PackageFileSize: 891.9 KiB

Command output

##############################################################################
##############################################################################
###
### Running command:
###
###   rm -rf BUMHMM.buildbin-libdir && mkdir BUMHMM.buildbin-libdir && C:\Users\biocbuild\bbs-3.12-bioc\R\bin\R.exe CMD INSTALL --merge-multiarch --build --library=BUMHMM.buildbin-libdir BUMHMM_1.13.0.tar.gz
###
##############################################################################
##############################################################################



install for i386

* installing *source* package 'BUMHMM' ...
** using staged installation
** R
** data
*** moving datasets to lazyload DB
** inst
** byte-compile and prepare package for lazy loading
** help
*** installing help indices
  converting help for package 'BUMHMM'
    finding HTML links ... done
    computeProbs                            html  
    finding level-2 HTML links ... done

    computeStretches                        html  
    covFile                                 html  
    docFile                                 html  
    dorFile                                 html  
    findPatternPos                          html  
    nuclPerm                                html  
    scaleDOR                                html  
    se                                      html  
    selectNuclPos                           html  
    seq                                     html  
    stabiliseVariance                       html  
** building package indices
** installing vignettes
** testing if installed package can be loaded from temporary location
** testing if installed package can be loaded from final location
** testing if installed package keeps a record of temporary installation path

install for x64

* installing *source* package 'BUMHMM' ...
** testing if installed package can be loaded
* MD5 sums
packaged installation of 'BUMHMM' as BUMHMM_1.13.0.zip
* DONE (BUMHMM)