Back to Multiple platform build/check report for BioC 3.12 |
|
This page was generated on 2021-05-06 12:34:09 -0400 (Thu, 06 May 2021).
To the developers/maintainers of the VaSP package: Please make sure to use the following settings in order to reproduce any error or warning you see on this page. |
Package 1934/1974 | Hostname | OS / Arch | INSTALL | BUILD | CHECK | BUILD BIN | ||||||||
VaSP 1.2.5 (landing page) Huihui Yu
| malbec1 | Linux (Ubuntu 18.04.5 LTS) / x86_64 | OK | OK | OK | |||||||||
tokay1 | Windows Server 2012 R2 Standard / x64 | OK | OK | OK | OK | |||||||||
merida1 | macOS 10.14.6 Mojave / x86_64 | OK | OK | OK | OK | |||||||||
Package: VaSP |
Version: 1.2.5 |
Command: rm -rf VaSP.buildbin-libdir && mkdir VaSP.buildbin-libdir && C:\Users\biocbuild\bbs-3.12-bioc\R\bin\R.exe CMD INSTALL --merge-multiarch --build --library=VaSP.buildbin-libdir VaSP_1.2.5.tar.gz |
StartedAt: 2021-05-06 10:20:22 -0400 (Thu, 06 May 2021) |
EndedAt: 2021-05-06 10:21:25 -0400 (Thu, 06 May 2021) |
EllapsedTime: 62.5 seconds |
RetCode: 0 |
Status: OK |
PackageFile: VaSP_1.2.5.zip |
PackageFileSize: 5.803 MiB |
############################################################################## ############################################################################## ### ### Running command: ### ### rm -rf VaSP.buildbin-libdir && mkdir VaSP.buildbin-libdir && C:\Users\biocbuild\bbs-3.12-bioc\R\bin\R.exe CMD INSTALL --merge-multiarch --build --library=VaSP.buildbin-libdir VaSP_1.2.5.tar.gz ### ############################################################################## ############################################################################## install for i386 * installing *source* package 'VaSP' ... ** using staged installation ** R ** data ** inst ** byte-compile and prepare package for lazy loading ** help *** installing help indices converting help for package 'VaSP' finding HTML links ... done BMfinder html getDepth html getGeneinfo html rice.bg html spliceGene html finding level-2 HTML links ... done spliceGenome html splicePlot html ** building package indices ** installing vignettes ** testing if installed package can be loaded from temporary location ** testing if installed package can be loaded from final location ** testing if installed package keeps a record of temporary installation path install for x64 * installing *source* package 'VaSP' ... ** testing if installed package can be loaded * MD5 sums packaged installation of 'VaSP' as VaSP_1.2.5.zip * DONE (VaSP)