Back to Multiple platform build/check report for BioC 3.12 |
|
This page was generated on 2021-01-19 11:58:13 -0500 (Tue, 19 Jan 2021).
TO THE DEVELOPERS/MAINTAINERS OF THE R4RNA PACKAGE: Please make sure to use the following settings in order to reproduce any error or warning you see on this page. |
Package 1444/1974 | Hostname | OS / Arch | INSTALL | BUILD | CHECK | BUILD BIN | ||||||
R4RNA 1.18.0 Daniel Lai
| malbec1 | Linux (Ubuntu 18.04.5 LTS) / x86_64 | OK | OK | OK | ![]() | ||||||
nebbiolo1 | Linux (Ubuntu 20.04.1 LTS) / x86_64 | OK | OK | OK | ||||||||
tokay1 | Windows Server 2012 R2 Standard / x64 | OK | OK | OK | OK | ![]() | ||||||
merida1 | macOS 10.14.6 Mojave / x86_64 | OK | OK | OK | [ OK ] | ![]() |
Package: R4RNA |
Version: 1.18.0 |
Command: rm -rf R4RNA.buildbin-libdir && mkdir R4RNA.buildbin-libdir && /Users/biocbuild/BBS/utils/build-universal.sh R4RNA_1.18.0.tar.gz /Library/Frameworks/R.framework/Versions/Current/Resources/bin/R R4RNA.buildbin-libdir |
StartedAt: 2021-01-19 09:50:02 -0500 (Tue, 19 Jan 2021) |
EndedAt: 2021-01-19 09:51:06 -0500 (Tue, 19 Jan 2021) |
EllapsedTime: 63.1 seconds |
RetCode: 0 |
Status: OK |
PackageFile: R4RNA_1.18.0.tgz |
PackageFileSize: 964 KiB |
############################################################################## ############################################################################## ### ### Running command: ### ### rm -rf R4RNA.buildbin-libdir && mkdir R4RNA.buildbin-libdir && /Users/biocbuild/BBS/utils/build-universal.sh R4RNA_1.18.0.tar.gz /Library/Frameworks/R.framework/Versions/Current/Resources/bin/R R4RNA.buildbin-libdir ### ############################################################################## ############################################################################## >>>>>>> >>>>>>> INSTALLATION WITH 'R CMD INSTALL --preclean --no-multiarch --library=R4RNA.buildbin-libdir R4RNA_1.18.0.tar.gz' >>>>>>> * installing *source* package ‘R4RNA’ ... ** using staged installation ** R ** data ** inst ** byte-compile and prepare package for lazy loading ** help *** installing help indices ** building package indices ** installing vignettes ** testing if installed package can be loaded from temporary location ** testing if installed package can be loaded from final location ** testing if installed package keeps a record of temporary installation path * DONE (R4RNA)