Back to Multiple platform build/check report for BioC 3.12
[A]BCDEFGHIJKLMNOPQRSTUVWXYZ

BUILD BIN report for AnnotationForge on merida1

This page was generated on 2020-08-07 12:27:00 -0400 (Fri, 07 Aug 2020).

TO THE DEVELOPERS/MAINTAINERS OF THE AnnotationForge PACKAGE: Please make sure to use the following settings in order to reproduce any error or warning you see on this page.
Package 60/1882HostnameOS / ArchINSTALLBUILDCHECKBUILD BIN
AnnotationForge 1.31.2
Bioconductor Package Maintainer
Snapshot Date: 2020-08-06 14:50:46 -0400 (Thu, 06 Aug 2020)
URL: https://git.bioconductor.org/packages/AnnotationForge
Branch: master
Last Commit: 7382b9a
Last Changed Date: 2020-06-01 17:00:58 -0400 (Mon, 01 Jun 2020)
malbec1 Linux (Ubuntu 18.04.4 LTS) / x86_64  OK  OK  OK UNNEEDED, same version exists in internal repository
tokay1 Windows Server 2012 R2 Standard / x64  OK  OK  OK  OK UNNEEDED, same version exists in internal repository
merida1 macOS 10.14.6 Mojave / x86_64  OK  OK  OK [ OK ]UNNEEDED, same version exists in internal repository

Summary

Package: AnnotationForge
Version: 1.31.2
Command: rm -rf AnnotationForge.buildbin-libdir && mkdir AnnotationForge.buildbin-libdir && /Users/biocbuild/BBS/utils/build-universal.sh AnnotationForge_1.31.2.tar.gz /Library/Frameworks/R.framework/Versions/Current/Resources/bin/R AnnotationForge.buildbin-libdir
StartedAt: 2020-08-07 06:25:37 -0400 (Fri, 07 Aug 2020)
EndedAt: 2020-08-07 06:26:30 -0400 (Fri, 07 Aug 2020)
EllapsedTime: 53.4 seconds
RetCode: 0
Status:  OK 
PackageFile: AnnotationForge_1.31.2.tgz
PackageFileSize: 4.083 MiB

Command output

##############################################################################
##############################################################################
###
### Running command:
###
###   rm -rf AnnotationForge.buildbin-libdir && mkdir AnnotationForge.buildbin-libdir && /Users/biocbuild/BBS/utils/build-universal.sh AnnotationForge_1.31.2.tar.gz /Library/Frameworks/R.framework/Versions/Current/Resources/bin/R AnnotationForge.buildbin-libdir
###
##############################################################################
##############################################################################


>>>>>>> 
>>>>>>> INSTALLATION WITH 'R CMD INSTALL --preclean --no-multiarch --library=AnnotationForge.buildbin-libdir AnnotationForge_1.31.2.tar.gz'
>>>>>>> 

* installing *source* package ‘AnnotationForge’ ...
** using staged installation
** R
** inst
** byte-compile and prepare package for lazy loading
** help
*** installing help indices
** building package indices
** installing vignettes
** testing if installed package can be loaded from temporary location
** testing if installed package can be loaded from final location
** testing if installed package keeps a record of temporary installation path
* DONE (AnnotationForge)