Back to Multiple platform build/check report for BioC 3.12
A[B]CDEFGHIJKLMNOPQRSTUVWXYZ

BUILD BIN report for BiocFileCache on tokay1

This page was generated on 2020-08-10 12:22:14 -0400 (Mon, 10 Aug 2020).

TO THE DEVELOPERS/MAINTAINERS OF THE BiocFileCache PACKAGE: Please make sure to use the following settings in order to reproduce any error or warning you see on this page.
Package 151/1882HostnameOS / ArchINSTALLBUILDCHECKBUILD BIN
BiocFileCache 1.13.1
Lori Shepherd
Snapshot Date: 2020-08-09 14:51:29 -0400 (Sun, 09 Aug 2020)
URL: https://git.bioconductor.org/packages/BiocFileCache
Branch: master
Last Commit: c130b26
Last Changed Date: 2020-08-04 14:41:56 -0400 (Tue, 04 Aug 2020)
malbec1 Linux (Ubuntu 18.04.4 LTS) / x86_64  OK  OK  OK UNNEEDED, same version exists in internal repository
nebbiolo1 Linux (Ubuntu 20.04.1 LTS) / x86_64  OK  OK  OK 
tokay1 Windows Server 2012 R2 Standard / x64  OK  OK  OK [ OK ]UNNEEDED, same version exists in internal repository
merida1 macOS 10.14.6 Mojave / x86_64  OK  OK  OK  OK UNNEEDED, same version exists in internal repository

Summary

Package: BiocFileCache
Version: 1.13.1
Command: rm -rf BiocFileCache.buildbin-libdir && mkdir BiocFileCache.buildbin-libdir && C:\Users\biocbuild\bbs-3.12-bioc\R\bin\R.exe CMD INSTALL --merge-multiarch --build --library=BiocFileCache.buildbin-libdir BiocFileCache_1.13.1.tar.gz
StartedAt: 2020-08-10 08:12:51 -0400 (Mon, 10 Aug 2020)
EndedAt: 2020-08-10 08:13:28 -0400 (Mon, 10 Aug 2020)
EllapsedTime: 36.4 seconds
RetCode: 0
Status:  OK  
PackageFile: BiocFileCache_1.13.1.zip
PackageFileSize: 515.1 KiB

Command output

##############################################################################
##############################################################################
###
### Running command:
###
###   rm -rf BiocFileCache.buildbin-libdir && mkdir BiocFileCache.buildbin-libdir && C:\Users\biocbuild\bbs-3.12-bioc\R\bin\R.exe CMD INSTALL --merge-multiarch --build --library=BiocFileCache.buildbin-libdir BiocFileCache_1.13.1.tar.gz
###
##############################################################################
##############################################################################



install for i386

* installing *source* package 'BiocFileCache' ...
** using staged installation
** R
** inst
** byte-compile and prepare package for lazy loading
** help
*** installing help indices
  converting help for package 'BiocFileCache'
    finding HTML links ... done
    BiocFileCache-class                     html  
    makeBiocFileCacheFromDataFrame          html  
    makeCachedActiveBinding                 html  
** building package indices
** installing vignettes
** testing if installed package can be loaded from temporary location
** testing if installed package can be loaded from final location
** testing if installed package keeps a record of temporary installation path

install for x64

* installing *source* package 'BiocFileCache' ...
** testing if installed package can be loaded
* MD5 sums
packaged installation of 'BiocFileCache' as BiocFileCache_1.13.1.zip
* DONE (BiocFileCache)