Back to Multiple platform build/check report for BioC 3.12
ABCDE[F]GHIJKLMNOPQRSTUVWXYZ

INSTALL report for flowTrans on merida1

This page was generated on 2021-04-22 12:35:23 -0400 (Thu, 22 Apr 2021).

To the developers/maintainers of the flowTrans package:
Please make sure to use the following settings in order to reproduce any error or warning you see on this page.
Package 636/1974HostnameOS / ArchINSTALLBUILDCHECKBUILD BIN
flowTrans 1.42.0  (landing page)
Greg Finak
Snapshot Date: 2021-04-21 14:50:06 -0400 (Wed, 21 Apr 2021)
URL: https://git.bioconductor.org/packages/flowTrans
Branch: RELEASE_3_12
Last Commit: b7efe1a
Last Changed Date: 2020-10-27 10:38:16 -0400 (Tue, 27 Oct 2020)
malbec1Linux (Ubuntu 18.04.5 LTS) / x86_64  OK    OK    OK  UNNEEDED, same version exists in internal repository
tokay1Windows Server 2012 R2 Standard / x64  OK    OK    OK    OK  UNNEEDED, same version exists in internal repository
merida1macOS 10.14.6 Mojave / x86_64  OK    OK    OK    OK  UNNEEDED, same version exists in internal repository

Summary

Package: flowTrans
Version: 1.42.0
Command: /Library/Frameworks/R.framework/Versions/Current/Resources/bin/R CMD INSTALL flowTrans
StartedAt: 2021-04-21 17:21:03 -0400 (Wed, 21 Apr 2021)
EndedAt: 2021-04-21 17:21:26 -0400 (Wed, 21 Apr 2021)
EllapsedTime: 22.7 seconds
RetCode: 0
Status:   OK  

Command output

##############################################################################
##############################################################################
###
### Running command:
###
###   /Library/Frameworks/R.framework/Versions/Current/Resources/bin/R CMD INSTALL flowTrans
###
##############################################################################
##############################################################################


* installing to library ‘/Library/Frameworks/R.framework/Versions/4.0/Resources/library’
* installing *source* package ‘flowTrans’ ...
** using staged installation
** R
** byte-compile and prepare package for lazy loading
** help
*** installing help indices
** building package indices
** installing vignettes
** testing if installed package can be loaded from temporary location
** testing if installed package can be loaded from final location
** testing if installed package keeps a record of temporary installation path
* DONE (flowTrans)