Back to Multiple platform build/check report for BioC 3.12
AB[C]DEFGHIJKLMNOPQRSTUVWXYZ

BUILD BIN report for CFAssay on merida1

This page was generated on 2020-10-25 12:13:02 -0400 (Sun, 25 Oct 2020).

TO THE DEVELOPERS/MAINTAINERS OF THE CFAssay PACKAGE: Please make sure to use the following settings in order to reproduce any error or warning you see on this page.
Package 265/1974HostnameOS / ArchINSTALLBUILDCHECKBUILD BIN
CFAssay 1.23.0
Herbert Braselmann
Snapshot Date: 2020-10-24 14:40:19 -0400 (Sat, 24 Oct 2020)
URL: https://git.bioconductor.org/packages/CFAssay
Branch: master
Last Commit: bc395b1
Last Changed Date: 2020-04-27 14:45:10 -0400 (Mon, 27 Apr 2020)
malbec1 Linux (Ubuntu 18.04.4 LTS) / x86_64  OK  OK  OK UNNEEDED, same version exists in internal repository
nebbiolo1 Linux (Ubuntu 20.04.1 LTS) / x86_64  OK  OK  OK 
tokay1 Windows Server 2012 R2 Standard / x64  OK  OK  OK  OK UNNEEDED, same version exists in internal repository
riesling1 Windows Server 2019 Standard / x64  OK  OK  OK  OK 
merida1 macOS 10.14.6 Mojave / x86_64  OK  OK  OK [ OK ]UNNEEDED, same version exists in internal repository

Summary

Package: CFAssay
Version: 1.23.0
Command: rm -rf CFAssay.buildbin-libdir && mkdir CFAssay.buildbin-libdir && /Users/biocbuild/BBS/utils/build-universal.sh CFAssay_1.23.0.tar.gz /Library/Frameworks/R.framework/Versions/Current/Resources/bin/R CFAssay.buildbin-libdir
StartedAt: 2020-10-25 07:30:01 -0400 (Sun, 25 Oct 2020)
EndedAt: 2020-10-25 07:31:06 -0400 (Sun, 25 Oct 2020)
EllapsedTime: 64.5 seconds
RetCode: 0
Status:  OK 
PackageFile: CFAssay_1.23.0.tgz
PackageFileSize: 302.4 KiB

Command output

##############################################################################
##############################################################################
###
### Running command:
###
###   rm -rf CFAssay.buildbin-libdir && mkdir CFAssay.buildbin-libdir && /Users/biocbuild/BBS/utils/build-universal.sh CFAssay_1.23.0.tar.gz /Library/Frameworks/R.framework/Versions/Current/Resources/bin/R CFAssay.buildbin-libdir
###
##############################################################################
##############################################################################


>>>>>>> 
>>>>>>> INSTALLATION WITH 'R CMD INSTALL --preclean --no-multiarch --library=CFAssay.buildbin-libdir CFAssay_1.23.0.tar.gz'
>>>>>>> 

* installing *source* package ‘CFAssay’ ...
** using staged installation
** R
** inst
** byte-compile and prepare package for lazy loading
** help
*** installing help indices
** building package indices
** installing vignettes
** testing if installed package can be loaded from temporary location
** testing if installed package can be loaded from final location
** testing if installed package keeps a record of temporary installation path
* DONE (CFAssay)