Back to Multiple platform build/check report for BioC 3.12 |
|
This page was generated on 2021-01-24 11:56:41 -0500 (Sun, 24 Jan 2021).
TO THE DEVELOPERS/MAINTAINERS OF THE BgeeDB PACKAGE: Please make sure to use the following settings in order to reproduce any error or warning you see on this page. |
Package 141/1974 | Hostname | OS / Arch | INSTALL | BUILD | CHECK | BUILD BIN | ||||||
BgeeDB 2.16.0 Julien Wollbrett
| malbec1 | Linux (Ubuntu 18.04.5 LTS) / x86_64 | OK | OK | OK | ![]() | ||||||
nebbiolo1 | Linux (Ubuntu 20.04.1 LTS) / x86_64 | OK | OK | OK | ||||||||
tokay1 | Windows Server 2012 R2 Standard / x64 | OK | OK | OK | OK | ![]() | ||||||
merida1 | macOS 10.14.6 Mojave / x86_64 | OK | [ OK ] | OK | OK | ![]() |
Package: BgeeDB |
Version: 2.16.0 |
Command: /Library/Frameworks/R.framework/Versions/Current/Resources/bin/R CMD build --keep-empty-dirs --no-resave-data BgeeDB |
StartedAt: 2021-01-23 18:16:17 -0500 (Sat, 23 Jan 2021) |
EndedAt: 2021-01-23 18:26:25 -0500 (Sat, 23 Jan 2021) |
EllapsedTime: 607.8 seconds |
RetCode: 0 |
Status: OK |
PackageFile: BgeeDB_2.16.0.tar.gz |
PackageFileSize: 93.43 KiB |
############################################################################## ############################################################################## ### ### Running command: ### ### /Library/Frameworks/R.framework/Versions/Current/Resources/bin/R CMD build --keep-empty-dirs --no-resave-data BgeeDB ### ############################################################################## ############################################################################## * checking for file ‘BgeeDB/DESCRIPTION’ ... OK * preparing ‘BgeeDB’: * checking DESCRIPTION meta-information ... OK * installing the package to build vignettes * creating vignettes ... OK * checking for LF line-endings in source and make files and shell scripts * checking for empty or unneeded directories * looking to see if a ‘data/datalist’ file should be added * building ‘BgeeDB_2.16.0.tar.gz’