Back to Multiple platform build/check report for BioC 3.12
A[B]CDEFGHIJKLMNOPQRSTUVWXYZ

CHECK report for BgeeDB on tokay1

This page was generated on 2020-08-10 12:20:31 -0400 (Mon, 10 Aug 2020).

TO THE DEVELOPERS/MAINTAINERS OF THE BgeeDB PACKAGE: Please make sure to use the following settings in order to reproduce any error or warning you see on this page.
Package 133/1882HostnameOS / ArchINSTALLBUILDCHECKBUILD BIN
BgeeDB 2.15.4
Julien Wollbrett , Julien Roux , Andrea Komljenovic , Frederic Bastian
Snapshot Date: 2020-08-09 14:51:29 -0400 (Sun, 09 Aug 2020)
URL: https://git.bioconductor.org/packages/BgeeDB
Branch: master
Last Commit: 0541e44
Last Changed Date: 2020-06-02 05:16:26 -0400 (Tue, 02 Jun 2020)
malbec1 Linux (Ubuntu 18.04.4 LTS) / x86_64  OK  OK  OK UNNEEDED, same version exists in internal repository
nebbiolo1 Linux (Ubuntu 20.04.1 LTS) / x86_64  OK  OK  OK 
tokay1 Windows Server 2012 R2 Standard / x64  OK  OK [ OK ] OK UNNEEDED, same version exists in internal repository
merida1 macOS 10.14.6 Mojave / x86_64  OK  OK  OK  OK UNNEEDED, same version exists in internal repository

Summary

Package: BgeeDB
Version: 2.15.4
Command: C:\Users\biocbuild\bbs-3.12-bioc\R\bin\R.exe CMD check --force-multiarch --install=check:BgeeDB.install-out.txt --library=C:\Users\biocbuild\bbs-3.12-bioc\R\library --no-vignettes --timings BgeeDB_2.15.4.tar.gz
StartedAt: 2020-08-10 02:54:09 -0400 (Mon, 10 Aug 2020)
EndedAt: 2020-08-10 03:22:56 -0400 (Mon, 10 Aug 2020)
EllapsedTime: 1727.1 seconds
RetCode: 0
Status:  OK  
CheckDir: BgeeDB.Rcheck
Warnings: 0

Command output

##############################################################################
##############################################################################
###
### Running command:
###
###   C:\Users\biocbuild\bbs-3.12-bioc\R\bin\R.exe CMD check --force-multiarch --install=check:BgeeDB.install-out.txt --library=C:\Users\biocbuild\bbs-3.12-bioc\R\library --no-vignettes --timings BgeeDB_2.15.4.tar.gz
###
##############################################################################
##############################################################################


* using log directory 'C:/Users/biocbuild/bbs-3.12-bioc/meat/BgeeDB.Rcheck'
* using R version 4.0.2 (2020-06-22)
* using platform: x86_64-w64-mingw32 (64-bit)
* using session charset: ISO8859-1
* using option '--no-vignettes'
* checking for file 'BgeeDB/DESCRIPTION' ... OK
* checking extension type ... Package
* this is package 'BgeeDB' version '2.15.4'
* checking package namespace information ... OK
* checking package dependencies ... OK
* checking if this is a source package ... OK
* checking if there is a namespace ... OK
* checking for hidden files and directories ... OK
* checking for portable file names ... OK
* checking whether package 'BgeeDB' can be installed ... OK
* checking installed package size ... OK
* checking package directory ... OK
* checking 'build' directory ... OK
* checking DESCRIPTION meta-information ... OK
* checking top-level files ... OK
* checking for left-over files ... OK
* checking index information ... OK
* checking package subdirectories ... OK
* checking R files for non-ASCII characters ... OK
* checking R files for syntax errors ... OK
* loading checks for arch 'i386'
** checking whether the package can be loaded ... OK
** checking whether the package can be loaded with stated dependencies ... OK
** checking whether the package can be unloaded cleanly ... OK
** checking whether the namespace can be loaded with stated dependencies ... OK
** checking whether the namespace can be unloaded cleanly ... OK
* loading checks for arch 'x64'
** checking whether the package can be loaded ... OK
** checking whether the package can be loaded with stated dependencies ... OK
** checking whether the package can be unloaded cleanly ... OK
** checking whether the namespace can be loaded with stated dependencies ... OK
** checking whether the namespace can be unloaded cleanly ... OK
* checking dependencies in R code ... OK
* checking S3 generic/method consistency ... OK
* checking replacement functions ... OK
* checking foreign function calls ... OK
* checking R code for possible problems ... OK
* checking Rd files ... OK
* checking Rd metadata ... OK
* checking Rd cross-references ... OK
* checking for missing documentation entries ... OK
* checking for code/documentation mismatches ... OK
* checking Rd \usage sections ... OK
* checking Rd contents ... OK
* checking for unstated dependencies in examples ... OK
* checking contents of 'data' directory ... OK
* checking data for non-ASCII characters ... OK
* checking data for ASCII and uncompressed saves ... OK
* checking files in 'vignettes' ... OK
* checking examples ...
** running examples for arch 'i386' ... OK
Examples with CPU (user + system) or elapsed time > 5s
                  user system elapsed
getData         321.32  31.72  450.19
geneList         12.39   0.60   38.71
makeTable        11.22   1.39  183.08
formatData        3.10   0.22    7.57
topAnat           1.77   0.12    6.87
loadTopAnatData   1.31   0.05   29.44
** running examples for arch 'x64' ... OK
Examples with CPU (user + system) or elapsed time > 5s
                  user system elapsed
getData         273.30  35.74  405.34
geneList         18.35   0.72   44.05
makeTable         9.66   1.00  166.80
formatData        3.09   0.20    8.69
topAnat           1.90   1.08    6.74
loadTopAnatData   2.13   0.11   32.29
* checking for unstated dependencies in 'tests' ... OK
* checking tests ...
** running tests for arch 'i386' ...
  Running 'testthat.R'
 OK
** running tests for arch 'x64' ...
  Running 'testthat.R'
 OK
* checking for unstated dependencies in vignettes ... OK
* checking package vignettes in 'inst/doc' ... OK
* checking running R code from vignettes ... SKIPPED
* checking re-building of vignette outputs ... SKIPPED
* checking PDF version of manual ... OK
* DONE

Status: OK


Installation output

BgeeDB.Rcheck/00install.out

##############################################################################
##############################################################################
###
### Running command:
###
###   C:\cygwin\bin\curl.exe -O https://malbec1.bioconductor.org/BBS/3.12/bioc/src/contrib/BgeeDB_2.15.4.tar.gz && rm -rf BgeeDB.buildbin-libdir && mkdir BgeeDB.buildbin-libdir && C:\Users\biocbuild\bbs-3.12-bioc\R\bin\R.exe CMD INSTALL --merge-multiarch --build --library=BgeeDB.buildbin-libdir BgeeDB_2.15.4.tar.gz && C:\Users\biocbuild\bbs-3.12-bioc\R\bin\R.exe CMD INSTALL BgeeDB_2.15.4.zip && rm BgeeDB_2.15.4.tar.gz BgeeDB_2.15.4.zip
###
##############################################################################
##############################################################################


  % Total    % Received % Xferd  Average Speed   Time    Time     Time  Current
                                 Dload  Upload   Total   Spent    Left  Speed

  0     0    0     0    0     0      0      0 --:--:-- --:--:-- --:--:--     0
100 65964  100 65964    0     0  1394k      0 --:--:-- --:--:-- --:--:-- 1533k

install for i386

* installing *source* package 'BgeeDB' ...
** using staged installation
** R
** data
** inst
** byte-compile and prepare package for lazy loading

groupGOTerms: 	GOBPTerm, GOMFTerm, GOCCTerm environments built.
** help
*** installing help indices
  converting help for package 'BgeeDB'
    finding HTML links ... done
    Bgee-class                              html  
    deleteLocalData                         html  
    deleteOldData                           html  
    formatData                              html  
    geneList                                html  
    getAnnotation                           html  
    getData                                 html  
    listBgeeRelease                         html  
    listBgeeSpecies                         html  
    loadTopAnatData                         html  
    makeTable                               html  
    topAnat                                 html  
** building package indices
** installing vignettes
** testing if installed package can be loaded from temporary location

groupGOTerms: 	GOBPTerm, GOMFTerm, GOCCTerm environments built.
** testing if installed package can be loaded from final location

groupGOTerms: 	GOBPTerm, GOMFTerm, GOCCTerm environments built.
** testing if installed package keeps a record of temporary installation path

install for x64

* installing *source* package 'BgeeDB' ...
** testing if installed package can be loaded

groupGOTerms: 	GOBPTerm, GOMFTerm, GOCCTerm environments built.
* MD5 sums
packaged installation of 'BgeeDB' as BgeeDB_2.15.4.zip
* DONE (BgeeDB)
* installing to library 'C:/Users/biocbuild/bbs-3.12-bioc/R/library'
package 'BgeeDB' successfully unpacked and MD5 sums checked

Tests output

BgeeDB.Rcheck/tests_i386/testthat.Rout


R version 4.0.2 (2020-06-22) -- "Taking Off Again"
Copyright (C) 2020 The R Foundation for Statistical Computing
Platform: i386-w64-mingw32/i386 (32-bit)

R is free software and comes with ABSOLUTELY NO WARRANTY.
You are welcome to redistribute it under certain conditions.
Type 'license()' or 'licence()' for distribution details.

R is a collaborative project with many contributors.
Type 'contributors()' for more information and
'citation()' on how to cite R or R packages in publications.

Type 'demo()' for some demos, 'help()' for on-line help, or
'help.start()' for an HTML browser interface to help.
Type 'q()' to quit R.

> library(testthat)
> library(BgeeDB)
Loading required package: topGO
Loading required package: BiocGenerics
Loading required package: parallel

Attaching package: 'BiocGenerics'

The following objects are masked from 'package:parallel':

    clusterApply, clusterApplyLB, clusterCall, clusterEvalQ,
    clusterExport, clusterMap, parApply, parCapply, parLapply,
    parLapplyLB, parRapply, parSapply, parSapplyLB

The following objects are masked from 'package:stats':

    IQR, mad, sd, var, xtabs

The following objects are masked from 'package:base':

    Filter, Find, Map, Position, Reduce, anyDuplicated, append,
    as.data.frame, basename, cbind, colnames, dirname, do.call,
    duplicated, eval, evalq, get, grep, grepl, intersect, is.unsorted,
    lapply, mapply, match, mget, order, paste, pmax, pmax.int, pmin,
    pmin.int, rank, rbind, rownames, sapply, setdiff, sort, table,
    tapply, union, unique, unsplit, which.max, which.min

Loading required package: graph
Loading required package: Biobase
Welcome to Bioconductor

    Vignettes contain introductory material; view with
    'browseVignettes()'. To cite Bioconductor, see
    'citation("Biobase")', and for packages 'citation("pkgname")'.

Loading required package: GO.db
Loading required package: AnnotationDbi
Loading required package: stats4
Loading required package: IRanges
Loading required package: S4Vectors

Attaching package: 'S4Vectors'

The following object is masked from 'package:base':

    expand.grid


Attaching package: 'IRanges'

The following object is masked from 'package:grDevices':

    windows


Loading required package: SparseM

Attaching package: 'SparseM'

The following object is masked from 'package:base':

    backsolve


groupGOTerms: 	GOBPTerm, GOMFTerm, GOCCTerm environments built.

Attaching package: 'topGO'

The following object is masked from 'package:IRanges':

    members

Loading required package: tidyr

Attaching package: 'tidyr'

The following object is masked from 'package:S4Vectors':

    expand

The following object is masked from 'package:testthat':

    matches

> 
> Sys.setenv("R_TESTS" = "")
> test_check("BgeeDB")

Querying Bgee to get release information...

Building URL to query species in Bgee release 14_1...

Submitting URL to Bgee webservice... (https://r.bgee.org/bgee14_1/?page=r_package&action=get_all_species&display_type=tsv&source=BgeeDB_R_package&source_version=2.15.4)

Query to Bgee webservice successful!

API key built: f461c061e37498bdfc54e75bc764aacdd32de0bac311cab97bd4597a5aa1c05a01c2f76cf2b101d8c9de1c6841b2969f93170d2c41df2fdc830c0d1b03a758a7

Saved annotation files in C:/Users/biocbuild/bbs-3.12-bioc/meat/BgeeDB.Rcheck/tests_i386/testthat/Mus_musculus_Bgee_14_1 folder.

Extracting expression data matrix...
  Keeping only present genes.

Extracting features information...

Extracting samples information...

Extracting expression data matrix...
  Keeping only present genes.

Extracting features information...

Extracting samples information...

Extracting expression data matrix...
  Keeping only present genes.

Extracting features information...

Extracting samples information...

Querying Bgee to get release information...

Building URL to query species in Bgee release 13_2...

Submitting URL to Bgee webservice... (https://r.bgee.org/bgee13/?page=species&display_type=tsv&source=BgeeDB_R_package&source_version=2.15.4)

Query to Bgee webservice successful!

API key built: f461c061e37498bdfc54e75bc764aacdd32de0bac311cab97bd4597a5aa1c05a01c2f76cf2b101d8c9de1c6841b2969f93170d2c41df2fdc830c0d1b03a758a7

IMPORTANT INFORMATION: Be careful! You are not using the last release of the Bgee database! If it is not intentional you should update to the last version of Bioconductor and of the BgeeDB package. To update Bioconductor, see https://www.bioconductor.org/install/

Saved annotation files in C:/Users/biocbuild/bbs-3.12-bioc/meat/BgeeDB.Rcheck/tests_i386/testthat/Mus_musculus_Bgee_13_2 folder.

Extracting expression data matrix...
  Keeping only present genes.

Extracting features information...

Extracting samples information...

Extracting expression data matrix...
  Keeping only present genes.

Extracting features information...

Extracting samples information...

Querying Bgee to get release information...

NOTE: the file describing Bgee species information for release 14_1 was found in the download directory C:/Users/biocbuild/bbs-3.12-bioc/meat/BgeeDB.Rcheck/tests_i386/testthat. Data will not be redownloaded.

API key built: f461c061e37498bdfc54e75bc764aacdd32de0bac311cab97bd4597a5aa1c05a01c2f76cf2b101d8c9de1c6841b2969f93170d2c41df2fdc830c0d1b03a758a7

NOTE: annotation files for this species were found in the download directory C:/Users/biocbuild/bbs-3.12-bioc/meat/BgeeDB.Rcheck/tests_i386/testthat/Mus_musculus_Bgee_14_1. Data will not be redownloaded.

Querying Bgee to get release information...

NOTE: the file describing Bgee species information for release 14_1 was found in the download directory C:/Users/biocbuild/bbs-3.12-bioc/meat/BgeeDB.Rcheck/tests_i386/testthat. Data will not be redownloaded.

API key built: f461c061e37498bdfc54e75bc764aacdd32de0bac311cab97bd4597a5aa1c05a01c2f76cf2b101d8c9de1c6841b2969f93170d2c41df2fdc830c0d1b03a758a7

Saved annotation files in C:/Users/biocbuild/bbs-3.12-bioc/meat/BgeeDB.Rcheck/tests_i386/testthat/Mus_musculus_Bgee_14_1 folder.

Querying Bgee to get release information...

NOTE: the file describing Bgee species information for release 13_2 was found in the download directory C:/Users/biocbuild/bbs-3.12-bioc/meat/BgeeDB.Rcheck/tests_i386/testthat. Data will not be redownloaded.

API key built: f461c061e37498bdfc54e75bc764aacdd32de0bac311cab97bd4597a5aa1c05a01c2f76cf2b101d8c9de1c6841b2969f93170d2c41df2fdc830c0d1b03a758a7

IMPORTANT INFORMATION: Be careful! You are not using the last release of the Bgee database! If it is not intentional you should update to the last version of Bioconductor and of the BgeeDB package. To update Bioconductor, see https://www.bioconductor.org/install/

NOTE: annotation files for this species were found in the download directory C:/Users/biocbuild/bbs-3.12-bioc/meat/BgeeDB.Rcheck/tests_i386/testthat/Mus_musculus_Bgee_13_2. Data will not be redownloaded.

Querying Bgee to get release information...

NOTE: the file describing Bgee species information for release 13_2 was found in the download directory C:/Users/biocbuild/bbs-3.12-bioc/meat/BgeeDB.Rcheck/tests_i386/testthat. Data will not be redownloaded.

API key built: f461c061e37498bdfc54e75bc764aacdd32de0bac311cab97bd4597a5aa1c05a01c2f76cf2b101d8c9de1c6841b2969f93170d2c41df2fdc830c0d1b03a758a7

IMPORTANT INFORMATION: Be careful! You are not using the last release of the Bgee database! If it is not intentional you should update to the last version of Bioconductor and of the BgeeDB package. To update Bioconductor, see https://www.bioconductor.org/install/

Saved annotation files in C:/Users/biocbuild/bbs-3.12-bioc/meat/BgeeDB.Rcheck/tests_i386/testthat/Mus_musculus_Bgee_13_2 folder.

Querying Bgee to get release information...

Building URL to query species in Bgee release 14_1...

Submitting URL to Bgee webservice... (https://r.bgee.org/bgee14_1/?page=r_package&action=get_all_species&display_type=tsv&source=BgeeDB_R_package&source_version=2.15.4)

Query to Bgee webservice successful!

Querying Bgee to get release information...

Building URL to query species in Bgee release 14_1...

Submitting URL to Bgee webservice... (https://r.bgee.org/bgee14_1/?page=r_package&action=get_all_species&display_type=tsv&source=BgeeDB_R_package&source_version=2.15.4)

Query to Bgee webservice successful!

API key built: f461c061e37498bdfc54e75bc764aacdd32de0bac311cab97bd4597a5aa1c05a01c2f76cf2b101d8c9de1c6841b2969f93170d2c41df2fdc830c0d1b03a758a7

Building URLs to retrieve organ relationships from Bgee.........
   URL successfully built (https://r.bgee.org/bgee14_1/?page=r_package&action=get_anat_entity_relations&display_type=tsv&species_list=9913&attr_list=SOURCE_ID&attr_list=TARGET_ID&api_key=f461c061e37498bdfc54e75bc764aacdd32de0bac311cab97bd4597a5aa1c05a01c2f76cf2b101d8c9de1c6841b2969f93170d2c41df2fdc830c0d1b03a758a7&source=BgeeDB_R_package&source_version=2.15.4)
   Submitting URL to Bgee webservice (can be long)
   Got results from Bgee webservice. Files are written in "C:/Users/biocbuild/bbs-3.12-bioc/meat/BgeeDB.Rcheck/tests_i386/testthat/Bos_taurus_Bgee_14_1"

Building URLs to retrieve organ names from Bgee.................
   URL successfully built (https://r.bgee.org/bgee14_1/?page=r_package&action=get_anat_entities&display_type=tsv&species_list=9913&attr_list=ID&attr_list=NAME&api_key=f461c061e37498bdfc54e75bc764aacdd32de0bac311cab97bd4597a5aa1c05a01c2f76cf2b101d8c9de1c6841b2969f93170d2c41df2fdc830c0d1b03a758a7&source=BgeeDB_R_package&source_version=2.15.4)
   Submitting URL to Bgee webservice (can be long)
   Got results from Bgee webservice. Files are written in "C:/Users/biocbuild/bbs-3.12-bioc/meat/BgeeDB.Rcheck/tests_i386/testthat/Bos_taurus_Bgee_14_1"

Building URLs to retrieve mapping of gene to organs from Bgee...
   URL successfully built (https://r.bgee.org/bgee14_1/?page=r_package&action=get_expression_calls&display_type=tsv&species_list=9913&attr_list=GENE_ID&attr_list=ANAT_ENTITY_ID&api_key=f461c061e37498bdfc54e75bc764aacdd32de0bac311cab97bd4597a5aa1c05a01c2f76cf2b101d8c9de1c6841b2969f93170d2c41df2fdc830c0d1b03a758a7&source=BgeeDB_R_package&source_version=2.15.4&data_type=RNA_SEQ&data_qual=SILVER&stage_id=UBERON:0000092)
   Submitting URL to Bgee webservice (can be long)
   Got results from Bgee webservice. Files are written in "C:/Users/biocbuild/bbs-3.12-bioc/meat/BgeeDB.Rcheck/tests_i386/testthat/Bos_taurus_Bgee_14_1"

Parsing the results.............................................

Adding BGEE:0 as unique root of all terms of the ontology.......

Done.

Querying Bgee to get release information...

NOTE: the file describing Bgee species information for release 14_1 was found in the download directory C:/Users/biocbuild/bbs-3.12-bioc/meat/BgeeDB.Rcheck/tests_i386/testthat. Data will not be redownloaded.

API key built: f461c061e37498bdfc54e75bc764aacdd32de0bac311cab97bd4597a5aa1c05a01c2f76cf2b101d8c9de1c6841b2969f93170d2c41df2fdc830c0d1b03a758a7

Saved annotation files in C:/Users/biocbuild/bbs-3.12-bioc/meat/BgeeDB.Rcheck/tests_i386/testthat/Drosophila_simulans_Bgee_14_1 folder.

Querying Bgee to get release information...

NOTE: the file describing Bgee species information for release 14_1 was found in the download directory C:/Users/biocbuild/bbs-3.12-bioc/meat/BgeeDB.Rcheck/tests_i386/testthat. Data will not be redownloaded.

API key built: f461c061e37498bdfc54e75bc764aacdd32de0bac311cab97bd4597a5aa1c05a01c2f76cf2b101d8c9de1c6841b2969f93170d2c41df2fdc830c0d1b03a758a7

NOTE: annotation files for this species were found in the download directory C:/Users/biocbuild/bbs-3.12-bioc/meat/BgeeDB.Rcheck/tests_i386/testthat/Mus_musculus_Bgee_14_1. Data will not be redownloaded.

Querying Bgee to get release information...

NOTE: the file describing Bgee species information for release 14_1 was found in the download directory C:/Users/biocbuild/bbs-3.12-bioc/meat/BgeeDB.Rcheck/tests_i386/testthat. Data will not be redownloaded.

API key built: f461c061e37498bdfc54e75bc764aacdd32de0bac311cab97bd4597a5aa1c05a01c2f76cf2b101d8c9de1c6841b2969f93170d2c41df2fdc830c0d1b03a758a7

NOTE: an organ relationships file was found in the download directory C:/Users/biocbuild/bbs-3.12-bioc/meat/BgeeDB.Rcheck/tests_i386/testthat/Bos_taurus_Bgee_14_1. Data will not be redownloaded.

NOTE: an organ names file was found in the download directory C:/Users/biocbuild/bbs-3.12-bioc/meat/BgeeDB.Rcheck/tests_i386/testthat/Bos_taurus_Bgee_14_1. Data will not be redownloaded.

NOTE: a gene to organs mapping file was found in the download directory C:/Users/biocbuild/bbs-3.12-bioc/meat/BgeeDB.Rcheck/tests_i386/testthat/Bos_taurus_Bgee_14_1. Data will not be redownloaded.

Parsing the results.............................................

Adding BGEE:0 as unique root of all terms of the ontology.......

Done.

Checking topAnatData object.............

Checking gene list......................

Building most specific Ontology terms...  (  14  Ontology terms found. )

Building DAG topology...................  (  145  Ontology terms and  211  relations. )

Annotating nodes (Can be long)..........  (  97  genes annotated to the Ontology terms. )
== testthat results  ===========================================================
[ OK: 32 | SKIPPED: 0 | WARNINGS: 0 | FAILED: 0 ]
> 
> proc.time()
   user  system elapsed 
  26.31    1.84   94.26 

BgeeDB.Rcheck/tests_x64/testthat.Rout


R version 4.0.2 (2020-06-22) -- "Taking Off Again"
Copyright (C) 2020 The R Foundation for Statistical Computing
Platform: x86_64-w64-mingw32/x64 (64-bit)

R is free software and comes with ABSOLUTELY NO WARRANTY.
You are welcome to redistribute it under certain conditions.
Type 'license()' or 'licence()' for distribution details.

R is a collaborative project with many contributors.
Type 'contributors()' for more information and
'citation()' on how to cite R or R packages in publications.

Type 'demo()' for some demos, 'help()' for on-line help, or
'help.start()' for an HTML browser interface to help.
Type 'q()' to quit R.

> library(testthat)
> library(BgeeDB)
Loading required package: topGO
Loading required package: BiocGenerics
Loading required package: parallel

Attaching package: 'BiocGenerics'

The following objects are masked from 'package:parallel':

    clusterApply, clusterApplyLB, clusterCall, clusterEvalQ,
    clusterExport, clusterMap, parApply, parCapply, parLapply,
    parLapplyLB, parRapply, parSapply, parSapplyLB

The following objects are masked from 'package:stats':

    IQR, mad, sd, var, xtabs

The following objects are masked from 'package:base':

    Filter, Find, Map, Position, Reduce, anyDuplicated, append,
    as.data.frame, basename, cbind, colnames, dirname, do.call,
    duplicated, eval, evalq, get, grep, grepl, intersect, is.unsorted,
    lapply, mapply, match, mget, order, paste, pmax, pmax.int, pmin,
    pmin.int, rank, rbind, rownames, sapply, setdiff, sort, table,
    tapply, union, unique, unsplit, which.max, which.min

Loading required package: graph
Loading required package: Biobase
Welcome to Bioconductor

    Vignettes contain introductory material; view with
    'browseVignettes()'. To cite Bioconductor, see
    'citation("Biobase")', and for packages 'citation("pkgname")'.

Loading required package: GO.db
Loading required package: AnnotationDbi
Loading required package: stats4
Loading required package: IRanges
Loading required package: S4Vectors

Attaching package: 'S4Vectors'

The following object is masked from 'package:base':

    expand.grid


Attaching package: 'IRanges'

The following object is masked from 'package:grDevices':

    windows


Loading required package: SparseM

Attaching package: 'SparseM'

The following object is masked from 'package:base':

    backsolve


groupGOTerms: 	GOBPTerm, GOMFTerm, GOCCTerm environments built.

Attaching package: 'topGO'

The following object is masked from 'package:IRanges':

    members

Loading required package: tidyr

Attaching package: 'tidyr'

The following object is masked from 'package:S4Vectors':

    expand

The following object is masked from 'package:testthat':

    matches

> 
> Sys.setenv("R_TESTS" = "")
> test_check("BgeeDB")

Querying Bgee to get release information...

Building URL to query species in Bgee release 14_1...

Submitting URL to Bgee webservice... (https://r.bgee.org/bgee14_1/?page=r_package&action=get_all_species&display_type=tsv&source=BgeeDB_R_package&source_version=2.15.4)

Query to Bgee webservice successful!

API key built: 23e981704d78710c739704d563d02fa9c4e98098945c7172d995d773ec1b7bffb8624f5f934e49554dce0997cb79f475411d38759e2ff94b6ef8d9ab1cf9f856

Saved annotation files in C:/Users/biocbuild/bbs-3.12-bioc/meat/BgeeDB.Rcheck/tests_x64/testthat/Mus_musculus_Bgee_14_1 folder.

Extracting expression data matrix...
  Keeping only present genes.

Extracting features information...

Extracting samples information...

Extracting expression data matrix...
  Keeping only present genes.

Extracting features information...

Extracting samples information...

Extracting expression data matrix...
  Keeping only present genes.

Extracting features information...

Extracting samples information...

Querying Bgee to get release information...

Building URL to query species in Bgee release 13_2...

Submitting URL to Bgee webservice... (https://r.bgee.org/bgee13/?page=species&display_type=tsv&source=BgeeDB_R_package&source_version=2.15.4)

Query to Bgee webservice successful!

API key built: 23e981704d78710c739704d563d02fa9c4e98098945c7172d995d773ec1b7bffb8624f5f934e49554dce0997cb79f475411d38759e2ff94b6ef8d9ab1cf9f856

IMPORTANT INFORMATION: Be careful! You are not using the last release of the Bgee database! If it is not intentional you should update to the last version of Bioconductor and of the BgeeDB package. To update Bioconductor, see https://www.bioconductor.org/install/

Saved annotation files in C:/Users/biocbuild/bbs-3.12-bioc/meat/BgeeDB.Rcheck/tests_x64/testthat/Mus_musculus_Bgee_13_2 folder.

Extracting expression data matrix...
  Keeping only present genes.

Extracting features information...

Extracting samples information...

Extracting expression data matrix...
  Keeping only present genes.

Extracting features information...

Extracting samples information...

Querying Bgee to get release information...

NOTE: the file describing Bgee species information for release 14_1 was found in the download directory C:/Users/biocbuild/bbs-3.12-bioc/meat/BgeeDB.Rcheck/tests_x64/testthat. Data will not be redownloaded.

API key built: 23e981704d78710c739704d563d02fa9c4e98098945c7172d995d773ec1b7bffb8624f5f934e49554dce0997cb79f475411d38759e2ff94b6ef8d9ab1cf9f856

NOTE: annotation files for this species were found in the download directory C:/Users/biocbuild/bbs-3.12-bioc/meat/BgeeDB.Rcheck/tests_x64/testthat/Mus_musculus_Bgee_14_1. Data will not be redownloaded.

Querying Bgee to get release information...

NOTE: the file describing Bgee species information for release 14_1 was found in the download directory C:/Users/biocbuild/bbs-3.12-bioc/meat/BgeeDB.Rcheck/tests_x64/testthat. Data will not be redownloaded.

API key built: 23e981704d78710c739704d563d02fa9c4e98098945c7172d995d773ec1b7bffb8624f5f934e49554dce0997cb79f475411d38759e2ff94b6ef8d9ab1cf9f856

Saved annotation files in C:/Users/biocbuild/bbs-3.12-bioc/meat/BgeeDB.Rcheck/tests_x64/testthat/Mus_musculus_Bgee_14_1 folder.

Querying Bgee to get release information...

NOTE: the file describing Bgee species information for release 13_2 was found in the download directory C:/Users/biocbuild/bbs-3.12-bioc/meat/BgeeDB.Rcheck/tests_x64/testthat. Data will not be redownloaded.

API key built: 23e981704d78710c739704d563d02fa9c4e98098945c7172d995d773ec1b7bffb8624f5f934e49554dce0997cb79f475411d38759e2ff94b6ef8d9ab1cf9f856

IMPORTANT INFORMATION: Be careful! You are not using the last release of the Bgee database! If it is not intentional you should update to the last version of Bioconductor and of the BgeeDB package. To update Bioconductor, see https://www.bioconductor.org/install/

NOTE: annotation files for this species were found in the download directory C:/Users/biocbuild/bbs-3.12-bioc/meat/BgeeDB.Rcheck/tests_x64/testthat/Mus_musculus_Bgee_13_2. Data will not be redownloaded.

Querying Bgee to get release information...

NOTE: the file describing Bgee species information for release 13_2 was found in the download directory C:/Users/biocbuild/bbs-3.12-bioc/meat/BgeeDB.Rcheck/tests_x64/testthat. Data will not be redownloaded.

API key built: 23e981704d78710c739704d563d02fa9c4e98098945c7172d995d773ec1b7bffb8624f5f934e49554dce0997cb79f475411d38759e2ff94b6ef8d9ab1cf9f856

IMPORTANT INFORMATION: Be careful! You are not using the last release of the Bgee database! If it is not intentional you should update to the last version of Bioconductor and of the BgeeDB package. To update Bioconductor, see https://www.bioconductor.org/install/

Saved annotation files in C:/Users/biocbuild/bbs-3.12-bioc/meat/BgeeDB.Rcheck/tests_x64/testthat/Mus_musculus_Bgee_13_2 folder.

Querying Bgee to get release information...

Building URL to query species in Bgee release 14_1...

Submitting URL to Bgee webservice... (https://r.bgee.org/bgee14_1/?page=r_package&action=get_all_species&display_type=tsv&source=BgeeDB_R_package&source_version=2.15.4)

Query to Bgee webservice successful!

Querying Bgee to get release information...

Building URL to query species in Bgee release 14_1...

Submitting URL to Bgee webservice... (https://r.bgee.org/bgee14_1/?page=r_package&action=get_all_species&display_type=tsv&source=BgeeDB_R_package&source_version=2.15.4)

Query to Bgee webservice successful!

API key built: 23e981704d78710c739704d563d02fa9c4e98098945c7172d995d773ec1b7bffb8624f5f934e49554dce0997cb79f475411d38759e2ff94b6ef8d9ab1cf9f856

Building URLs to retrieve organ relationships from Bgee.........
   URL successfully built (https://r.bgee.org/bgee14_1/?page=r_package&action=get_anat_entity_relations&display_type=tsv&species_list=9913&attr_list=SOURCE_ID&attr_list=TARGET_ID&api_key=23e981704d78710c739704d563d02fa9c4e98098945c7172d995d773ec1b7bffb8624f5f934e49554dce0997cb79f475411d38759e2ff94b6ef8d9ab1cf9f856&source=BgeeDB_R_package&source_version=2.15.4)
   Submitting URL to Bgee webservice (can be long)
   Got results from Bgee webservice. Files are written in "C:/Users/biocbuild/bbs-3.12-bioc/meat/BgeeDB.Rcheck/tests_x64/testthat/Bos_taurus_Bgee_14_1"

Building URLs to retrieve organ names from Bgee.................
   URL successfully built (https://r.bgee.org/bgee14_1/?page=r_package&action=get_anat_entities&display_type=tsv&species_list=9913&attr_list=ID&attr_list=NAME&api_key=23e981704d78710c739704d563d02fa9c4e98098945c7172d995d773ec1b7bffb8624f5f934e49554dce0997cb79f475411d38759e2ff94b6ef8d9ab1cf9f856&source=BgeeDB_R_package&source_version=2.15.4)
   Submitting URL to Bgee webservice (can be long)
   Got results from Bgee webservice. Files are written in "C:/Users/biocbuild/bbs-3.12-bioc/meat/BgeeDB.Rcheck/tests_x64/testthat/Bos_taurus_Bgee_14_1"

Building URLs to retrieve mapping of gene to organs from Bgee...
   URL successfully built (https://r.bgee.org/bgee14_1/?page=r_package&action=get_expression_calls&display_type=tsv&species_list=9913&attr_list=GENE_ID&attr_list=ANAT_ENTITY_ID&api_key=23e981704d78710c739704d563d02fa9c4e98098945c7172d995d773ec1b7bffb8624f5f934e49554dce0997cb79f475411d38759e2ff94b6ef8d9ab1cf9f856&source=BgeeDB_R_package&source_version=2.15.4&data_type=RNA_SEQ&data_qual=SILVER&stage_id=UBERON:0000092)
   Submitting URL to Bgee webservice (can be long)
   Got results from Bgee webservice. Files are written in "C:/Users/biocbuild/bbs-3.12-bioc/meat/BgeeDB.Rcheck/tests_x64/testthat/Bos_taurus_Bgee_14_1"

Parsing the results.............................................

Adding BGEE:0 as unique root of all terms of the ontology.......

Done.

Querying Bgee to get release information...

NOTE: the file describing Bgee species information for release 14_1 was found in the download directory C:/Users/biocbuild/bbs-3.12-bioc/meat/BgeeDB.Rcheck/tests_x64/testthat. Data will not be redownloaded.

API key built: 23e981704d78710c739704d563d02fa9c4e98098945c7172d995d773ec1b7bffb8624f5f934e49554dce0997cb79f475411d38759e2ff94b6ef8d9ab1cf9f856

Saved annotation files in C:/Users/biocbuild/bbs-3.12-bioc/meat/BgeeDB.Rcheck/tests_x64/testthat/Drosophila_simulans_Bgee_14_1 folder.

Querying Bgee to get release information...

NOTE: the file describing Bgee species information for release 14_1 was found in the download directory C:/Users/biocbuild/bbs-3.12-bioc/meat/BgeeDB.Rcheck/tests_x64/testthat. Data will not be redownloaded.

API key built: 23e981704d78710c739704d563d02fa9c4e98098945c7172d995d773ec1b7bffb8624f5f934e49554dce0997cb79f475411d38759e2ff94b6ef8d9ab1cf9f856

NOTE: annotation files for this species were found in the download directory C:/Users/biocbuild/bbs-3.12-bioc/meat/BgeeDB.Rcheck/tests_x64/testthat/Mus_musculus_Bgee_14_1. Data will not be redownloaded.

Querying Bgee to get release information...

NOTE: the file describing Bgee species information for release 14_1 was found in the download directory C:/Users/biocbuild/bbs-3.12-bioc/meat/BgeeDB.Rcheck/tests_x64/testthat. Data will not be redownloaded.

API key built: 23e981704d78710c739704d563d02fa9c4e98098945c7172d995d773ec1b7bffb8624f5f934e49554dce0997cb79f475411d38759e2ff94b6ef8d9ab1cf9f856

NOTE: an organ relationships file was found in the download directory C:/Users/biocbuild/bbs-3.12-bioc/meat/BgeeDB.Rcheck/tests_x64/testthat/Bos_taurus_Bgee_14_1. Data will not be redownloaded.

NOTE: an organ names file was found in the download directory C:/Users/biocbuild/bbs-3.12-bioc/meat/BgeeDB.Rcheck/tests_x64/testthat/Bos_taurus_Bgee_14_1. Data will not be redownloaded.

NOTE: a gene to organs mapping file was found in the download directory C:/Users/biocbuild/bbs-3.12-bioc/meat/BgeeDB.Rcheck/tests_x64/testthat/Bos_taurus_Bgee_14_1. Data will not be redownloaded.

Parsing the results.............................................

Adding BGEE:0 as unique root of all terms of the ontology.......

Done.

Checking topAnatData object.............

Checking gene list......................

Building most specific Ontology terms...  (  14  Ontology terms found. )

Building DAG topology...................  (  145  Ontology terms and  211  relations. )

Annotating nodes (Can be long)..........  (  97  genes annotated to the Ontology terms. )
== testthat results  ===========================================================
[ OK: 32 | SKIPPED: 0 | WARNINGS: 0 | FAILED: 0 ]
> 
> proc.time()
   user  system elapsed 
  23.87    1.92   80.87 

Example timings

BgeeDB.Rcheck/examples_i386/BgeeDB-Ex.timings

nameusersystemelapsed
Bgee-class0.250.033.19
deleteLocalData0.020.000.63
deleteOldData0.030.000.63
formatData3.100.227.57
geneList12.39 0.6038.71
getAnnotation0.010.000.62
getData321.32 31.72450.19
listBgeeRelease0.000.020.71
listBgeeSpecies0.080.003.41
loadTopAnatData 1.31 0.0529.44
makeTable 11.22 1.39183.08
topAnat1.770.126.87

BgeeDB.Rcheck/examples_x64/BgeeDB-Ex.timings

nameusersystemelapsed
Bgee-class0.080.003.02
deleteLocalData0.010.000.64
deleteOldData0.010.000.62
formatData3.090.208.69
geneList18.35 0.7244.05
getAnnotation0.030.000.67
getData273.30 35.74405.34
listBgeeRelease0.010.000.77
listBgeeSpecies0.060.013.36
loadTopAnatData 2.13 0.1132.29
makeTable 9.66 1.00166.80
topAnat1.901.086.74