Back to Multiple platform build/check report for BioC 3.12
A[B]CDEFGHIJKLMNOPQRSTUVWXYZ

BUILD report for BaalChIP on merida1

This page was generated on 2020-08-12 12:00:17 -0400 (Wed, 12 Aug 2020).

TO THE DEVELOPERS/MAINTAINERS OF THE BaalChIP PACKAGE: Please make sure to use the following settings in order to reproduce any error or warning you see on this page.
Package 99/1885HostnameOS / ArchINSTALLBUILDCHECKBUILD BIN
BaalChIP 1.15.0
Ines de Santiago
Snapshot Date: 2020-08-11 14:50:16 -0400 (Tue, 11 Aug 2020)
URL: https://git.bioconductor.org/packages/BaalChIP
Branch: master
Last Commit: 53476ef
Last Changed Date: 2020-04-27 15:01:46 -0400 (Mon, 27 Apr 2020)
malbec1 Linux (Ubuntu 18.04.4 LTS) / x86_64  OK  OK  WARNINGS UNNEEDED, same version exists in internal repository
nebbiolo1 Linux (Ubuntu 20.04.1 LTS) / x86_64  OK  OK  WARNINGS 
tokay1 Windows Server 2012 R2 Standard / x64  OK  OK  WARNINGS  OK UNNEEDED, same version exists in internal repository
merida1 macOS 10.14.6 Mojave / x86_64  OK [ OK ] WARNINGS  OK UNNEEDED, same version exists in internal repository

Summary

Package: BaalChIP
Version: 1.15.0
Command: /Library/Frameworks/R.framework/Versions/Current/Resources/bin/R CMD build --keep-empty-dirs --no-resave-data BaalChIP
StartedAt: 2020-08-11 20:18:55 -0400 (Tue, 11 Aug 2020)
EndedAt: 2020-08-11 20:21:50 -0400 (Tue, 11 Aug 2020)
EllapsedTime: 175.3 seconds
RetCode: 0
Status:  OK 
PackageFile: BaalChIP_1.15.0.tar.gz
PackageFileSize: 44.67 MiB

Command output

##############################################################################
##############################################################################
###
### Running command:
###
###   /Library/Frameworks/R.framework/Versions/Current/Resources/bin/R CMD build --keep-empty-dirs --no-resave-data BaalChIP
###
##############################################################################
##############################################################################


* checking for file ‘BaalChIP/DESCRIPTION’ ... OK
* preparing ‘BaalChIP’:
* checking DESCRIPTION meta-information ... OK
* installing the package to build vignettes
* creating vignettes ... OK
* checking for LF line-endings in source and make files and shell scripts
* checking for empty or unneeded directories
* building ‘BaalChIP_1.15.0.tar.gz’