Back to Multiple platform build/check report for BioC 3.12
[A]BCDEFGHIJKLMNOPQRSTUVWXYZ

INSTALL report for affylmGUI on tokay1

This page was generated on 2020-08-13 11:33:58 -0400 (Thu, 13 Aug 2020).

TO THE DEVELOPERS/MAINTAINERS OF THE affylmGUI PACKAGE: Please make sure to use the following settings in order to reproduce any error or warning you see on this page.
Package 31/1885HostnameOS / ArchINSTALLBUILDCHECKBUILD BIN
affylmGUI 1.63.0
Gordon Smyth
Snapshot Date: 2020-08-12 14:52:00 -0400 (Wed, 12 Aug 2020)
URL: https://git.bioconductor.org/packages/affylmGUI
Branch: master
Last Commit: 4752dac
Last Changed Date: 2020-04-27 14:09:39 -0400 (Mon, 27 Apr 2020)
malbec1 Linux (Ubuntu 18.04.4 LTS) / x86_64  OK  OK  WARNINGS UNNEEDED, same version exists in internal repository
nebbiolo1 Linux (Ubuntu 20.04.1 LTS) / x86_64  OK  OK  OK 
tokay1 Windows Server 2012 R2 Standard / x64 [ OK ] OK  OK  OK UNNEEDED, same version exists in internal repository
merida1 macOS 10.14.6 Mojave / x86_64  OK  OK  OK  OK UNNEEDED, same version exists in internal repository

Summary

Package: affylmGUI
Version: 1.63.0
Command: C:\cygwin\bin\curl.exe -O https://malbec1.bioconductor.org/BBS/3.12/bioc/src/contrib/affylmGUI_1.63.0.tar.gz && rm -rf affylmGUI.buildbin-libdir && mkdir affylmGUI.buildbin-libdir && C:\Users\biocbuild\bbs-3.12-bioc\R\bin\R.exe CMD INSTALL --merge-multiarch --build --library=affylmGUI.buildbin-libdir affylmGUI_1.63.0.tar.gz && C:\Users\biocbuild\bbs-3.12-bioc\R\bin\R.exe CMD INSTALL affylmGUI_1.63.0.zip && rm affylmGUI_1.63.0.tar.gz affylmGUI_1.63.0.zip
StartedAt: 2020-08-12 17:09:57 -0400 (Wed, 12 Aug 2020)
EndedAt: 2020-08-12 17:11:42 -0400 (Wed, 12 Aug 2020)
EllapsedTime: 104.7 seconds
RetCode: 0
Status:  OK  

Command output

##############################################################################
##############################################################################
###
### Running command:
###
###   C:\cygwin\bin\curl.exe -O https://malbec1.bioconductor.org/BBS/3.12/bioc/src/contrib/affylmGUI_1.63.0.tar.gz && rm -rf affylmGUI.buildbin-libdir && mkdir affylmGUI.buildbin-libdir && C:\Users\biocbuild\bbs-3.12-bioc\R\bin\R.exe CMD INSTALL --merge-multiarch --build --library=affylmGUI.buildbin-libdir affylmGUI_1.63.0.tar.gz && C:\Users\biocbuild\bbs-3.12-bioc\R\bin\R.exe CMD INSTALL affylmGUI_1.63.0.zip && rm affylmGUI_1.63.0.tar.gz affylmGUI_1.63.0.zip
###
##############################################################################
##############################################################################


  % Total    % Received % Xferd  Average Speed   Time    Time     Time  Current
                                 Dload  Upload   Total   Spent    Left  Speed

  0     0    0     0    0     0      0      0 --:--:-- --:--:-- --:--:--     0
100 1612k  100 1612k    0     0  26.6M      0 --:--:-- --:--:-- --:--:-- 28.6M

install for i386

* installing *source* package 'affylmGUI' ...
** using staged installation
** R
** inst
** byte-compile and prepare package for lazy loading
** help
*** installing help indices
  converting help for package 'affylmGUI'
    finding HTML links ... done
    affylmGU-package                        html  
    finding level-2 HTML links ... done

    affylmGUI                               html  
    internal                                html  
** building package indices
** installing vignettes
   'affylmGUI.Rnw' 
   'extract.Rnw' 
** testing if installed package can be loaded from temporary location
** testing if installed package can be loaded from final location
** testing if installed package keeps a record of temporary installation path

install for x64

* installing *source* package 'affylmGUI' ...
** testing if installed package can be loaded
* MD5 sums
packaged installation of 'affylmGUI' as affylmGUI_1.63.0.zip
* DONE (affylmGUI)
* installing to library 'C:/Users/biocbuild/bbs-3.12-bioc/R/library'
package 'affylmGUI' successfully unpacked and MD5 sums checked