Back to Multiple platform build/check report for BioC 3.12
[A]BCDEFGHIJKLMNOPQRSTUVWXYZ

BUILD report for ADAMgui on malbec1

This page was generated on 2021-04-13 12:11:55 -0400 (Tue, 13 Apr 2021).

To the developers/maintainers of the ADAMgui package:
Please make sure to use the following settings in order to reproduce any error or warning you see on this page.
Package 17/1974HostnameOS / ArchINSTALLBUILDCHECKBUILD BIN
ADAMgui 1.6.0  (landing page)
Jose Luiz Rybarczyk Filho
Snapshot Date: 2021-04-12 14:51:46 -0400 (Mon, 12 Apr 2021)
URL: https://git.bioconductor.org/packages/ADAMgui
Branch: RELEASE_3_12
Last Commit: 75782fe
Last Changed Date: 2020-10-27 11:45:19 -0400 (Tue, 27 Oct 2020)
malbec1Linux (Ubuntu 18.04.5 LTS) / x86_64  OK    OK    OK  UNNEEDED, same version exists in internal repository
tokay1Windows Server 2012 R2 Standard / x64  OK    OK    OK    OK  UNNEEDED, same version exists in internal repository
merida1macOS 10.14.6 Mojave / x86_64  OK    OK    OK    OK  UNNEEDED, same version exists in internal repository

Summary

Package: ADAMgui
Version: 1.6.0
Command: /home/biocbuild/bbs-3.12-bioc/R/bin/R CMD build --keep-empty-dirs --no-resave-data ADAMgui
StartedAt: 2021-04-12 17:30:07 -0400 (Mon, 12 Apr 2021)
EndedAt: 2021-04-12 17:31:03 -0400 (Mon, 12 Apr 2021)
EllapsedTime: 56.1 seconds
RetCode: 0
Status:   OK  
PackageFile: ADAMgui_1.6.0.tar.gz
PackageFileSize: 1.953 MiB

Command output

##############################################################################
##############################################################################
###
### Running command:
###
###   /home/biocbuild/bbs-3.12-bioc/R/bin/R CMD build --keep-empty-dirs --no-resave-data ADAMgui
###
##############################################################################
##############################################################################


* checking for file ‘ADAMgui/DESCRIPTION’ ... OK
* preparing ‘ADAMgui’:
* checking DESCRIPTION meta-information ... OK
* installing the package to build vignettes
* creating vignettes ... OK
* checking for LF line-endings in source and make files and shell scripts
* checking for empty or unneeded directories
* looking to see if a ‘data/datalist’ file should be added
* building ‘ADAMgui_1.6.0.tar.gz’