Back to Multiple platform build/check report for BioC 3.12
[A]BCDEFGHIJKLMNOPQRSTUVWXYZ

BUILD BIN report for antiProfiles on tokay1

This page was generated on 2020-08-07 12:02:07 -0400 (Fri, 07 Aug 2020).

TO THE DEVELOPERS/MAINTAINERS OF THE antiProfiles PACKAGE: Please make sure to use the following settings in order to reproduce any error or warning you see on this page.
Package 68/1882HostnameOS / ArchINSTALLBUILDCHECKBUILD BIN
antiProfiles 1.29.0
Hector Corrada Bravo
Snapshot Date: 2020-08-06 14:50:46 -0400 (Thu, 06 Aug 2020)
URL: https://git.bioconductor.org/packages/antiProfiles
Branch: master
Last Commit: d37e7c1
Last Changed Date: 2020-04-27 14:34:13 -0400 (Mon, 27 Apr 2020)
malbec1 Linux (Ubuntu 18.04.4 LTS) / x86_64  OK  OK  OK UNNEEDED, same version exists in internal repository
tokay1 Windows Server 2012 R2 Standard / x64  OK  OK  OK [ OK ]UNNEEDED, same version exists in internal repository
merida1 macOS 10.14.6 Mojave / x86_64  OK  OK  OK  OK UNNEEDED, same version exists in internal repository

Summary

Package: antiProfiles
Version: 1.29.0
Command: rm -rf antiProfiles.buildbin-libdir && mkdir antiProfiles.buildbin-libdir && C:\Users\biocbuild\bbs-3.12-bioc\R\bin\R.exe CMD INSTALL --merge-multiarch --build --library=antiProfiles.buildbin-libdir antiProfiles_1.29.0.tar.gz
StartedAt: 2020-08-07 07:25:56 -0400 (Fri, 07 Aug 2020)
EndedAt: 2020-08-07 07:27:03 -0400 (Fri, 07 Aug 2020)
EllapsedTime: 66.5 seconds
RetCode: 0
Status:  OK  
PackageFile: antiProfiles_1.29.0.zip
PackageFileSize: 281.9 KiB

Command output

##############################################################################
##############################################################################
###
### Running command:
###
###   rm -rf antiProfiles.buildbin-libdir && mkdir antiProfiles.buildbin-libdir && C:\Users\biocbuild\bbs-3.12-bioc\R\bin\R.exe CMD INSTALL --merge-multiarch --build --library=antiProfiles.buildbin-libdir antiProfiles_1.29.0.tar.gz
###
##############################################################################
##############################################################################



install for i386

* installing *source* package 'antiProfiles' ...
** using staged installation
** R
** inst
** byte-compile and prepare package for lazy loading
** help
*** installing help indices
  converting help for package 'antiProfiles'
    finding HTML links ... done
    antiProfiles-package                    html  
    antiprofile-class                       html  
    antiprofilestats-class                  html  
    apCount-methods                         html  
    apReorder-methods                       html  
    apStats                                 html  
    buildAntiProfile-methods                html  
    ev                                      html  
    tissueSpecAntiprofile-class             html  
** building package indices
** installing vignettes
** testing if installed package can be loaded from temporary location
** testing if installed package can be loaded from final location
** testing if installed package keeps a record of temporary installation path

install for x64

* installing *source* package 'antiProfiles' ...
** testing if installed package can be loaded
* MD5 sums
packaged installation of 'antiProfiles' as antiProfiles_1.29.0.zip
* DONE (antiProfiles)