Back to Multiple platform build/check report for BioC 3.12
A[B]CDEFGHIJKLMNOPQRSTUVWXYZ

BUILD BIN report for BiocWorkflowTools on merida1

This page was generated on 2020-08-06 12:22:56 -0400 (Thu, 06 Aug 2020).

TO THE DEVELOPERS/MAINTAINERS OF THE BiocWorkflowTools PACKAGE: Please make sure to use the following settings in order to reproduce any error or warning you see on this page.
Package 165/1882HostnameOS / ArchINSTALLBUILDCHECKBUILD BIN
BiocWorkflowTools 1.15.0
Mike Smith
Snapshot Date: 2020-08-05 14:50:59 -0400 (Wed, 05 Aug 2020)
URL: https://git.bioconductor.org/packages/BiocWorkflowTools
Branch: master
Last Commit: 69240d4
Last Changed Date: 2020-04-27 15:01:39 -0400 (Mon, 27 Apr 2020)
malbec1 Linux (Ubuntu 18.04.4 LTS) / x86_64  OK  OK  OK UNNEEDED, same version exists in internal repository
tokay1 Windows Server 2012 R2 Standard / x64  OK  OK  OK  OK UNNEEDED, same version exists in internal repository
merida1 macOS 10.14.6 Mojave / x86_64  OK  OK  OK [ OK ]UNNEEDED, same version exists in internal repository

Summary

Package: BiocWorkflowTools
Version: 1.15.0
Command: rm -rf BiocWorkflowTools.buildbin-libdir && mkdir BiocWorkflowTools.buildbin-libdir && /Users/biocbuild/BBS/utils/build-universal.sh BiocWorkflowTools_1.15.0.tar.gz /Library/Frameworks/R.framework/Versions/Current/Resources/bin/R BiocWorkflowTools.buildbin-libdir
StartedAt: 2020-08-06 07:12:00 -0400 (Thu, 06 Aug 2020)
EndedAt: 2020-08-06 07:12:55 -0400 (Thu, 06 Aug 2020)
EllapsedTime: 55.4 seconds
RetCode: 0
Status:  OK 
PackageFile: BiocWorkflowTools_1.15.0.tgz
PackageFileSize: 689 KiB

Command output

##############################################################################
##############################################################################
###
### Running command:
###
###   rm -rf BiocWorkflowTools.buildbin-libdir && mkdir BiocWorkflowTools.buildbin-libdir && /Users/biocbuild/BBS/utils/build-universal.sh BiocWorkflowTools_1.15.0.tar.gz /Library/Frameworks/R.framework/Versions/Current/Resources/bin/R BiocWorkflowTools.buildbin-libdir
###
##############################################################################
##############################################################################


>>>>>>> 
>>>>>>> INSTALLATION WITH 'R CMD INSTALL --preclean --no-multiarch --library=BiocWorkflowTools.buildbin-libdir BiocWorkflowTools_1.15.0.tar.gz'
>>>>>>> 

* installing *source* package ‘BiocWorkflowTools’ ...
** using staged installation
** R
** inst
** byte-compile and prepare package for lazy loading
** help
*** installing help indices
** building package indices
** installing vignettes
** testing if installed package can be loaded from temporary location
** testing if installed package can be loaded from final location
** testing if installed package keeps a record of temporary installation path
* DONE (BiocWorkflowTools)