Back to Multiple platform build/check report for BioC 3.12
A[B]CDEFGHIJKLMNOPQRSTUVWXYZ

BUILD report for beadarraySNP on merida1

This page was generated on 2020-08-10 12:30:31 -0400 (Mon, 10 Aug 2020).

TO THE DEVELOPERS/MAINTAINERS OF THE beadarraySNP PACKAGE: Please make sure to use the following settings in order to reproduce any error or warning you see on this page.
Package 127/1882HostnameOS / ArchINSTALLBUILDCHECKBUILD BIN
beadarraySNP 1.55.0
Jan Oosting
Snapshot Date: 2020-08-09 14:51:29 -0400 (Sun, 09 Aug 2020)
URL: https://git.bioconductor.org/packages/beadarraySNP
Branch: master
Last Commit: 5922a97
Last Changed Date: 2020-04-27 14:13:54 -0400 (Mon, 27 Apr 2020)
malbec1 Linux (Ubuntu 18.04.4 LTS) / x86_64  OK  OK  OK UNNEEDED, same version exists in internal repository
nebbiolo1 Linux (Ubuntu 20.04.1 LTS) / x86_64  OK  OK  OK 
tokay1 Windows Server 2012 R2 Standard / x64  OK  OK  OK  OK UNNEEDED, same version exists in internal repository
merida1 macOS 10.14.6 Mojave / x86_64  OK [ OK ] OK  OK UNNEEDED, same version exists in internal repository

Summary

Package: beadarraySNP
Version: 1.55.0
Command: /Library/Frameworks/R.framework/Versions/Current/Resources/bin/R CMD build --keep-empty-dirs --no-resave-data beadarraySNP
StartedAt: 2020-08-09 17:59:52 -0400 (Sun, 09 Aug 2020)
EndedAt: 2020-08-09 18:00:16 -0400 (Sun, 09 Aug 2020)
EllapsedTime: 24.1 seconds
RetCode: 0
Status:  OK 
PackageFile: beadarraySNP_1.55.0.tar.gz
PackageFileSize: 639.5 KiB

Command output

##############################################################################
##############################################################################
###
### Running command:
###
###   /Library/Frameworks/R.framework/Versions/Current/Resources/bin/R CMD build --keep-empty-dirs --no-resave-data beadarraySNP
###
##############################################################################
##############################################################################


* checking for file ‘beadarraySNP/DESCRIPTION’ ... OK
* preparing ‘beadarraySNP’:
* checking DESCRIPTION meta-information ... OK
* installing the package to build vignettes
* creating vignettes ... OK
* checking for LF line-endings in source and make files and shell scripts
* checking for empty or unneeded directories
* looking to see if a ‘data/datalist’ file should be added
* building ‘beadarraySNP_1.55.0.tar.gz’