Back to Multiple platform build/check report for BioC 3.12
[A]BCDEFGHIJKLMNOPQRSTUVWXYZ

BUILD report for AnnotationForge on malbec1

This page was generated on 2020-08-09 11:19:40 -0400 (Sun, 09 Aug 2020).

TO THE DEVELOPERS/MAINTAINERS OF THE AnnotationForge PACKAGE: Please make sure to use the following settings in order to reproduce any error or warning you see on this page.
Package 60/1882HostnameOS / ArchINSTALLBUILDCHECKBUILD BIN
AnnotationForge 1.31.2
Bioconductor Package Maintainer
Snapshot Date: 2020-08-08 14:51:01 -0400 (Sat, 08 Aug 2020)
URL: https://git.bioconductor.org/packages/AnnotationForge
Branch: master
Last Commit: 7382b9a
Last Changed Date: 2020-06-01 17:00:58 -0400 (Mon, 01 Jun 2020)
malbec1 Linux (Ubuntu 18.04.4 LTS) / x86_64  OK [ OK ] OK UNNEEDED, same version exists in internal repository
nebbiolo1 Linux (Ubuntu 20.04.1 LTS) / x86_64  OK  ERROR  skipped 
tokay1 Windows Server 2012 R2 Standard / x64  OK  OK  OK  OK UNNEEDED, same version exists in internal repository
merida1 macOS 10.14.6 Mojave / x86_64  OK  OK  OK  OK UNNEEDED, same version exists in internal repository

Summary

Package: AnnotationForge
Version: 1.31.2
Command: /home/biocbuild/bbs-3.12-bioc/R/bin/R CMD build --keep-empty-dirs --no-resave-data AnnotationForge
StartedAt: 2020-08-08 18:21:14 -0400 (Sat, 08 Aug 2020)
EndedAt: 2020-08-08 18:25:11 -0400 (Sat, 08 Aug 2020)
EllapsedTime: 236.9 seconds
RetCode: 0
Status:  OK 
PackageFile: AnnotationForge_1.31.2.tar.gz
PackageFileSize: 3.705 MiB

Command output

##############################################################################
##############################################################################
###
### Running command:
###
###   /home/biocbuild/bbs-3.12-bioc/R/bin/R CMD build --keep-empty-dirs --no-resave-data AnnotationForge
###
##############################################################################
##############################################################################


* checking for file ‘AnnotationForge/DESCRIPTION’ ... OK
* preparing ‘AnnotationForge’:
* checking DESCRIPTION meta-information ... OK
* installing the package to build vignettes
* creating vignettes ... OK
* checking for LF line-endings in source and make files and shell scripts
* checking for empty or unneeded directories
WARNING: directory ‘AnnotationForge/inst/AnnDbPkg-templates/ARABIDOPSIS.DB/inst/extdata’ is empty
WARNING: directory ‘AnnotationForge/inst/AnnDbPkg-templates/ARABIDOPSISCHIP.DB/inst/extdata’ is empty
WARNING: directory ‘AnnotationForge/inst/AnnDbPkg-templates/BASEPKG.DB/inst/extdata’ is empty
WARNING: directory ‘AnnotationForge/inst/AnnDbPkg-templates/COELICOLOR.DB/inst/extdata’ is empty
WARNING: directory ‘AnnotationForge/inst/AnnDbPkg-templates/GO.DB/inst/extdata’ is empty
WARNING: directory ‘AnnotationForge/inst/AnnDbPkg-templates/INPARANOID.DB/inst/extdata’ is empty
WARNING: directory ‘AnnotationForge/inst/AnnDbPkg-templates/KEGG.DB/inst/extdata’ is empty
WARNING: directory ‘AnnotationForge/inst/AnnDbPkg-templates/MALARIA.DB/inst/extdata’ is empty
WARNING: directory ‘AnnotationForge/inst/AnnDbPkg-templates/NCBICHIP.DB/inst/extdata’ is empty
WARNING: directory ‘AnnotationForge/inst/AnnDbPkg-templates/NCBIORG.DB/inst/extdata’ is empty
WARNING: directory ‘AnnotationForge/inst/AnnDbPkg-templates/NOCHIPSCHEMA.DB/inst/extdata’ is empty
WARNING: directory ‘AnnotationForge/inst/AnnDbPkg-templates/NOSCHEMA.DB/inst/extdata’ is empty
WARNING: directory ‘AnnotationForge/inst/AnnDbPkg-templates/ORGANISM.DB/inst/extdata’ is empty
WARNING: directory ‘AnnotationForge/inst/AnnDbPkg-templates/PFAM.DB/inst/extdata’ is empty
WARNING: directory ‘AnnotationForge/inst/AnnDbPkg-templates/YEAST.DB/inst/extdata’ is empty
WARNING: directory ‘AnnotationForge/inst/AnnDbPkg-templates/YEASTCHIP.DB/inst/extdata’ is empty
WARNING: directory ‘AnnotationForge/inst/AnnDbPkg-templates/YEASTNCBI.DB/inst/extdata’ is empty
WARNING: directory ‘AnnotationForge/inst/ProbePkg-template/data’ is empty
  NB: this package now depends on R (>= 3.5.0)
  WARNING: Added dependency on R >= 3.5.0 because serialized objects in  serialize/load version 3 cannot be read in older versions of R.  File(s) containing such objects:  ‘AnnotationForge/inst/extdata/viableIDs.rda’
* building ‘AnnotationForge_1.31.2.tar.gz’