Back to Multiple platform build/check report for BioC 3.12
A[B]CDEFGHIJKLMNOPQRSTUVWXYZ

INSTALL report for brainflowprobes on merida1

This page was generated on 2020-08-14 11:24:03 -0400 (Fri, 14 Aug 2020).

TO THE DEVELOPERS/MAINTAINERS OF THE brainflowprobes PACKAGE: Please make sure to use the following settings in order to reproduce any error or warning you see on this page.
Package 192/1889HostnameOS / ArchINSTALLBUILDCHECKBUILD BIN
brainflowprobes 1.3.1
Amanda Price
Snapshot Date: 2020-08-13 14:54:37 -0400 (Thu, 13 Aug 2020)
URL: https://git.bioconductor.org/packages/brainflowprobes
Branch: master
Last Commit: 8556164
Last Changed Date: 2020-05-27 01:09:22 -0400 (Wed, 27 May 2020)
malbec1 Linux (Ubuntu 18.04.4 LTS) / x86_64  OK  OK  OK UNNEEDED, same version exists in internal repository
nebbiolo1 Linux (Ubuntu 20.04.1 LTS) / x86_64  OK  OK  OK 
tokay1 Windows Server 2012 R2 Standard / x64  OK  OK  OK  OK UNNEEDED, same version exists in internal repository
merida1 macOS 10.14.6 Mojave / x86_64 [ OK ] OK  OK  OK UNNEEDED, same version exists in internal repository

Summary

Package: brainflowprobes
Version: 1.3.1
Command: /Library/Frameworks/R.framework/Versions/Current/Resources/bin/R CMD INSTALL brainflowprobes
StartedAt: 2020-08-13 17:49:26 -0400 (Thu, 13 Aug 2020)
EndedAt: 2020-08-13 17:50:25 -0400 (Thu, 13 Aug 2020)
EllapsedTime: 59.0 seconds
RetCode: 0
Status:  OK 

Command output

##############################################################################
##############################################################################
###
### Running command:
###
###   /Library/Frameworks/R.framework/Versions/Current/Resources/bin/R CMD INSTALL brainflowprobes
###
##############################################################################
##############################################################################


* installing to library ‘/Library/Frameworks/R.framework/Versions/4.0/Resources/library’
* installing *source* package ‘brainflowprobes’ ...
** using staged installation
** R
** data
*** moving datasets to lazyload DB
** inst
** byte-compile and prepare package for lazy loading
No methods found in package ‘IRanges’ for request: ‘values<-’ when loading ‘derfinder’
No methods found in package ‘IRanges’ for request: ‘values’ when loading ‘derfinder’
** help
*** installing help indices
** building package indices
** installing vignettes
** testing if installed package can be loaded from temporary location
No methods found in package ‘IRanges’ for request: ‘values<-’ when loading ‘derfinder’
No methods found in package ‘IRanges’ for request: ‘values’ when loading ‘derfinder’
** testing if installed package can be loaded from final location
No methods found in package ‘IRanges’ for request: ‘values<-’ when loading ‘derfinder’
No methods found in package ‘IRanges’ for request: ‘values’ when loading ‘derfinder’
** testing if installed package keeps a record of temporary installation path
* DONE (brainflowprobes)