Back to Multiple platform build/check report for BioC 3.12
A[B]CDEFGHIJKLMNOPQRSTUVWXYZ

BUILD report for BADER on malbec1

This page was generated on 2020-08-06 11:34:02 -0400 (Thu, 06 Aug 2020).

TO THE DEVELOPERS/MAINTAINERS OF THE BADER PACKAGE: Please make sure to use the following settings in order to reproduce any error or warning you see on this page.
Package 102/1882HostnameOS / ArchINSTALLBUILDCHECKBUILD BIN
BADER 1.27.0
Andreas Neudecker
Snapshot Date: 2020-08-05 14:50:59 -0400 (Wed, 05 Aug 2020)
URL: https://git.bioconductor.org/packages/BADER
Branch: master
Last Commit: 46df1d0
Last Changed Date: 2020-04-27 14:36:18 -0400 (Mon, 27 Apr 2020)
malbec1 Linux (Ubuntu 18.04.4 LTS) / x86_64  OK [ OK ] OK UNNEEDED, same version exists in internal repository
tokay1 Windows Server 2012 R2 Standard / x64  OK  OK  OK  OK UNNEEDED, same version exists in internal repository
merida1 macOS 10.14.6 Mojave / x86_64  OK  OK  OK  OK UNNEEDED, same version exists in internal repository

Summary

Package: BADER
Version: 1.27.0
Command: /home/biocbuild/bbs-3.12-bioc/R/bin/R CMD build --keep-empty-dirs --no-resave-data BADER
StartedAt: 2020-08-05 18:29:43 -0400 (Wed, 05 Aug 2020)
EndedAt: 2020-08-05 18:29:58 -0400 (Wed, 05 Aug 2020)
EllapsedTime: 15.8 seconds
RetCode: 0
Status:  OK 
PackageFile: BADER_1.27.0.tar.gz
PackageFileSize: 178.4 KiB

Command output

##############################################################################
##############################################################################
###
### Running command:
###
###   /home/biocbuild/bbs-3.12-bioc/R/bin/R CMD build --keep-empty-dirs --no-resave-data BADER
###
##############################################################################
##############################################################################


* checking for file ‘BADER/DESCRIPTION’ ... OK
* preparing ‘BADER’:
* checking DESCRIPTION meta-information ... OK
* cleaning src
* installing the package to build vignettes
* creating vignettes ... OK
* cleaning src
* checking for LF line-endings in source and make files and shell scripts
* checking for empty or unneeded directories
* building ‘BADER_1.27.0.tar.gz’