Back to Multiple platform build/check report for BioC 3.12
[A]BCDEFGHIJKLMNOPQRSTUVWXYZ

INSTALL report for AnVIL on tokay1

This page was generated on 2020-08-09 12:20:24 -0400 (Sun, 09 Aug 2020).

TO THE DEVELOPERS/MAINTAINERS OF THE AnVIL PACKAGE: Please make sure to use the following settings in order to reproduce any error or warning you see on this page.
Package 69/1882HostnameOS / ArchINSTALLBUILDCHECKBUILD BIN
AnVIL 1.1.14
Martin Morgan
Snapshot Date: 2020-08-08 14:51:01 -0400 (Sat, 08 Aug 2020)
URL: https://git.bioconductor.org/packages/AnVIL
Branch: master
Last Commit: eb57fc7
Last Changed Date: 2020-07-07 09:49:59 -0400 (Tue, 07 Jul 2020)
malbec1 Linux (Ubuntu 18.04.4 LTS) / x86_64  OK  OK  OK UNNEEDED, same version exists in internal repository
nebbiolo1 Linux (Ubuntu 20.04.1 LTS) / x86_64  OK  OK  OK 
tokay1 Windows Server 2012 R2 Standard / x64 [ OK ] OK  OK  OK UNNEEDED, same version exists in internal repository
merida1 macOS 10.14.6 Mojave / x86_64  OK  OK  OK  OK UNNEEDED, same version exists in internal repository

Summary

Package: AnVIL
Version: 1.1.14
Command: C:\cygwin\bin\curl.exe -O https://malbec1.bioconductor.org/BBS/3.12/bioc/src/contrib/AnVIL_1.1.14.tar.gz && rm -rf AnVIL.buildbin-libdir && mkdir AnVIL.buildbin-libdir && C:\Users\biocbuild\bbs-3.12-bioc\R\bin\R.exe CMD INSTALL --merge-multiarch --build --library=AnVIL.buildbin-libdir AnVIL_1.1.14.tar.gz && C:\Users\biocbuild\bbs-3.12-bioc\R\bin\R.exe CMD INSTALL AnVIL_1.1.14.zip && rm AnVIL_1.1.14.tar.gz AnVIL_1.1.14.zip
StartedAt: 2020-08-08 17:27:08 -0400 (Sat, 08 Aug 2020)
EndedAt: 2020-08-08 17:27:41 -0400 (Sat, 08 Aug 2020)
EllapsedTime: 33.2 seconds
RetCode: 0
Status:  OK  

Command output

##############################################################################
##############################################################################
###
### Running command:
###
###   C:\cygwin\bin\curl.exe -O https://malbec1.bioconductor.org/BBS/3.12/bioc/src/contrib/AnVIL_1.1.14.tar.gz && rm -rf AnVIL.buildbin-libdir && mkdir AnVIL.buildbin-libdir && C:\Users\biocbuild\bbs-3.12-bioc\R\bin\R.exe CMD INSTALL --merge-multiarch --build --library=AnVIL.buildbin-libdir AnVIL_1.1.14.tar.gz && C:\Users\biocbuild\bbs-3.12-bioc\R\bin\R.exe CMD INSTALL AnVIL_1.1.14.zip && rm AnVIL_1.1.14.tar.gz AnVIL_1.1.14.zip
###
##############################################################################
##############################################################################


  % Total    % Received % Xferd  Average Speed   Time    Time     Time  Current
                                 Dload  Upload   Total   Spent    Left  Speed

  0     0    0     0    0     0      0      0 --:--:-- --:--:-- --:--:--     0
100  361k  100  361k    0     0  13.0M      0 --:--:-- --:--:-- --:--:-- 15.3M

install for i386

* installing *source* package 'AnVIL' ...
** using staged installation
** R
** inst
** byte-compile and prepare package for lazy loading
** help
*** installing help indices
  converting help for package 'AnVIL'
    finding HTML links ... done
    Response                                html  
    Service                                 html  
    Services                                html  
    av                                      html  
    gcloud                                  html  
    gsutil                                  html  
    localize                                html  
** building package indices
** installing vignettes
** testing if installed package can be loaded from temporary location
** testing if installed package can be loaded from final location
** testing if installed package keeps a record of temporary installation path

install for x64

* installing *source* package 'AnVIL' ...
** testing if installed package can be loaded
* MD5 sums
packaged installation of 'AnVIL' as AnVIL_1.1.14.zip
* DONE (AnVIL)
* installing to library 'C:/Users/biocbuild/bbs-3.12-bioc/R/library'
package 'AnVIL' successfully unpacked and MD5 sums checked