Back to Multiple platform build/check report for BioC 3.12
[A]BCDEFGHIJKLMNOPQRSTUVWXYZ

INSTALL report for AffyExpress on malbec1

This page was generated on 2020-10-14 11:08:19 -0400 (Wed, 14 Oct 2020).

TO THE DEVELOPERS/MAINTAINERS OF THE AffyExpress PACKAGE: Please make sure to use the following settings in order to reproduce any error or warning you see on this page.
Package 28/1930HostnameOS / ArchINSTALLBUILDCHECKBUILD BIN
AffyExpress 1.55.0
Xuejun Arthur Li
Snapshot Date: 2020-10-13 14:40:34 -0400 (Tue, 13 Oct 2020)
URL: https://git.bioconductor.org/packages/AffyExpress
Branch: master
Last Commit: 900fba3
Last Changed Date: 2020-04-27 14:15:41 -0400 (Mon, 27 Apr 2020)
malbec1 Linux (Ubuntu 18.04.4 LTS) / x86_64 [ OK ] OK  OK UNNEEDED, same version exists in internal repository
nebbiolo1 Linux (Ubuntu 20.04.1 LTS) / x86_64  OK  OK  OK 
tokay1 Windows Server 2012 R2 Standard / x64  OK  OK  OK  OK UNNEEDED, same version exists in internal repository
riesling1 Windows Server 2019 Standard / x64  OK  OK  OK  OK 
merida1 macOS 10.14.6 Mojave / x86_64  OK  OK  OK  OK UNNEEDED, same version exists in internal repository

Summary

Package: AffyExpress
Version: 1.55.0
Command: /home/biocbuild/bbs-3.12-bioc/R/bin/R CMD INSTALL AffyExpress
StartedAt: 2020-10-13 16:08:14 -0400 (Tue, 13 Oct 2020)
EndedAt: 2020-10-13 16:08:19 -0400 (Tue, 13 Oct 2020)
EllapsedTime: 5.6 seconds
RetCode: 0
Status:  OK 

Command output

##############################################################################
##############################################################################
###
### Running command:
###
###   /home/biocbuild/bbs-3.12-bioc/R/bin/R CMD INSTALL AffyExpress
###
##############################################################################
##############################################################################


* installing to library ‘/home/biocbuild/bbs-3.12-bioc/R/library’
* installing *source* package ‘AffyExpress’ ...
** using staged installation
** R
** data
** byte-compile and prepare package for lazy loading
** help
*** installing help indices
** building package indices
** installing vignettes
** testing if installed package can be loaded from temporary location
** testing if installed package can be loaded from final location
** testing if installed package keeps a record of temporary installation path
* DONE (AffyExpress)