Back to Multiple platform build/check report for BioC 3.12
A[B]CDEFGHIJKLMNOPQRSTUVWXYZ

INSTALL report for BayesKnockdown on tokay1

This page was generated on 2020-08-10 12:21:04 -0400 (Mon, 10 Aug 2020).

TO THE DEVELOPERS/MAINTAINERS OF THE BayesKnockdown PACKAGE: Please make sure to use the following settings in order to reproduce any error or warning you see on this page.
Package 118/1882HostnameOS / ArchINSTALLBUILDCHECKBUILD BIN
BayesKnockdown 1.15.0
William Chad Young
Snapshot Date: 2020-08-09 14:51:29 -0400 (Sun, 09 Aug 2020)
URL: https://git.bioconductor.org/packages/BayesKnockdown
Branch: master
Last Commit: 1ddb444
Last Changed Date: 2020-04-27 15:00:13 -0400 (Mon, 27 Apr 2020)
malbec1 Linux (Ubuntu 18.04.4 LTS) / x86_64  OK  OK  OK UNNEEDED, same version exists in internal repository
nebbiolo1 Linux (Ubuntu 20.04.1 LTS) / x86_64  OK  OK  OK 
tokay1 Windows Server 2012 R2 Standard / x64 [ OK ] OK  OK  OK UNNEEDED, same version exists in internal repository
merida1 macOS 10.14.6 Mojave / x86_64  OK  OK  OK  OK UNNEEDED, same version exists in internal repository

Summary

Package: BayesKnockdown
Version: 1.15.0
Command: C:\cygwin\bin\curl.exe -O https://malbec1.bioconductor.org/BBS/3.12/bioc/src/contrib/BayesKnockdown_1.15.0.tar.gz && rm -rf BayesKnockdown.buildbin-libdir && mkdir BayesKnockdown.buildbin-libdir && C:\Users\biocbuild\bbs-3.12-bioc\R\bin\R.exe CMD INSTALL --merge-multiarch --build --library=BayesKnockdown.buildbin-libdir BayesKnockdown_1.15.0.tar.gz && C:\Users\biocbuild\bbs-3.12-bioc\R\bin\R.exe CMD INSTALL BayesKnockdown_1.15.0.zip && rm BayesKnockdown_1.15.0.tar.gz BayesKnockdown_1.15.0.zip
StartedAt: 2020-08-09 16:43:49 -0400 (Sun, 09 Aug 2020)
EndedAt: 2020-08-09 16:44:17 -0400 (Sun, 09 Aug 2020)
EllapsedTime: 28.7 seconds
RetCode: 0
Status:  OK  

Command output

##############################################################################
##############################################################################
###
### Running command:
###
###   C:\cygwin\bin\curl.exe -O https://malbec1.bioconductor.org/BBS/3.12/bioc/src/contrib/BayesKnockdown_1.15.0.tar.gz && rm -rf BayesKnockdown.buildbin-libdir && mkdir BayesKnockdown.buildbin-libdir && C:\Users\biocbuild\bbs-3.12-bioc\R\bin\R.exe CMD INSTALL --merge-multiarch --build --library=BayesKnockdown.buildbin-libdir BayesKnockdown_1.15.0.tar.gz && C:\Users\biocbuild\bbs-3.12-bioc\R\bin\R.exe CMD INSTALL BayesKnockdown_1.15.0.zip && rm BayesKnockdown_1.15.0.tar.gz BayesKnockdown_1.15.0.zip
###
##############################################################################
##############################################################################


  % Total    % Received % Xferd  Average Speed   Time    Time     Time  Current
                                 Dload  Upload   Total   Spent    Left  Speed

  0     0    0     0    0     0      0      0 --:--:-- --:--:-- --:--:--     0
100 12878  100 12878    0     0   400k      0 --:--:-- --:--:-- --:--:--  465k

install for i386

* installing *source* package 'BayesKnockdown' ...
** using staged installation
** R
** data
*** moving datasets to lazyload DB
** byte-compile and prepare package for lazy loading
** help
*** installing help indices
  converting help for package 'BayesKnockdown'
    finding HTML links ... done
    BayesKnockdown                          html  
    BayesKnockdown.diffExp                  html  
    BayesKnockdown.es                       html  
    lincs.kd                                html  
** building package indices
** installing vignettes
** testing if installed package can be loaded from temporary location
** testing if installed package can be loaded from final location
** testing if installed package keeps a record of temporary installation path

install for x64

* installing *source* package 'BayesKnockdown' ...
** testing if installed package can be loaded
* MD5 sums
packaged installation of 'BayesKnockdown' as BayesKnockdown_1.15.0.zip
* DONE (BayesKnockdown)
* installing to library 'C:/Users/biocbuild/bbs-3.12-bioc/R/library'
package 'BayesKnockdown' successfully unpacked and MD5 sums checked