Back to Multiple platform build/check report for BioC 3.12
[A]BCDEFGHIJKLMNOPQRSTUVWXYZ

BUILD BIN report for anota on tokay1

This page was generated on 2020-08-06 11:53:27 -0400 (Thu, 06 Aug 2020).

TO THE DEVELOPERS/MAINTAINERS OF THE anota PACKAGE: Please make sure to use the following settings in order to reproduce any error or warning you see on this page.
Package 66/1882HostnameOS / ArchINSTALLBUILDCHECKBUILD BIN
anota 1.37.0
Ola Larsson
Snapshot Date: 2020-08-05 14:50:59 -0400 (Wed, 05 Aug 2020)
URL: https://git.bioconductor.org/packages/anota
Branch: master
Last Commit: e5ea588
Last Changed Date: 2020-04-27 14:25:34 -0400 (Mon, 27 Apr 2020)
malbec1 Linux (Ubuntu 18.04.4 LTS) / x86_64  OK  OK  OK UNNEEDED, same version exists in internal repository
tokay1 Windows Server 2012 R2 Standard / x64  OK  OK  OK [ OK ]UNNEEDED, same version exists in internal repository
merida1 macOS 10.14.6 Mojave / x86_64  OK  OK  OK  OK UNNEEDED, same version exists in internal repository

Summary

Package: anota
Version: 1.37.0
Command: rm -rf anota.buildbin-libdir && mkdir anota.buildbin-libdir && C:\Users\biocbuild\bbs-3.12-bioc\R\bin\R.exe CMD INSTALL --merge-multiarch --build --library=anota.buildbin-libdir anota_1.37.0.tar.gz
StartedAt: 2020-08-06 07:22:33 -0400 (Thu, 06 Aug 2020)
EndedAt: 2020-08-06 07:23:25 -0400 (Thu, 06 Aug 2020)
EllapsedTime: 51.6 seconds
RetCode: 0
Status:  OK  
PackageFile: anota_1.37.0.zip
PackageFileSize: 629.7 KiB

Command output

##############################################################################
##############################################################################
###
### Running command:
###
###   rm -rf anota.buildbin-libdir && mkdir anota.buildbin-libdir && C:\Users\biocbuild\bbs-3.12-bioc\R\bin\R.exe CMD INSTALL --merge-multiarch --build --library=anota.buildbin-libdir anota_1.37.0.tar.gz
###
##############################################################################
##############################################################################



install for i386

* installing *source* package 'anota' ...
** using staged installation
** R
** data
*** moving datasets to lazyload DB
** inst
** byte-compile and prepare package for lazy loading
** help
*** installing help indices
  converting help for package 'anota'
    finding HTML links ... done
    anotaDataSet                            html  
    anotaGetSigGenes                        html  
    anotaPerformQc                          html  
    anotaPlotSigGenes                       html  
    anotaResidOutlierTest                   html  
** building package indices
** installing vignettes
** testing if installed package can be loaded from temporary location
** testing if installed package can be loaded from final location
** testing if installed package keeps a record of temporary installation path

install for x64

* installing *source* package 'anota' ...
** testing if installed package can be loaded
* MD5 sums
packaged installation of 'anota' as anota_1.37.0.zip
* DONE (anota)