Back to Multiple platform build/check report for BioC 3.12
[A]BCDEFGHIJKLMNOPQRSTUVWXYZ

BUILD report for AssessORF on merida1

This page was generated on 2020-08-12 12:03:40 -0400 (Wed, 12 Aug 2020).

TO THE DEVELOPERS/MAINTAINERS OF THE AssessORF PACKAGE: Please make sure to use the following settings in order to reproduce any error or warning you see on this page.
Package 90/1885HostnameOS / ArchINSTALLBUILDCHECKBUILD BIN
AssessORF 1.7.0
Deepank Korandla
Snapshot Date: 2020-08-11 14:50:16 -0400 (Tue, 11 Aug 2020)
URL: https://git.bioconductor.org/packages/AssessORF
Branch: master
Last Commit: aa30dab
Last Changed Date: 2020-04-27 15:21:14 -0400 (Mon, 27 Apr 2020)
malbec1 Linux (Ubuntu 18.04.4 LTS) / x86_64  OK  OK  OK UNNEEDED, same version exists in internal repository
nebbiolo1 Linux (Ubuntu 20.04.1 LTS) / x86_64  OK  OK  OK 
tokay1 Windows Server 2012 R2 Standard / x64  OK  OK  OK  OK UNNEEDED, same version exists in internal repository
merida1 macOS 10.14.6 Mojave / x86_64  OK [ OK ] OK  OK UNNEEDED, same version exists in internal repository

Summary

Package: AssessORF
Version: 1.7.0
Command: /Library/Frameworks/R.framework/Versions/Current/Resources/bin/R CMD build --keep-empty-dirs --no-resave-data AssessORF
StartedAt: 2020-08-11 21:19:04 -0400 (Tue, 11 Aug 2020)
EndedAt: 2020-08-11 21:20:03 -0400 (Tue, 11 Aug 2020)
EllapsedTime: 58.8 seconds
RetCode: 0
Status:  OK 
PackageFile: AssessORF_1.7.0.tar.gz
PackageFileSize: 4.615 MiB

Command output

##############################################################################
##############################################################################
###
### Running command:
###
###   /Library/Frameworks/R.framework/Versions/Current/Resources/bin/R CMD build --keep-empty-dirs --no-resave-data AssessORF
###
##############################################################################
##############################################################################


* checking for file ‘AssessORF/DESCRIPTION’ ... OK
* preparing ‘AssessORF’:
* checking DESCRIPTION meta-information ... OK
* installing the package to build vignettes
* creating vignettes ... OK
* checking for LF line-endings in source and make files and shell scripts
* checking for empty or unneeded directories
* building ‘AssessORF_1.7.0.tar.gz’