Back to Multiple platform build/check report for BioC 3.12
[A]BCDEFGHIJKLMNOPQRSTUVWXYZ

INSTALL report for affyILM on malbec1

This page was generated on 2020-08-13 11:13:47 -0400 (Thu, 13 Aug 2020).

TO THE DEVELOPERS/MAINTAINERS OF THE affyILM PACKAGE: Please make sure to use the following settings in order to reproduce any error or warning you see on this page.
Package 29/1885HostnameOS / ArchINSTALLBUILDCHECKBUILD BIN
affyILM 1.41.0
Myriam Kroll and Fabrice Berger
Snapshot Date: 2020-08-12 14:52:00 -0400 (Wed, 12 Aug 2020)
URL: https://git.bioconductor.org/packages/affyILM
Branch: master
Last Commit: 161cc40
Last Changed Date: 2020-04-27 14:22:18 -0400 (Mon, 27 Apr 2020)
malbec1 Linux (Ubuntu 18.04.4 LTS) / x86_64 [ OK ] OK  OK UNNEEDED, same version exists in internal repository
nebbiolo1 Linux (Ubuntu 20.04.1 LTS) / x86_64  OK  OK  OK 
tokay1 Windows Server 2012 R2 Standard / x64  OK  OK  OK  OK UNNEEDED, same version exists in internal repository
merida1 macOS 10.14.6 Mojave / x86_64  OK  OK  OK  OK UNNEEDED, same version exists in internal repository

Summary

Package: affyILM
Version: 1.41.0
Command: /home/biocbuild/bbs-3.12-bioc/R/bin/R CMD INSTALL affyILM
StartedAt: 2020-08-12 16:15:07 -0400 (Wed, 12 Aug 2020)
EndedAt: 2020-08-12 16:15:19 -0400 (Wed, 12 Aug 2020)
EllapsedTime: 12.1 seconds
RetCode: 0
Status:  OK 

Command output

##############################################################################
##############################################################################
###
### Running command:
###
###   /home/biocbuild/bbs-3.12-bioc/R/bin/R CMD INSTALL affyILM
###
##############################################################################
##############################################################################


* installing to library ‘/home/biocbuild/bbs-3.12-bioc/R/library’
* installing *source* package ‘affyILM’ ...
** using staged installation
** R
** byte-compile and prepare package for lazy loading
** help
*** installing help indices
** building package indices
** installing vignettes
** testing if installed package can be loaded from temporary location
** testing if installed package can be loaded from final location
** testing if installed package keeps a record of temporary installation path
* DONE (affyILM)