Back to Multiple platform build/check report for BioC 3.12 |
|
This page was generated on 2021-05-06 12:32:05 -0400 (Thu, 06 May 2021).
To the developers/maintainers of the macat package: Please make sure to use the following settings in order to reproduce any error or warning you see on this page. |
Package 984/1974 | Hostname | OS / Arch | INSTALL | BUILD | CHECK | BUILD BIN | ||||||||
macat 1.64.0 (landing page) Joern Toedling
| malbec1 | Linux (Ubuntu 18.04.5 LTS) / x86_64 | OK | OK | OK | |||||||||
tokay1 | Windows Server 2012 R2 Standard / x64 | OK | OK | OK | OK | |||||||||
merida1 | macOS 10.14.6 Mojave / x86_64 | OK | OK | OK | OK | |||||||||
Package: macat |
Version: 1.64.0 |
Command: rm -rf macat.buildbin-libdir && mkdir macat.buildbin-libdir && C:\Users\biocbuild\bbs-3.12-bioc\R\bin\R.exe CMD INSTALL --merge-multiarch --build --library=macat.buildbin-libdir macat_1.64.0.tar.gz |
StartedAt: 2021-05-06 09:25:28 -0400 (Thu, 06 May 2021) |
EndedAt: 2021-05-06 09:26:09 -0400 (Thu, 06 May 2021) |
EllapsedTime: 41.6 seconds |
RetCode: 0 |
Status: OK |
PackageFile: macat_1.64.0.zip |
PackageFileSize: 988.3 KiB |
############################################################################## ############################################################################## ### ### Running command: ### ### rm -rf macat.buildbin-libdir && mkdir macat.buildbin-libdir && C:\Users\biocbuild\bbs-3.12-bioc\R\bin\R.exe CMD INSTALL --merge-multiarch --build --library=macat.buildbin-libdir macat_1.64.0.tar.gz ### ############################################################################## ############################################################################## install for i386 * installing *source* package 'macat' ... ** using staged installation ** R ** data ** demo ** inst ** byte-compile and prepare package for lazy loading ** help *** installing help indices converting help for package 'macat' finding HTML links ... done buildMACAT html compute_sliding html discreteKernelize html discretize html discretizeAll html discretize_tscores html evalScoring html evaluateParameters html get_results html html html kernelize html kernelizeAll html kernelizeToPython html kernels html loaddatapkg html macat-internal html plot_MACATevalScoring html preprocessedLoader html pythondata html scoring html stjd html ** building package indices ** installing vignettes ** testing if installed package can be loaded from temporary location ** testing if installed package can be loaded from final location ** testing if installed package keeps a record of temporary installation path install for x64 * installing *source* package 'macat' ... ** testing if installed package can be loaded * MD5 sums packaged installation of 'macat' as macat_1.64.0.zip * DONE (macat)