Back to Multiple platform build/check report for BioC 3.12
A[B]CDEFGHIJKLMNOPQRSTUVWXYZ

INSTALL report for biobtreeR on tokay1

This page was generated on 2020-08-10 12:27:55 -0400 (Mon, 10 Aug 2020).

TO THE DEVELOPERS/MAINTAINERS OF THE biobtreeR PACKAGE: Please make sure to use the following settings in order to reproduce any error or warning you see on this page.
Package 146/1882HostnameOS / ArchINSTALLBUILDCHECKBUILD BIN
biobtreeR 1.1.0
Tamer Gur
Snapshot Date: 2020-08-09 14:51:29 -0400 (Sun, 09 Aug 2020)
URL: https://git.bioconductor.org/packages/biobtreeR
Branch: master
Last Commit: aa78b02
Last Changed Date: 2020-05-19 07:05:00 -0400 (Tue, 19 May 2020)
malbec1 Linux (Ubuntu 18.04.4 LTS) / x86_64  OK  OK  OK UNNEEDED, same version exists in internal repository
nebbiolo1 Linux (Ubuntu 20.04.1 LTS) / x86_64  OK  OK  OK 
tokay1 Windows Server 2012 R2 Standard / x64 [ OK ] OK  OK  OK UNNEEDED, same version exists in internal repository
merida1 macOS 10.14.6 Mojave / x86_64  OK  OK  OK  OK UNNEEDED, same version exists in internal repository

Summary

Package: biobtreeR
Version: 1.1.0
Command: C:\cygwin\bin\curl.exe -O https://malbec1.bioconductor.org/BBS/3.12/bioc/src/contrib/biobtreeR_1.1.0.tar.gz && rm -rf biobtreeR.buildbin-libdir && mkdir biobtreeR.buildbin-libdir && C:\Users\biocbuild\bbs-3.12-bioc\R\bin\R.exe CMD INSTALL --merge-multiarch --build --library=biobtreeR.buildbin-libdir biobtreeR_1.1.0.tar.gz && C:\Users\biocbuild\bbs-3.12-bioc\R\bin\R.exe CMD INSTALL biobtreeR_1.1.0.zip && rm biobtreeR_1.1.0.tar.gz biobtreeR_1.1.0.zip
StartedAt: 2020-08-09 16:47:38 -0400 (Sun, 09 Aug 2020)
EndedAt: 2020-08-09 16:48:20 -0400 (Sun, 09 Aug 2020)
EllapsedTime: 42.2 seconds
RetCode: 0
Status:  OK  

Command output

##############################################################################
##############################################################################
###
### Running command:
###
###   C:\cygwin\bin\curl.exe -O https://malbec1.bioconductor.org/BBS/3.12/bioc/src/contrib/biobtreeR_1.1.0.tar.gz && rm -rf biobtreeR.buildbin-libdir && mkdir biobtreeR.buildbin-libdir && C:\Users\biocbuild\bbs-3.12-bioc\R\bin\R.exe CMD INSTALL --merge-multiarch --build --library=biobtreeR.buildbin-libdir biobtreeR_1.1.0.tar.gz && C:\Users\biocbuild\bbs-3.12-bioc\R\bin\R.exe CMD INSTALL biobtreeR_1.1.0.zip && rm biobtreeR_1.1.0.tar.gz biobtreeR_1.1.0.zip
###
##############################################################################
##############################################################################


  % Total    % Received % Xferd  Average Speed   Time    Time     Time  Current
                                 Dload  Upload   Total   Spent    Left  Speed

  0     0    0     0    0     0      0      0 --:--:-- --:--:-- --:--:--     0
100  641k  100  641k    0     0  4758k      0 --:--:-- --:--:-- --:--:-- 4896k

install for i386

* installing *source* package 'biobtreeR' ...
** using staged installation
** R
** inst
** byte-compile and prepare package for lazy loading
** help
*** installing help indices
  converting help for package 'biobtreeR'
    finding HTML links ... done
    bbBuildCustomDB                         html  
    bbBuiltInDB                             html  
    bbConfig-class                          html  
    bbEntry                                 html  
    bbEntryFilter                           html  
    bbEntryPage                             html  
    bbListAttrs                             html  
    bbListDatasets                          html  
    bbMapping                               html  
    bbSearch                                html  
    bbStart                                 html  
    bbStop                                  html  
    bbUseOutDir                             html  
** building package indices
** installing vignettes
** testing if installed package can be loaded from temporary location
** testing if installed package can be loaded from final location
** testing if installed package keeps a record of temporary installation path

install for x64

* installing *source* package 'biobtreeR' ...
** testing if installed package can be loaded
* MD5 sums
packaged installation of 'biobtreeR' as biobtreeR_1.1.0.zip
* DONE (biobtreeR)
* installing to library 'C:/Users/biocbuild/bbs-3.12-bioc/R/library'
package 'biobtreeR' successfully unpacked and MD5 sums checked