Back to Multiple platform build/check report for BioC 3.12
ABCDEFGHIJKLMNOPQ[R]STUVWXYZ

BUILD report for R4RNA on malbec1

This page was generated on 2021-01-19 11:52:31 -0500 (Tue, 19 Jan 2021).

TO THE DEVELOPERS/MAINTAINERS OF THE R4RNA PACKAGE: Please make sure to use the following settings in order to reproduce any error or warning you see on this page.
Package 1444/1974HostnameOS / ArchINSTALLBUILDCHECKBUILD BIN
R4RNA 1.18.0
Daniel Lai
Snapshot Date: 2021-01-18 14:42:24 -0500 (Mon, 18 Jan 2021)
URL: https://git.bioconductor.org/packages/R4RNA
Branch: RELEASE_3_12
Last Commit: c4de6f4
Last Changed Date: 2020-10-27 11:09:24 -0500 (Tue, 27 Oct 2020)
malbec1 Linux (Ubuntu 18.04.5 LTS) / x86_64  OK [ OK ] OK UNNEEDED, same version exists in internal repository
nebbiolo1 Linux (Ubuntu 20.04.1 LTS) / x86_64  OK  OK  OK 
tokay1 Windows Server 2012 R2 Standard / x64  OK  OK  OK  OK UNNEEDED, same version exists in internal repository
merida1 macOS 10.14.6 Mojave / x86_64  OK  OK  OK  OK UNNEEDED, same version exists in internal repository

Summary

Package: R4RNA
Version: 1.18.0
Command: /home/biocbuild/bbs-3.12-bioc/R/bin/R CMD build --keep-empty-dirs --no-resave-data R4RNA
StartedAt: 2021-01-18 21:45:18 -0500 (Mon, 18 Jan 2021)
EndedAt: 2021-01-18 21:45:37 -0500 (Mon, 18 Jan 2021)
EllapsedTime: 18.5 seconds
RetCode: 0
Status:  OK 
PackageFile: R4RNA_1.18.0.tar.gz
PackageFileSize: 835.9 KiB

Command output

##############################################################################
##############################################################################
###
### Running command:
###
###   /home/biocbuild/bbs-3.12-bioc/R/bin/R CMD build --keep-empty-dirs --no-resave-data R4RNA
###
##############################################################################
##############################################################################


* checking for file ‘R4RNA/DESCRIPTION’ ... OK
* preparing ‘R4RNA’:
* checking DESCRIPTION meta-information ... OK
* installing the package to build vignettes
* creating vignettes ... OK
* checking for LF line-endings in source and make files and shell scripts
* checking for empty or unneeded directories
* looking to see if a ‘data/datalist’ file should be added
* building ‘R4RNA_1.18.0.tar.gz’