Back to Multiple platform build/check report for BioC 3.12
AB[C]DEFGHIJKLMNOPQRSTUVWXYZ

INSTALL report for ChemmineOB on merida1

This page was generated on 2020-08-06 12:17:52 -0400 (Thu, 06 Aug 2020).

TO THE DEVELOPERS/MAINTAINERS OF THE ChemmineOB PACKAGE: Please make sure to use the following settings in order to reproduce any error or warning you see on this page.
Package 263/1882HostnameOS / ArchINSTALLBUILDCHECKBUILD BIN
ChemmineOB 1.27.1
Thomas Girke
Snapshot Date: 2020-08-05 14:50:59 -0400 (Wed, 05 Aug 2020)
URL: https://git.bioconductor.org/packages/ChemmineOB
Branch: master
Last Commit: 07550fb
Last Changed Date: 2020-05-06 18:39:47 -0400 (Wed, 06 May 2020)
malbec1 Linux (Ubuntu 18.04.4 LTS) / x86_64  ERROR  ERROR  skipped 
tokay1 Windows Server 2012 R2 Standard / x64  ERROR  ERROR  skipped  skipped 
merida1 macOS 10.14.6 Mojave / x86_64 [ ERROR ] ERROR  skipped  skipped 

Summary

Package: ChemmineOB
Version: 1.27.1
Command: /Library/Frameworks/R.framework/Versions/Current/Resources/bin/R CMD INSTALL ChemmineOB
StartedAt: 2020-08-05 16:14:20 -0400 (Wed, 05 Aug 2020)
EndedAt: 2020-08-05 16:15:06 -0400 (Wed, 05 Aug 2020)
EllapsedTime: 46.5 seconds
RetCode: 1
Status:  ERROR 

Command output

##############################################################################
##############################################################################
###
### Running command:
###
###   /Library/Frameworks/R.framework/Versions/Current/Resources/bin/R CMD INSTALL ChemmineOB
###
##############################################################################
##############################################################################


* installing to library ‘/Library/Frameworks/R.framework/Versions/4.0/Resources/library’
* installing *source* package ‘ChemmineOB’ ...
** using staged installation
checking for pkg-config... no
checking for OPENBABEL... no
checking for OPENBABEL... no
checking for gcc... clang -mmacosx-version-min=10.13
checking whether the C compiler works... yes
checking for C compiler default output file name... a.out
checking for suffix of executables... 
checking whether we are cross compiling... no
checking for suffix of object files... o
checking whether we are using the GNU C compiler... yes
checking whether clang -mmacosx-version-min=10.13 accepts -g... yes
checking for clang -mmacosx-version-min=10.13 option to accept ISO C89... none needed
checking how to run the C preprocessor... clang -mmacosx-version-min=10.13 -E
configure: creating ./config.status
config.status: creating src/Makevars
** libs
clang++ -mmacosx-version-min=10.13 -std=gnu++11 -I"/Library/Frameworks/R.framework/Resources/include" -DNDEBUG  -I'/Library/Frameworks/R.framework/Versions/4.0/Resources/library/BH/include' -I'/Library/Frameworks/R.framework/Versions/4.0/Resources/library/Rcpp/include' -I/usr/local/include  -I/usr/include/eigen3  -DUSE_BOOST -DHAVE_EIGEN -fPIC  -Wall -g -O2  -c ChemmineOB.cpp -o ChemmineOB.o
ChemmineOB.cpp:1569:10: fatal error: 'openbabel/obutil.h' file not found
#include <openbabel/obutil.h>
         ^~~~~~~~~~~~~~~~~~~~
1 error generated.
make: *** [ChemmineOB.o] Error 1
ERROR: compilation failed for package ‘ChemmineOB’
* removing ‘/Library/Frameworks/R.framework/Versions/4.0/Resources/library/ChemmineOB’