Back to Multiple platform build/check report for BioC 3.12
[A]BCDEFGHIJKLMNOPQRSTUVWXYZ

BUILD report for annmap on merida1

This page was generated on 2020-08-13 11:50:35 -0400 (Thu, 13 Aug 2020).

TO THE DEVELOPERS/MAINTAINERS OF THE annmap PACKAGE: Please make sure to use the following settings in order to reproduce any error or warning you see on this page.
Package 56/1885HostnameOS / ArchINSTALLBUILDCHECKBUILD BIN
annmap 1.31.0
Chris Wirth
Snapshot Date: 2020-08-12 14:52:00 -0400 (Wed, 12 Aug 2020)
URL: https://git.bioconductor.org/packages/annmap
Branch: master
Last Commit: f46c02a
Last Changed Date: 2020-04-27 14:29:55 -0400 (Mon, 27 Apr 2020)
malbec1 Linux (Ubuntu 18.04.4 LTS) / x86_64  OK  OK  WARNINGS UNNEEDED, same version exists in internal repository
nebbiolo1 Linux (Ubuntu 20.04.1 LTS) / x86_64  OK  OK  WARNINGS 
tokay1 Windows Server 2012 R2 Standard / x64 ...NOT SUPPORTED...
merida1 macOS 10.14.6 Mojave / x86_64  OK [ OK ] WARNINGS  OK UNNEEDED, same version exists in internal repository

Summary

Package: annmap
Version: 1.31.0
Command: /Library/Frameworks/R.framework/Versions/Current/Resources/bin/R CMD build --keep-empty-dirs --no-resave-data annmap
StartedAt: 2020-08-12 18:43:31 -0400 (Wed, 12 Aug 2020)
EndedAt: 2020-08-12 18:44:21 -0400 (Wed, 12 Aug 2020)
EllapsedTime: 49.7 seconds
RetCode: 0
Status:  OK 
PackageFile: annmap_1.31.0.tar.gz
PackageFileSize: 889.3 KiB

Command output

##############################################################################
##############################################################################
###
### Running command:
###
###   /Library/Frameworks/R.framework/Versions/Current/Resources/bin/R CMD build --keep-empty-dirs --no-resave-data annmap
###
##############################################################################
##############################################################################


* checking for file ‘annmap/DESCRIPTION’ ... OK
* preparing ‘annmap’:
* checking DESCRIPTION meta-information ... OK
* installing the package to build vignettes
* creating vignettes ... OK
* checking for LF line-endings in source and make files and shell scripts
* checking for empty or unneeded directories
* building ‘annmap_1.31.0.tar.gz’