Back to Multiple platform build/check report for BioC 3.12
[A]BCDEFGHIJKLMNOPQRSTUVWXYZ

BUILD BIN report for abseqR on merida1

This page was generated on 2020-09-20 10:22:50 -0400 (Sun, 20 Sep 2020).

TO THE DEVELOPERS/MAINTAINERS OF THE abseqR PACKAGE: Please make sure to use the following settings in order to reproduce any error or warning you see on this page.
Package 9/1912HostnameOS / ArchINSTALLBUILDCHECKBUILD BIN
abseqR 1.7.0
JiaHong Fong
Snapshot Date: 2020-09-19 14:40:23 -0400 (Sat, 19 Sep 2020)
URL: https://git.bioconductor.org/packages/abseqR
Branch: master
Last Commit: 8a4126d
Last Changed Date: 2020-04-27 15:21:22 -0400 (Mon, 27 Apr 2020)
malbec1 Linux (Ubuntu 18.04.4 LTS) / x86_64  OK  OK  OK UNNEEDED, same version exists in internal repository
nebbiolo1 Linux (Ubuntu 20.04.1 LTS) / x86_64  OK  OK  OK 
tokay1 Windows Server 2012 R2 Standard / x64  OK  OK  OK  OK UNNEEDED, same version exists in internal repository
riesling1 Windows Server 2019 Standard / x64  OK  OK  OK  OK 
merida1 macOS 10.14.6 Mojave / x86_64  OK  OK  OK [ OK ]UNNEEDED, same version exists in internal repository

Summary

Package: abseqR
Version: 1.7.0
Command: rm -rf abseqR.buildbin-libdir && mkdir abseqR.buildbin-libdir && /Users/biocbuild/BBS/utils/build-universal.sh abseqR_1.7.0.tar.gz /Library/Frameworks/R.framework/Versions/Current/Resources/bin/R abseqR.buildbin-libdir
StartedAt: 2020-09-20 09:28:40 -0400 (Sun, 20 Sep 2020)
EndedAt: 2020-09-20 09:29:48 -0400 (Sun, 20 Sep 2020)
EllapsedTime: 67.3 seconds
RetCode: 0
Status:  OK 
PackageFile: abseqR_1.7.0.tgz
PackageFileSize: 1.233 MiB

Command output

##############################################################################
##############################################################################
###
### Running command:
###
###   rm -rf abseqR.buildbin-libdir && mkdir abseqR.buildbin-libdir && /Users/biocbuild/BBS/utils/build-universal.sh abseqR_1.7.0.tar.gz /Library/Frameworks/R.framework/Versions/Current/Resources/bin/R abseqR.buildbin-libdir
###
##############################################################################
##############################################################################


>>>>>>> 
>>>>>>> INSTALLATION WITH 'R CMD INSTALL --preclean --no-multiarch --library=abseqR.buildbin-libdir abseqR_1.7.0.tar.gz'
>>>>>>> 

* installing *source* package ‘abseqR’ ...
** using staged installation
** R
** inst
** byte-compile and prepare package for lazy loading
** help
*** installing help indices
*** copying figures
** building package indices
** installing vignettes
** testing if installed package can be loaded from temporary location
** testing if installed package can be loaded from final location
** testing if installed package keeps a record of temporary installation path
* DONE (abseqR)