Back to Multiple platform build/check report for BioC 3.12
A[B]CDEFGHIJKLMNOPQRSTUVWXYZ

BUILD BIN report for BiGGR on tokay1

This page was generated on 2020-08-07 12:02:51 -0400 (Fri, 07 Aug 2020).

TO THE DEVELOPERS/MAINTAINERS OF THE BiGGR PACKAGE: Please make sure to use the following settings in order to reproduce any error or warning you see on this page.
Package 139/1882HostnameOS / ArchINSTALLBUILDCHECKBUILD BIN
BiGGR 1.25.0
Anand K. Gavai
Snapshot Date: 2020-08-06 14:50:46 -0400 (Thu, 06 Aug 2020)
URL: https://git.bioconductor.org/packages/BiGGR
Branch: master
Last Commit: eb731df
Last Changed Date: 2020-04-27 14:36:11 -0400 (Mon, 27 Apr 2020)
malbec1 Linux (Ubuntu 18.04.4 LTS) / x86_64  OK  OK  WARNINGS UNNEEDED, same version exists in internal repository
tokay1 Windows Server 2012 R2 Standard / x64  OK  OK  WARNINGS [ OK ]UNNEEDED, same version exists in internal repository
merida1 macOS 10.14.6 Mojave / x86_64  ERROR  ERROR  skipped  skipped 

Summary

Package: BiGGR
Version: 1.25.0
Command: rm -rf BiGGR.buildbin-libdir && mkdir BiGGR.buildbin-libdir && C:\Users\biocbuild\bbs-3.12-bioc\R\bin\R.exe --arch x64 CMD INSTALL --no-multiarch --build --library=BiGGR.buildbin-libdir BiGGR_1.25.0.tar.gz
StartedAt: 2020-08-07 07:28:51 -0400 (Fri, 07 Aug 2020)
EndedAt: 2020-08-07 07:29:36 -0400 (Fri, 07 Aug 2020)
EllapsedTime: 44.9 seconds
RetCode: 0
Status:  OK  
PackageFile: BiGGR_1.25.0.zip
PackageFileSize: 4.355 MiB

Command output

##############################################################################
##############################################################################
###
### Running command:
###
###   rm -rf BiGGR.buildbin-libdir && mkdir BiGGR.buildbin-libdir && C:\Users\biocbuild\bbs-3.12-bioc\R\bin\R.exe --arch x64 CMD INSTALL --no-multiarch --build --library=BiGGR.buildbin-libdir BiGGR_1.25.0.tar.gz
###
##############################################################################
##############################################################################


* installing *source* package 'BiGGR' ...
** using staged installation
** R
** data
** inst
** byte-compile and prepare package for lazy loading
Warning messages:
1: multiple methods tables found for 'type' 
2: multiple methods tables found for 'type<-' 
** help
*** installing help indices
  converting help for package 'BiGGR'
    finding HTML links ... done
    BiGGR-internal                          html  
    BiGGR-package                           html  
    E.coli_iAF1260                          html  
    E.coli_iJR904                           html  
    E.coli_textbook                         html  
    Glycolysis                              html  
    H.pylori_ilT341                         html  
    H.sapiens_Recon1                        html  
    M.barkeri_iAF692                        html  
    M.tuberculosis_iNJ661                   html  
    P.putida_iJN746                         html  
    Recon2                                  html  
    S.aureus_iSB619                         html  
    S.cerevisiae_iND750                     html  
    buildSBMLFromBiGG                       html  
    buildSBMLFromGenes                      html  
    finding level-2 HTML links ... done

    buildSBMLFromPathways                   html  
    buildSBMLFromReactionIDs                html  
    createLIMFromBiGG                       html  
    createLIMFromSBML                       html  
    extractGeneAssociations                 html  
    extractPathways                         html  
    getPathwaysForSBML                      html  
    getRates                                html  
    gprMapping                              html  
    gprMappingAvg                           html  
    lying.tunell.data                       html  
    rmvSpliceVariant                        html  
    sampleFluxEnsemble                      html  
    sbml2hyperdraw                          html  
** building package indices
** installing vignettes
** testing if installed package can be loaded from temporary location
Warning: multiple methods tables found for 'type'
Warning: multiple methods tables found for 'type<-'
** testing if installed package can be loaded from final location
Warning: multiple methods tables found for 'type'
Warning: multiple methods tables found for 'type<-'
** testing if installed package keeps a record of temporary installation path
* MD5 sums
packaged installation of 'BiGGR' as BiGGR_1.25.0.zip
* DONE (BiGGR)