Back to Multiple platform build/check report for BioC 3.12
A[B]CDEFGHIJKLMNOPQRSTUVWXYZ

CHECK report for BayesKnockdown on tokay1

This page was generated on 2020-08-06 12:03:15 -0400 (Thu, 06 Aug 2020).

TO THE DEVELOPERS/MAINTAINERS OF THE BayesKnockdown PACKAGE: Please make sure to use the following settings in order to reproduce any error or warning you see on this page.
Package 118/1882HostnameOS / ArchINSTALLBUILDCHECKBUILD BIN
BayesKnockdown 1.15.0
William Chad Young
Snapshot Date: 2020-08-05 14:50:59 -0400 (Wed, 05 Aug 2020)
URL: https://git.bioconductor.org/packages/BayesKnockdown
Branch: master
Last Commit: 1ddb444
Last Changed Date: 2020-04-27 15:00:13 -0400 (Mon, 27 Apr 2020)
malbec1 Linux (Ubuntu 18.04.4 LTS) / x86_64  OK  OK  OK UNNEEDED, same version exists in internal repository
tokay1 Windows Server 2012 R2 Standard / x64  OK  OK [ OK ] OK UNNEEDED, same version exists in internal repository
merida1 macOS 10.14.6 Mojave / x86_64  OK  OK  OK  OK UNNEEDED, same version exists in internal repository

Summary

Package: BayesKnockdown
Version: 1.15.0
Command: C:\Users\biocbuild\bbs-3.12-bioc\R\bin\R.exe CMD check --force-multiarch --install=check:BayesKnockdown.install-out.txt --library=C:\Users\biocbuild\bbs-3.12-bioc\R\library --no-vignettes --timings BayesKnockdown_1.15.0.tar.gz
StartedAt: 2020-08-06 03:19:12 -0400 (Thu, 06 Aug 2020)
EndedAt: 2020-08-06 03:19:53 -0400 (Thu, 06 Aug 2020)
EllapsedTime: 40.3 seconds
RetCode: 0
Status:  OK  
CheckDir: BayesKnockdown.Rcheck
Warnings: 0

Command output

##############################################################################
##############################################################################
###
### Running command:
###
###   C:\Users\biocbuild\bbs-3.12-bioc\R\bin\R.exe CMD check --force-multiarch --install=check:BayesKnockdown.install-out.txt --library=C:\Users\biocbuild\bbs-3.12-bioc\R\library --no-vignettes --timings BayesKnockdown_1.15.0.tar.gz
###
##############################################################################
##############################################################################


* using log directory 'C:/Users/biocbuild/bbs-3.12-bioc/meat/BayesKnockdown.Rcheck'
* using R version 4.0.2 (2020-06-22)
* using platform: x86_64-w64-mingw32 (64-bit)
* using session charset: ISO8859-1
* using option '--no-vignettes'
* checking for file 'BayesKnockdown/DESCRIPTION' ... OK
* this is package 'BayesKnockdown' version '1.15.0'
* checking package namespace information ... OK
* checking package dependencies ... OK
* checking if this is a source package ... OK
* checking if there is a namespace ... OK
* checking for hidden files and directories ... OK
* checking for portable file names ... OK
* checking whether package 'BayesKnockdown' can be installed ... OK
* checking installed package size ... OK
* checking package directory ... OK
* checking 'build' directory ... OK
* checking DESCRIPTION meta-information ... OK
* checking top-level files ... OK
* checking for left-over files ... OK
* checking index information ... OK
* checking package subdirectories ... OK
* checking R files for non-ASCII characters ... OK
* checking R files for syntax errors ... OK
* loading checks for arch 'i386'
** checking whether the package can be loaded ... OK
** checking whether the package can be loaded with stated dependencies ... OK
** checking whether the package can be unloaded cleanly ... OK
** checking whether the namespace can be loaded with stated dependencies ... OK
** checking whether the namespace can be unloaded cleanly ... OK
* loading checks for arch 'x64'
** checking whether the package can be loaded ... OK
** checking whether the package can be loaded with stated dependencies ... OK
** checking whether the package can be unloaded cleanly ... OK
** checking whether the namespace can be loaded with stated dependencies ... OK
** checking whether the namespace can be unloaded cleanly ... OK
* checking dependencies in R code ... OK
* checking S3 generic/method consistency ... OK
* checking replacement functions ... OK
* checking foreign function calls ... OK
* checking R code for possible problems ... OK
* checking Rd files ... OK
* checking Rd metadata ... OK
* checking Rd cross-references ... OK
* checking for missing documentation entries ... OK
* checking for code/documentation mismatches ... OK
* checking Rd \usage sections ... OK
* checking Rd contents ... OK
* checking for unstated dependencies in examples ... OK
* checking contents of 'data' directory ... OK
* checking data for non-ASCII characters ... OK
* checking data for ASCII and uncompressed saves ... OK
* checking files in 'vignettes' ... OK
* checking examples ...
** running examples for arch 'i386' ... OK
** running examples for arch 'x64' ... OK
* checking for unstated dependencies in vignettes ... OK
* checking package vignettes in 'inst/doc' ... OK
* checking running R code from vignettes ... SKIPPED
* checking re-building of vignette outputs ... SKIPPED
* checking PDF version of manual ... OK
* DONE

Status: OK


Installation output

BayesKnockdown.Rcheck/00install.out

##############################################################################
##############################################################################
###
### Running command:
###
###   C:\cygwin\bin\curl.exe -O https://malbec1.bioconductor.org/BBS/3.12/bioc/src/contrib/BayesKnockdown_1.15.0.tar.gz && rm -rf BayesKnockdown.buildbin-libdir && mkdir BayesKnockdown.buildbin-libdir && C:\Users\biocbuild\bbs-3.12-bioc\R\bin\R.exe CMD INSTALL --merge-multiarch --build --library=BayesKnockdown.buildbin-libdir BayesKnockdown_1.15.0.tar.gz && C:\Users\biocbuild\bbs-3.12-bioc\R\bin\R.exe CMD INSTALL BayesKnockdown_1.15.0.zip && rm BayesKnockdown_1.15.0.tar.gz BayesKnockdown_1.15.0.zip
###
##############################################################################
##############################################################################


  % Total    % Received % Xferd  Average Speed   Time    Time     Time  Current
                                 Dload  Upload   Total   Spent    Left  Speed

  0     0    0     0    0     0      0      0 --:--:-- --:--:-- --:--:--     0
100 12878  100 12878    0     0   314k      0 --:--:-- --:--:-- --:--:--  349k

install for i386

* installing *source* package 'BayesKnockdown' ...
** using staged installation
** R
** data
*** moving datasets to lazyload DB
** byte-compile and prepare package for lazy loading
** help
*** installing help indices
  converting help for package 'BayesKnockdown'
    finding HTML links ... done
    BayesKnockdown                          html  
    BayesKnockdown.diffExp                  html  
    BayesKnockdown.es                       html  
    lincs.kd                                html  
** building package indices
** installing vignettes
** testing if installed package can be loaded from temporary location
** testing if installed package can be loaded from final location
** testing if installed package keeps a record of temporary installation path

install for x64

* installing *source* package 'BayesKnockdown' ...
** testing if installed package can be loaded
* MD5 sums
packaged installation of 'BayesKnockdown' as BayesKnockdown_1.15.0.zip
* DONE (BayesKnockdown)
* installing to library 'C:/Users/biocbuild/bbs-3.12-bioc/R/library'
package 'BayesKnockdown' successfully unpacked and MD5 sums checked

Tests output


Example timings

BayesKnockdown.Rcheck/examples_i386/BayesKnockdown-Ex.timings

nameusersystemelapsed
BayesKnockdown000
BayesKnockdown.diffExp000
BayesKnockdown.es0.100.020.11
lincs.kd000

BayesKnockdown.Rcheck/examples_x64/BayesKnockdown-Ex.timings

nameusersystemelapsed
BayesKnockdown000
BayesKnockdown.diffExp000
BayesKnockdown.es0.090.020.11
lincs.kd000