Back to Multiple platform build/check report for BioC 3.12
ABCDEFGHIJKLMNO[P]QRSTUVWXYZ

BUILD BIN report for Prize on merida1

This page was generated on 2021-01-19 11:58:09 -0500 (Tue, 19 Jan 2021).

TO THE DEVELOPERS/MAINTAINERS OF THE Prize PACKAGE: Please make sure to use the following settings in order to reproduce any error or warning you see on this page.
Package 1385/1974HostnameOS / ArchINSTALLBUILDCHECKBUILD BIN
Prize 1.20.0
Daryanaz Dargahi
Snapshot Date: 2021-01-18 14:42:24 -0500 (Mon, 18 Jan 2021)
URL: https://git.bioconductor.org/packages/Prize
Branch: RELEASE_3_12
Last Commit: 278a85d
Last Changed Date: 2020-10-27 11:06:15 -0500 (Tue, 27 Oct 2020)
malbec1 Linux (Ubuntu 18.04.5 LTS) / x86_64  OK  OK  ERROR 
nebbiolo1 Linux (Ubuntu 20.04.1 LTS) / x86_64  OK  OK  ERROR 
tokay1 Windows Server 2012 R2 Standard / x64  OK  OK  ERROR  OK 
merida1 macOS 10.14.6 Mojave / x86_64  OK  OK  ERROR [ OK ]

Summary

Package: Prize
Version: 1.20.0
Command: rm -rf Prize.buildbin-libdir && mkdir Prize.buildbin-libdir && /Users/biocbuild/BBS/utils/build-universal.sh Prize_1.20.0.tar.gz /Library/Frameworks/R.framework/Versions/Current/Resources/bin/R Prize.buildbin-libdir
StartedAt: 2021-01-19 09:44:32 -0500 (Tue, 19 Jan 2021)
EndedAt: 2021-01-19 09:45:47 -0500 (Tue, 19 Jan 2021)
EllapsedTime: 74.8 seconds
RetCode: 0
Status:  OK 
PackageFile: Prize_1.20.0.tgz
PackageFileSize: 463.3 KiB

Command output

##############################################################################
##############################################################################
###
### Running command:
###
###   rm -rf Prize.buildbin-libdir && mkdir Prize.buildbin-libdir && /Users/biocbuild/BBS/utils/build-universal.sh Prize_1.20.0.tar.gz /Library/Frameworks/R.framework/Versions/Current/Resources/bin/R Prize.buildbin-libdir
###
##############################################################################
##############################################################################


>>>>>>> 
>>>>>>> INSTALLATION WITH 'R CMD INSTALL --preclean --no-multiarch --library=Prize.buildbin-libdir Prize_1.20.0.tar.gz'
>>>>>>> 

* installing *source* package ‘Prize’ ...
** using staged installation
** R
** inst
** byte-compile and prepare package for lazy loading
** help
*** installing help indices
** building package indices
** installing vignettes
** testing if installed package can be loaded from temporary location
Warning: Package 'Prize' is deprecated and will be removed from Bioconductor
  version 3.13
** testing if installed package can be loaded from final location
Warning: Package 'Prize' is deprecated and will be removed from Bioconductor
  version 3.13
** testing if installed package keeps a record of temporary installation path
* DONE (Prize)