Back to Multiple platform build/check report for BioC 3.12
AB[C]DEFGHIJKLMNOPQRSTUVWXYZ

BUILD BIN report for CexoR on tokay1

This page was generated on 2020-09-20 10:15:43 -0400 (Sun, 20 Sep 2020).

TO THE DEVELOPERS/MAINTAINERS OF THE CexoR PACKAGE: Please make sure to use the following settings in order to reproduce any error or warning you see on this page.
Package 255/1912HostnameOS / ArchINSTALLBUILDCHECKBUILD BIN
CexoR 1.27.1
Pedro Madrigal
Snapshot Date: 2020-09-19 14:40:23 -0400 (Sat, 19 Sep 2020)
URL: https://git.bioconductor.org/packages/CexoR
Branch: master
Last Commit: a9b251d
Last Changed Date: 2020-06-30 07:24:53 -0400 (Tue, 30 Jun 2020)
malbec1 Linux (Ubuntu 18.04.4 LTS) / x86_64  OK  OK  OK UNNEEDED, same version exists in internal repository
nebbiolo1 Linux (Ubuntu 20.04.1 LTS) / x86_64  OK  OK  OK 
tokay1 Windows Server 2012 R2 Standard / x64  OK  OK  OK [ OK ]UNNEEDED, same version exists in internal repository
riesling1 Windows Server 2019 Standard / x64  OK  OK  OK  OK 
merida1 macOS 10.14.6 Mojave / x86_64  OK  OK  OK  OK UNNEEDED, same version exists in internal repository

Summary

Package: CexoR
Version: 1.27.1
Command: rm -rf CexoR.buildbin-libdir && mkdir CexoR.buildbin-libdir && C:\Users\biocbuild\bbs-3.12-bioc\R\bin\R.exe CMD INSTALL --merge-multiarch --build --library=CexoR.buildbin-libdir CexoR_1.27.1.tar.gz
StartedAt: 2020-09-20 08:10:56 -0400 (Sun, 20 Sep 2020)
EndedAt: 2020-09-20 08:11:43 -0400 (Sun, 20 Sep 2020)
EllapsedTime: 47.2 seconds
RetCode: 0
Status:  OK  
PackageFile: CexoR_1.27.1.zip
PackageFileSize: 1.694 MiB

Command output

##############################################################################
##############################################################################
###
### Running command:
###
###   rm -rf CexoR.buildbin-libdir && mkdir CexoR.buildbin-libdir && C:\Users\biocbuild\bbs-3.12-bioc\R\bin\R.exe CMD INSTALL --merge-multiarch --build --library=CexoR.buildbin-libdir CexoR_1.27.1.tar.gz
###
##############################################################################
##############################################################################



install for i386

* installing *source* package 'CexoR' ...
** using staged installation
** R
** inst
** byte-compile and prepare package for lazy loading
** help
*** installing help indices
  converting help for package 'CexoR'
    finding HTML links ... done
    CexoR-internal                          html  
    CexoR-package                           html  
    cexor                                   html  
    plotcexor                               html  
** building package indices
** installing vignettes
** testing if installed package can be loaded from temporary location
** testing if installed package can be loaded from final location
** testing if installed package keeps a record of temporary installation path

install for x64

* installing *source* package 'CexoR' ...
** testing if installed package can be loaded
* MD5 sums
packaged installation of 'CexoR' as CexoR_1.27.1.zip
* DONE (CexoR)