Back to Multiple platform build/check report for BioC 3.12
AB[C]DEFGHIJKLMNOPQRSTUVWXYZ

BUILD report for ccrepe on malbec1

This page was generated on 2021-04-17 12:06:30 -0400 (Sat, 17 Apr 2021).

To the developers/maintainers of the ccrepe package:
Please make sure to use the following settings in order to reproduce any error or warning you see on this page.
Package 246/1974HostnameOS / ArchINSTALLBUILDCHECKBUILD BIN
ccrepe 1.26.0  (landing page)
Emma Schwager ,Craig Bielski, George Weingart
Snapshot Date: 2021-04-16 14:50:12 -0400 (Fri, 16 Apr 2021)
URL: https://git.bioconductor.org/packages/ccrepe
Branch: RELEASE_3_12
Last Commit: 718ab4b
Last Changed Date: 2020-10-27 10:54:07 -0400 (Tue, 27 Oct 2020)
malbec1Linux (Ubuntu 18.04.5 LTS) / x86_64  OK    OK    OK  UNNEEDED, same version exists in internal repository
tokay1Windows Server 2012 R2 Standard / x64  OK    OK    OK    OK  UNNEEDED, same version exists in internal repository
merida1macOS 10.14.6 Mojave / x86_64  OK    OK    OK    OK  UNNEEDED, same version exists in internal repository

Summary

Package: ccrepe
Version: 1.26.0
Command: /home/biocbuild/bbs-3.12-bioc/R/bin/R CMD build --keep-empty-dirs --no-resave-data ccrepe
StartedAt: 2021-04-16 18:03:15 -0400 (Fri, 16 Apr 2021)
EndedAt: 2021-04-16 18:03:28 -0400 (Fri, 16 Apr 2021)
EllapsedTime: 12.8 seconds
RetCode: 0
Status:   OK  
PackageFile: ccrepe_1.26.0.tar.gz
PackageFileSize: 293.1 KiB

Command output

##############################################################################
##############################################################################
###
### Running command:
###
###   /home/biocbuild/bbs-3.12-bioc/R/bin/R CMD build --keep-empty-dirs --no-resave-data ccrepe
###
##############################################################################
##############################################################################


* checking for file ‘ccrepe/DESCRIPTION’ ... OK
* preparing ‘ccrepe’:
* checking DESCRIPTION meta-information ... OK
* installing the package to build vignettes
* creating vignettes ... OK
* checking for LF line-endings in source and make files and shell scripts
* checking for empty or unneeded directories
* building ‘ccrepe_1.26.0.tar.gz’