Back to Multiple platform build/check report for BioC 3.12 |
|
This page was generated on 2021-01-25 11:55:45 -0500 (Mon, 25 Jan 2021).
TO THE DEVELOPERS/MAINTAINERS OF THE geneClassifiers PACKAGE: Please make sure to use the following settings in order to reproduce any error or warning you see on this page. |
Package 685/1974 | Hostname | OS / Arch | INSTALL | BUILD | CHECK | BUILD BIN | ||||||
geneClassifiers 1.14.0 R Kuiper
| malbec1 | Linux (Ubuntu 18.04.5 LTS) / x86_64 | OK | OK | OK | ![]() | ||||||
nebbiolo1 | Linux (Ubuntu 20.04.1 LTS) / x86_64 | OK | OK | OK | ||||||||
tokay1 | Windows Server 2012 R2 Standard / x64 | OK | OK | OK | OK | ![]() | ||||||
merida1 | macOS 10.14.6 Mojave / x86_64 | OK | OK | OK | [ OK ] | ![]() |
Package: geneClassifiers |
Version: 1.14.0 |
Command: rm -rf geneClassifiers.buildbin-libdir && mkdir geneClassifiers.buildbin-libdir && /Users/biocbuild/BBS/utils/build-universal.sh geneClassifiers_1.14.0.tar.gz /Library/Frameworks/R.framework/Versions/Current/Resources/bin/R geneClassifiers.buildbin-libdir |
StartedAt: 2021-01-25 07:53:33 -0500 (Mon, 25 Jan 2021) |
EndedAt: 2021-01-25 07:55:38 -0500 (Mon, 25 Jan 2021) |
EllapsedTime: 125.0 seconds |
RetCode: 0 |
Status: OK |
PackageFile: geneClassifiers_1.14.0.tgz |
PackageFileSize: 1.792 MiB |
############################################################################## ############################################################################## ### ### Running command: ### ### rm -rf geneClassifiers.buildbin-libdir && mkdir geneClassifiers.buildbin-libdir && /Users/biocbuild/BBS/utils/build-universal.sh geneClassifiers_1.14.0.tar.gz /Library/Frameworks/R.framework/Versions/Current/Resources/bin/R geneClassifiers.buildbin-libdir ### ############################################################################## ############################################################################## >>>>>>> >>>>>>> INSTALLATION WITH 'R CMD INSTALL --preclean --no-multiarch --library=geneClassifiers.buildbin-libdir geneClassifiers_1.14.0.tar.gz' >>>>>>> * installing *source* package ‘geneClassifiers’ ... ** using staged installation ** R ** data *** moving datasets to lazyload DB ** inst ** byte-compile and prepare package for lazy loading ** help *** installing help indices ** building package indices ** installing vignettes ** testing if installed package can be loaded from temporary location ** testing if installed package can be loaded from final location ** testing if installed package keeps a record of temporary installation path * DONE (geneClassifiers)