Back to Multiple platform build/check report for BioC 3.12
AB[C]DEFGHIJKLMNOPQRSTUVWXYZ

BUILD report for Cardinal on malbec1

This page was generated on 2020-08-10 11:40:04 -0400 (Mon, 10 Aug 2020).

TO THE DEVELOPERS/MAINTAINERS OF THE Cardinal PACKAGE: Please make sure to use the following settings in order to reproduce any error or warning you see on this page.
Package 224/1882HostnameOS / ArchINSTALLBUILDCHECKBUILD BIN
Cardinal 2.7.1
Kylie A. Bemis
Snapshot Date: 2020-08-09 14:51:29 -0400 (Sun, 09 Aug 2020)
URL: https://git.bioconductor.org/packages/Cardinal
Branch: master
Last Commit: 8fcee13
Last Changed Date: 2020-05-02 02:24:20 -0400 (Sat, 02 May 2020)
malbec1 Linux (Ubuntu 18.04.4 LTS) / x86_64  ERROR [ ERROR ] skipped 
nebbiolo1 Linux (Ubuntu 20.04.1 LTS) / x86_64  ERROR  ERROR  skipped 
tokay1 Windows Server 2012 R2 Standard / x64  ERROR  ERROR  skipped  skipped 
merida1 macOS 10.14.6 Mojave / x86_64  ERROR  ERROR  skipped  skipped 

Summary

Package: Cardinal
Version: 2.7.1
Command: /home/biocbuild/bbs-3.12-bioc/R/bin/R CMD build --keep-empty-dirs --no-resave-data Cardinal
StartedAt: 2020-08-09 19:13:15 -0400 (Sun, 09 Aug 2020)
EndedAt: 2020-08-09 19:13:17 -0400 (Sun, 09 Aug 2020)
EllapsedTime: 2.0 seconds
RetCode: 1
Status:  ERROR 
PackageFile: None
PackageFileSize: NA

Command output

##############################################################################
##############################################################################
###
### Running command:
###
###   /home/biocbuild/bbs-3.12-bioc/R/bin/R CMD build --keep-empty-dirs --no-resave-data Cardinal
###
##############################################################################
##############################################################################


* checking for file ‘Cardinal/DESCRIPTION’ ... OK
* preparing ‘Cardinal’:
* checking DESCRIPTION meta-information ... OK
* cleaning src
* installing the package to build vignettes
      -----------------------------------
ERROR: dependency ‘matter’ is not available for package ‘Cardinal’
* removing ‘/tmp/Rtmputq828/Rinst5a42b793d8b/Cardinal’
      -----------------------------------
ERROR: package installation failed