Back to Multiple platform build/check report for BioC 3.12
[A]BCDEFGHIJKLMNOPQRSTUVWXYZ

BUILD report for AnnotationHubData on tokay1

This page was generated on 2020-08-07 12:07:34 -0400 (Fri, 07 Aug 2020).

TO THE DEVELOPERS/MAINTAINERS OF THE AnnotationHubData PACKAGE: Please make sure to use the following settings in order to reproduce any error or warning you see on this page.
Package 63/1882HostnameOS / ArchINSTALLBUILDCHECKBUILD BIN
AnnotationHubData 1.19.3
Bioconductor Package Maintainer
Snapshot Date: 2020-08-06 14:50:46 -0400 (Thu, 06 Aug 2020)
URL: https://git.bioconductor.org/packages/AnnotationHubData
Branch: master
Last Commit: 3171efd
Last Changed Date: 2020-08-03 10:35:56 -0400 (Mon, 03 Aug 2020)
malbec1 Linux (Ubuntu 18.04.4 LTS) / x86_64  OK  OK  WARNINGS UNNEEDED, same version exists in internal repository
tokay1 Windows Server 2012 R2 Standard / x64  OK [ OK ] WARNINGS  OK UNNEEDED, same version exists in internal repository
merida1 macOS 10.14.6 Mojave / x86_64  OK  OK  WARNINGS  OK UNNEEDED, same version exists in internal repository

Summary

Package: AnnotationHubData
Version: 1.19.3
Command: chmod a+r AnnotationHubData -R && C:\Users\biocbuild\bbs-3.12-bioc\R\bin\R.exe CMD build --keep-empty-dirs --no-resave-data AnnotationHubData
StartedAt: 2020-08-06 20:49:45 -0400 (Thu, 06 Aug 2020)
EndedAt: 2020-08-06 20:50:39 -0400 (Thu, 06 Aug 2020)
EllapsedTime: 54.6 seconds
RetCode: 0
Status:  OK  
PackageFile: AnnotationHubData_1.19.3.tar.gz
PackageFileSize: 633 KiB

Command output

##############################################################################
##############################################################################
###
### Running command:
###
###   chmod a+r AnnotationHubData -R && C:\Users\biocbuild\bbs-3.12-bioc\R\bin\R.exe CMD build --keep-empty-dirs --no-resave-data AnnotationHubData
###
##############################################################################
##############################################################################


* checking for file 'AnnotationHubData/DESCRIPTION' ... OK
* preparing 'AnnotationHubData':
* checking DESCRIPTION meta-information ... OK
* installing the package to build vignettes
* creating vignettes ... OK
* checking for LF line-endings in source and make files and shell scripts
* checking for empty or unneeded directories
* building 'AnnotationHubData_1.19.3.tar.gz'