Back to Multiple platform build/check report for BioC 3.12
ABCDE[F]GHIJKLMNOPQRSTUVWXYZ

INSTALL report for FlowRepositoryR on tokay1

This page was generated on 2021-02-22 12:38:12 -0500 (Mon, 22 Feb 2021).

To the developers/maintainers of the FlowRepositoryR package:
Please make sure to use the following settings in order to reproduce any error or warning you see on this page.
Package 630/1974HostnameOS / ArchINSTALLBUILDCHECKBUILD BIN
FlowRepositoryR 1.22.0
Josef Spidlen
Snapshot Date: 2021-02-21 14:52:07 -0500 (Sun, 21 Feb 2021)
URL: https://git.bioconductor.org/packages/FlowRepositoryR
Branch: RELEASE_3_12
Last Commit: be013a0
Last Changed Date: 2020-10-27 11:04:58 -0500 (Tue, 27 Oct 2020)
malbec1Linux (Ubuntu 18.04.5 LTS) / x86_64  OK    OK    ERROR  
nebbiolo1Linux (Ubuntu 20.04.2 LTS) / x86_64  OK    OK    OK  
tokay1Windows Server 2012 R2 Standard / x64  OK    OK    OK    OK  UNNEEDED, same version exists in internal repository
merida1macOS 10.14.6 Mojave / x86_64  OK    OK    OK    OK  UNNEEDED, same version exists in internal repository

Summary

Package: FlowRepositoryR
Version: 1.22.0
Command: C:\cygwin\bin\curl.exe -O https://malbec1.bioconductor.org/BBS/3.12/bioc/src/contrib/FlowRepositoryR_1.22.0.tar.gz && rm -rf FlowRepositoryR.buildbin-libdir && mkdir FlowRepositoryR.buildbin-libdir && C:\Users\biocbuild\bbs-3.12-bioc\R\bin\R.exe CMD INSTALL --merge-multiarch --build --library=FlowRepositoryR.buildbin-libdir FlowRepositoryR_1.22.0.tar.gz && C:\Users\biocbuild\bbs-3.12-bioc\R\bin\R.exe CMD INSTALL FlowRepositoryR_1.22.0.zip && rm FlowRepositoryR_1.22.0.tar.gz FlowRepositoryR_1.22.0.zip
StartedAt: 2021-02-21 16:51:20 -0500 (Sun, 21 Feb 2021)
EndedAt: 2021-02-21 16:52:02 -0500 (Sun, 21 Feb 2021)
EllapsedTime: 41.6 seconds
RetCode: 0
Status:   OK   

Command output

##############################################################################
##############################################################################
###
### Running command:
###
###   C:\cygwin\bin\curl.exe -O https://malbec1.bioconductor.org/BBS/3.12/bioc/src/contrib/FlowRepositoryR_1.22.0.tar.gz && rm -rf FlowRepositoryR.buildbin-libdir && mkdir FlowRepositoryR.buildbin-libdir && C:\Users\biocbuild\bbs-3.12-bioc\R\bin\R.exe CMD INSTALL --merge-multiarch --build --library=FlowRepositoryR.buildbin-libdir FlowRepositoryR_1.22.0.tar.gz && C:\Users\biocbuild\bbs-3.12-bioc\R\bin\R.exe CMD INSTALL FlowRepositoryR_1.22.0.zip && rm FlowRepositoryR_1.22.0.tar.gz FlowRepositoryR_1.22.0.zip
###
##############################################################################
##############################################################################


  % Total    % Received % Xferd  Average Speed   Time    Time     Time  Current
                                 Dload  Upload   Total   Spent    Left  Speed

  0     0    0     0    0     0      0      0 --:--:-- --:--:-- --:--:--     0
100   98k  100   98k    0     0  2385k      0 --:--:-- --:--:-- --:--:-- 2601k

install for i386

* installing *source* package 'FlowRepositoryR' ...
** using staged installation
** R
** inst
** byte-compile and prepare package for lazy loading
** help
*** installing help indices
  converting help for package 'FlowRepositoryR'
    finding HTML links ... done
    FlowRepositoryR-package                 html  
    attachmentProxy-class                   html  
    download-methods                        html  
    fcsProxy-class                          html  
    fileProxy-class                         html  
    flowRep.get                             html  
    flowRep.ls                              html  
    flowRep.search                          html  
    flowRep.submitGeneStatus                html  
    flowRep.submitImpcResults               html  
    flowRepData-class                       html  
    flowRepOrganization-class               html  
    forgetFlowRepositoryCredentials         html  
    getFlowRepositoryURL                    html  
    id-methods                              html  
    ilarCodeDescription                     html  
    impcCodeDescription                     html  
    impcResultsCopy-methods                 html  
    is.downloaded-methods                   html  
    listKnownIlarCodes                      html  
    setFlowRepositoryCredentials            html  
    setFlowRepositoryURL                    html  
** building package indices
** installing vignettes
** testing if installed package can be loaded from temporary location
** testing if installed package can be loaded from final location
** testing if installed package keeps a record of temporary installation path

install for x64

* installing *source* package 'FlowRepositoryR' ...
** testing if installed package can be loaded
* MD5 sums
packaged installation of 'FlowRepositoryR' as FlowRepositoryR_1.22.0.zip
* DONE (FlowRepositoryR)
* installing to library 'C:/Users/biocbuild/bbs-3.12-bioc/R/library'
package 'FlowRepositoryR' successfully unpacked and MD5 sums checked