Back to Multiple platform build/check report for BioC 3.12
ABCDEFGHIJKLMNOPQR[S]TUVWXYZ

INSTALL report for snapCGH on malbec1

This page was generated on 2021-02-22 12:32:29 -0500 (Mon, 22 Feb 2021).

To the developers/maintainers of the snapCGH package:
Please make sure to use the following settings in order to reproduce any error or warning you see on this page.
Package 1741/1974HostnameOS / ArchINSTALLBUILDCHECKBUILD BIN
snapCGH 1.60.0
John Marioni
Snapshot Date: 2021-02-21 14:52:07 -0500 (Sun, 21 Feb 2021)
URL: https://git.bioconductor.org/packages/snapCGH
Branch: RELEASE_3_12
Last Commit: 03e3471
Last Changed Date: 2020-10-27 10:27:53 -0500 (Tue, 27 Oct 2020)
malbec1Linux (Ubuntu 18.04.5 LTS) / x86_64  OK    OK    OK  UNNEEDED, same version exists in internal repository
nebbiolo1Linux (Ubuntu 20.04.2 LTS) / x86_64  OK    OK    OK  
tokay1Windows Server 2012 R2 Standard / x64  OK    OK    OK    OK  UNNEEDED, same version exists in internal repository
merida1macOS 10.14.6 Mojave / x86_64  OK    OK    OK    OK  UNNEEDED, same version exists in internal repository

Summary

Package: snapCGH
Version: 1.60.0
Command: /home/biocbuild/bbs-3.12-bioc/R/bin/R CMD INSTALL snapCGH
StartedAt: 2021-02-21 16:56:50 -0500 (Sun, 21 Feb 2021)
EndedAt: 2021-02-21 16:57:15 -0500 (Sun, 21 Feb 2021)
EllapsedTime: 25.2 seconds
RetCode: 0
Status:   OK  

Command output

##############################################################################
##############################################################################
###
### Running command:
###
###   /home/biocbuild/bbs-3.12-bioc/R/bin/R CMD INSTALL snapCGH
###
##############################################################################
##############################################################################


* installing to library ‘/home/biocbuild/bbs-3.12-bioc/R/library’
* installing *source* package ‘snapCGH’ ...
** using staged installation
** libs
gcc -I"/home/biocbuild/bbs-3.12-bioc/R/include" -DNDEBUG   -I/usr/local/include   -fpic  -g -O2  -Wall -c optimizer.c -o optimizer.o
optimizer.c: In function ‘fr_two’:
optimizer.c:26:30: warning: unused variable ‘temp3’ [-Wunused-variable]
   double denom, temp, temp2, temp3;
                              ^~~~~
optimizer.c:26:23: warning: unused variable ‘temp2’ [-Wunused-variable]
   double denom, temp, temp2, temp3;
                       ^~~~~
optimizer.c:26:10: warning: unused variable ‘denom’ [-Wunused-variable]
   double denom, temp, temp2, temp3;
          ^~~~~
optimizer.c: In function ‘fr_three’:
optimizer.c:195:30: warning: unused variable ‘temp3’ [-Wunused-variable]
   double denom, temp, temp2, temp3;
                              ^~~~~
optimizer.c:195:23: warning: unused variable ‘temp2’ [-Wunused-variable]
   double denom, temp, temp2, temp3;
                       ^~~~~
optimizer.c:195:10: warning: unused variable ‘denom’ [-Wunused-variable]
   double denom, temp, temp2, temp3;
          ^~~~~
optimizer.c:194:69: warning: unused variable ‘alphahat’ [-Wunused-variable]
   double gammaA[3][3], gammaB[3][3], gammaC[3][3], alpha[3][nrow1], alphahat[3][nrow1], emis_prob[3][nrow1];
                                                                     ^~~~~~~~
optimizer.c: In function ‘fr_four’:
optimizer.c:413:30: warning: unused variable ‘temp3’ [-Wunused-variable]
   double denom, temp, temp2, temp3;
                              ^~~~~
optimizer.c:413:23: warning: unused variable ‘temp2’ [-Wunused-variable]
   double denom, temp, temp2, temp3;
                       ^~~~~
optimizer.c:413:10: warning: unused variable ‘denom’ [-Wunused-variable]
   double denom, temp, temp2, temp3;
          ^~~~~
optimizer.c:412:69: warning: unused variable ‘alphahat’ [-Wunused-variable]
   double gammaA[4][4], gammaB[4][4], gammaC[4][4], alpha[4][nrow1], alphahat[4][nrow1], emis_prob[4][nrow1];
                                                                     ^~~~~~~~
optimizer.c: In function ‘fr_five’:
optimizer.c:687:30: warning: unused variable ‘temp3’ [-Wunused-variable]
   double denom, temp, temp2, temp3;
                              ^~~~~
optimizer.c:687:23: warning: unused variable ‘temp2’ [-Wunused-variable]
   double denom, temp, temp2, temp3;
                       ^~~~~
optimizer.c:687:10: warning: unused variable ‘denom’ [-Wunused-variable]
   double denom, temp, temp2, temp3;
          ^~~~~
optimizer.c:686:69: warning: unused variable ‘alphahat’ [-Wunused-variable]
   double gammaA[5][5], gammaB[5][5], gammaC[5][5], alpha[5][nrow1], alphahat[5][nrow1], emis_prob[5][nrow1];
                                                                     ^~~~~~~~
gcc -shared -L/home/biocbuild/bbs-3.12-bioc/R/lib -L/usr/local/lib -o snapCGH.so optimizer.o -L/home/biocbuild/bbs-3.12-bioc/R/lib -lR
installing to /home/biocbuild/bbs-3.12-bioc/R/library/00LOCK-snapCGH/00new/snapCGH/libs
** R
** inst
** byte-compile and prepare package for lazy loading
** help
*** installing help indices
** building package indices
** installing vignettes
** testing if installed package can be loaded from temporary location
** checking absolute paths in shared objects and dynamic libraries
** testing if installed package can be loaded from final location
** testing if installed package keeps a record of temporary installation path
* DONE (snapCGH)