Back to Multiple platform build/check report for BioC 3.12
AB[C]DEFGHIJKLMNOPQRSTUVWXYZ

BUILD BIN report for Chicago on tokay1

This page was generated on 2020-08-11 11:42:58 -0400 (Tue, 11 Aug 2020).

TO THE DEVELOPERS/MAINTAINERS OF THE Chicago PACKAGE: Please make sure to use the following settings in order to reproduce any error or warning you see on this page.
Package 267/1885HostnameOS / ArchINSTALLBUILDCHECKBUILD BIN
Chicago 1.17.0
Mikhail Spivakov
Snapshot Date: 2020-08-10 14:50:56 -0400 (Mon, 10 Aug 2020)
URL: https://git.bioconductor.org/packages/Chicago
Branch: master
Last Commit: 05d4c19
Last Changed Date: 2020-07-23 06:49:54 -0400 (Thu, 23 Jul 2020)
malbec1 Linux (Ubuntu 18.04.4 LTS) / x86_64  OK  OK  OK UNNEEDED, same version exists in internal repository
nebbiolo1 Linux (Ubuntu 20.04.1 LTS) / x86_64  OK  OK  NA 
tokay1 Windows Server 2012 R2 Standard / x64  OK  OK  OK [ OK ]UNNEEDED, same version exists in internal repository
merida1 macOS 10.14.6 Mojave / x86_64  OK  OK  OK  OK UNNEEDED, same version exists in internal repository

Summary

Package: Chicago
Version: 1.17.0
Command: rm -rf Chicago.buildbin-libdir && mkdir Chicago.buildbin-libdir && C:\Users\biocbuild\bbs-3.12-bioc\R\bin\R.exe CMD INSTALL --merge-multiarch --build --library=Chicago.buildbin-libdir Chicago_1.17.0.tar.gz
StartedAt: 2020-08-11 08:06:12 -0400 (Tue, 11 Aug 2020)
EndedAt: 2020-08-11 08:06:57 -0400 (Tue, 11 Aug 2020)
EllapsedTime: 45.5 seconds
RetCode: 0
Status:  OK  
PackageFile: Chicago_1.17.0.zip
PackageFileSize: 1.034 MiB

Command output

##############################################################################
##############################################################################
###
### Running command:
###
###   rm -rf Chicago.buildbin-libdir && mkdir Chicago.buildbin-libdir && C:\Users\biocbuild\bbs-3.12-bioc\R\bin\R.exe CMD INSTALL --merge-multiarch --build --library=Chicago.buildbin-libdir Chicago_1.17.0.tar.gz
###
##############################################################################
##############################################################################



install for i386

* installing *source* package 'Chicago' ...
** using staged installation
** R
** data
** inst
** byte-compile and prepare package for lazy loading
** help
*** installing help indices
  converting help for package 'Chicago'
    finding HTML links ... done
    Chicago-package                         html  
    cdUnitTest                              html  
    chicagoData                             html  
    chicagoPipeline                         html  
    copyCD                                  html  
    defaultSettings                         html  
    estimateBrownianComponent               html  
    estimateDistFun                         html  
    estimateTechnicalNoise                  html  
    exportResults                           html  
    getPvals                                html  
    getScores                               html  
    getSkOnly                               html  
    mergeSamples                            html  
    modifySettings                          html  
    normaliseBaits                          html  
    normaliseOtherEnds                      html  
    overlapFragWithFeatures                 html  
    finding level-2 HTML links ... done

    peakEnrichment4Features                 html  
    plotBaits                               html  
    plotDistFun                             html  
    readAndMerge                            html  
    readSample                              html  
    setExperiment                           html  
** building package indices
** installing vignettes
** testing if installed package can be loaded from temporary location
** testing if installed package can be loaded from final location
** testing if installed package keeps a record of temporary installation path

install for x64

* installing *source* package 'Chicago' ...
** testing if installed package can be loaded
* MD5 sums
packaged installation of 'Chicago' as Chicago_1.17.0.zip
* DONE (Chicago)