Back to Multiple platform build/check report for BioC 3.12
ABCDEFGHIJKLMNOPQ[R]STUVWXYZ

INSTALL report for rTRM on tokay1

This page was generated on 2021-01-19 11:56:21 -0500 (Tue, 19 Jan 2021).

TO THE DEVELOPERS/MAINTAINERS OF THE rTRM PACKAGE: Please make sure to use the following settings in order to reproduce any error or warning you see on this page.
Package 1600/1974HostnameOS / ArchINSTALLBUILDCHECKBUILD BIN
rTRM 1.28.0
Diego Diez
Snapshot Date: 2021-01-18 14:42:24 -0500 (Mon, 18 Jan 2021)
URL: https://git.bioconductor.org/packages/rTRM
Branch: RELEASE_3_12
Last Commit: 2908ebc
Last Changed Date: 2020-10-27 10:51:24 -0500 (Tue, 27 Oct 2020)
malbec1 Linux (Ubuntu 18.04.5 LTS) / x86_64  OK  OK  OK UNNEEDED, same version exists in internal repository
nebbiolo1 Linux (Ubuntu 20.04.1 LTS) / x86_64  OK  OK  OK 
tokay1 Windows Server 2012 R2 Standard / x64 [ OK ] OK  OK  OK UNNEEDED, same version exists in internal repository
merida1 macOS 10.14.6 Mojave / x86_64  OK  OK  OK  OK UNNEEDED, same version exists in internal repository

Summary

Package: rTRM
Version: 1.28.0
Command: C:\cygwin\bin\curl.exe -O https://malbec1.bioconductor.org/BBS/3.12/bioc/src/contrib/rTRM_1.28.0.tar.gz && rm -rf rTRM.buildbin-libdir && mkdir rTRM.buildbin-libdir && C:\Users\biocbuild\bbs-3.12-bioc\R\bin\R.exe CMD INSTALL --merge-multiarch --build --library=rTRM.buildbin-libdir rTRM_1.28.0.tar.gz && C:\Users\biocbuild\bbs-3.12-bioc\R\bin\R.exe CMD INSTALL rTRM_1.28.0.zip && rm rTRM_1.28.0.tar.gz rTRM_1.28.0.zip
StartedAt: 2021-01-18 17:18:23 -0500 (Mon, 18 Jan 2021)
EndedAt: 2021-01-18 17:19:24 -0500 (Mon, 18 Jan 2021)
EllapsedTime: 60.7 seconds
RetCode: 0
Status:  OK  

Command output

##############################################################################
##############################################################################
###
### Running command:
###
###   C:\cygwin\bin\curl.exe -O https://malbec1.bioconductor.org/BBS/3.12/bioc/src/contrib/rTRM_1.28.0.tar.gz && rm -rf rTRM.buildbin-libdir && mkdir rTRM.buildbin-libdir && C:\Users\biocbuild\bbs-3.12-bioc\R\bin\R.exe CMD INSTALL --merge-multiarch --build --library=rTRM.buildbin-libdir rTRM_1.28.0.tar.gz && C:\Users\biocbuild\bbs-3.12-bioc\R\bin\R.exe CMD INSTALL rTRM_1.28.0.zip && rm rTRM_1.28.0.tar.gz rTRM_1.28.0.zip
###
##############################################################################
##############################################################################


  % Total    % Received % Xferd  Average Speed   Time    Time     Time  Current
                                 Dload  Upload   Total   Spent    Left  Speed

  0     0    0     0    0     0      0      0 --:--:-- --:--:-- --:--:--     0
100 2779k  100 2779k    0     0  38.0M      0 --:--:-- --:--:-- --:--:-- 40.5M

install for i386

* installing *source* package 'rTRM' ...
** using staged installation
** R
** data
** inst
** byte-compile and prepare package for lazy loading
** help
Loading required package: igraph

Attaching package: 'igraph'

The following objects are masked from 'package:stats':

    decompose, spectrum

The following object is masked from 'package:base':

    union

*** installing help indices
  converting help for package 'rTRM'
    finding HTML links ... done
    annotateFreq                            html  
    annotateModule                          html  
    annotateTRM                             html  
    biogrid_hs                              html  
    biogrid_mm                              html  
    findTRM                                 html  
    getAnnotations                          html  
    getBiogridData                          html  
    getConcentricList                       html  
    getLargestComp                          html  
    getMaps                                 html  
    getMatrices                             html  
    getMotifsFromEntrezgene                 html  
    getMotifsFromSymbol                     html  
    getOrthologFromMatrix                   html  
    getOrthologs                            html  
    getOrthologsFromBiomart                 html  
    getSequencesFromGenome                  html  
    getSimilarityMatrix                     html  
    getTFclass                              html  
    getTFclassFromEntrezgene                html  
    getTFterms                              html  
    initBiomart                             html  
    layout.arc                              html  
    layout.concentric                       html  
    plotDegree                              html  
    plotGraph                               html  
    plotTRM                                 html  
    plotTRMlegend                           html  
    processBiogrid                          html  
    rTRM-package                            html  
    removeVertices                          html  
    writeTRMreport                          html  
** building package indices
** installing vignettes
** testing if installed package can be loaded from temporary location
** testing if installed package can be loaded from final location
** testing if installed package keeps a record of temporary installation path

install for x64

* installing *source* package 'rTRM' ...
** testing if installed package can be loaded
* MD5 sums
packaged installation of 'rTRM' as rTRM_1.28.0.zip
* DONE (rTRM)
* installing to library 'C:/Users/biocbuild/bbs-3.12-bioc/R/library'
package 'rTRM' successfully unpacked and MD5 sums checked