Back to Multiple platform build/check report for BioC 3.12
[A]BCDEFGHIJKLMNOPQRSTUVWXYZ

BUILD BIN report for AllelicImbalance on merida1

This page was generated on 2021-04-17 12:10:12 -0400 (Sat, 17 Apr 2021).

To the developers/maintainers of the AllelicImbalance package:
Please make sure to use the following settings in order to reproduce any error or warning you see on this page.
Package 44/1974HostnameOS / ArchINSTALLBUILDCHECKBUILD BIN
AllelicImbalance 1.28.0  (landing page)
Jesper R Gadin
Snapshot Date: 2021-04-16 14:50:12 -0400 (Fri, 16 Apr 2021)
URL: https://git.bioconductor.org/packages/AllelicImbalance
Branch: RELEASE_3_12
Last Commit: ac5d13c
Last Changed Date: 2020-10-27 10:53:07 -0400 (Tue, 27 Oct 2020)
malbec1Linux (Ubuntu 18.04.5 LTS) / x86_64  OK    OK    OK  UNNEEDED, same version exists in internal repository
tokay1Windows Server 2012 R2 Standard / x64  OK    OK    OK    OK  UNNEEDED, same version exists in internal repository
merida1macOS 10.14.6 Mojave / x86_64  OK    OK    OK    OK  UNNEEDED, same version exists in internal repository

Summary

Package: AllelicImbalance
Version: 1.28.0
Command: rm -rf AllelicImbalance.buildbin-libdir && mkdir AllelicImbalance.buildbin-libdir && /Users/biocbuild/BBS/utils/build-universal.sh AllelicImbalance_1.28.0.tar.gz /Library/Frameworks/R.framework/Versions/Current/Resources/bin/R AllelicImbalance.buildbin-libdir
StartedAt: 2021-04-17 06:09:22 -0400 (Sat, 17 Apr 2021)
EndedAt: 2021-04-17 06:10:22 -0400 (Sat, 17 Apr 2021)
EllapsedTime: 60.2 seconds
RetCode: 0
Status:   OK  
PackageFile: AllelicImbalance_1.28.0.tgz
PackageFileSize: 1.228 MiB

Command output

##############################################################################
##############################################################################
###
### Running command:
###
###   rm -rf AllelicImbalance.buildbin-libdir && mkdir AllelicImbalance.buildbin-libdir && /Users/biocbuild/BBS/utils/build-universal.sh AllelicImbalance_1.28.0.tar.gz /Library/Frameworks/R.framework/Versions/Current/Resources/bin/R AllelicImbalance.buildbin-libdir
###
##############################################################################
##############################################################################


>>>>>>> 
>>>>>>> INSTALLATION WITH 'R CMD INSTALL --preclean --no-multiarch --library=AllelicImbalance.buildbin-libdir AllelicImbalance_1.28.0.tar.gz'
>>>>>>> 

* installing *source* package ‘AllelicImbalance’ ...
** using staged installation
** R
** data
*** moving datasets to lazyload DB
** inst
** byte-compile and prepare package for lazy loading
Creating a generic function for 'chisq.test' from package 'stats' in package 'AllelicImbalance'
Creating a generic function for 'binom.test' from package 'stats' in package 'AllelicImbalance'
** help
*** installing help indices
** building package indices
** installing vignettes
** testing if installed package can be loaded from temporary location
** testing if installed package can be loaded from final location
** testing if installed package keeps a record of temporary installation path
* DONE (AllelicImbalance)